BEGIN:VCALENDAR
VERSION:2.0
PRODID:-//Dallas Family Medical &amp; Aesthetics - ECPv6.15.12//NONSGML v1.0//EN
CALSCALE:GREGORIAN
METHOD:PUBLISH
X-ORIGINAL-URL:https://dallasfamilymedical.com
X-WR-CALDESC:Events for Dallas Family Medical &amp; Aesthetics
REFRESH-INTERVAL;VALUE=DURATION:PT1H
X-Robots-Tag:noindex
X-PUBLISHED-TTL:PT1H
BEGIN:VTIMEZONE
TZID:UTC
BEGIN:STANDARD
TZOFFSETFROM:+0000
TZOFFSETTO:+0000
TZNAME:UTC
DTSTART:20280101T000000
END:STANDARD
END:VTIMEZONE
BEGIN:VEVENT
DTSTART;TZID=UTC:20290403T064500
DTEND;TZID=UTC:20290403T160000
DTSTAMP:20260422T220038
CREATED:20251119T044148Z
LAST-MODIFIED:20251119T075856Z
UID:10003838-1869893100-1869926400@dallasfamilymedical.com
SUMMARY:Business Hours
DESCRIPTION:Lunch from Noon to 1:00 PM
URL:https://dallasfamilymedical.com/event/business-hours/2029-04-03/
END:VEVENT
BEGIN:VEVENT
DTSTART;TZID=UTC:20290404T064500
DTEND;TZID=UTC:20290404T160000
DTSTAMP:20260422T220038
CREATED:20251119T044148Z
LAST-MODIFIED:20251119T075856Z
UID:10003839-1869979500-1870012800@dallasfamilymedical.com
SUMMARY:Business Hours
DESCRIPTION:Lunch from Noon to 1:00 PM
URL:https://dallasfamilymedical.com/event/business-hours/2029-04-04/
END:VEVENT
BEGIN:VEVENT
DTSTART;TZID=UTC:20290405T064500
DTEND;TZID=UTC:20290405T160000
DTSTAMP:20260422T220038
CREATED:20251119T044148Z
LAST-MODIFIED:20251119T075856Z
UID:10003840-1870065900-1870099200@dallasfamilymedical.com
SUMMARY:Business Hours
DESCRIPTION:Lunch from Noon to 1:00 PM
URL:https://dallasfamilymedical.com/event/business-hours/2029-04-05/
END:VEVENT
BEGIN:VEVENT
DTSTART;TZID=UTC:20290406T064500
DTEND;TZID=UTC:20290406T120000
DTSTAMP:20260422T220038
CREATED:20251119T072316Z
LAST-MODIFIED:20251119T072316Z
UID:10004356-1870152300-1870171200@dallasfamilymedical.com
SUMMARY:Business Hours Friday
DESCRIPTION:Business Hours Friday
URL:https://dallasfamilymedical.com/event/business-hours-friday/2029-04-06/
END:VEVENT
BEGIN:VEVENT
DTSTART;TZID=UTC:20290409T064500
DTEND;TZID=UTC:20290409T160000
DTSTAMP:20260422T220038
CREATED:20251119T044148Z
LAST-MODIFIED:20251119T075856Z
UID:10003841-1870411500-1870444800@dallasfamilymedical.com
SUMMARY:Business Hours
DESCRIPTION:Lunch from Noon to 1:00 PM
URL:https://dallasfamilymedical.com/event/business-hours/2029-04-09/
END:VEVENT
BEGIN:VEVENT
DTSTART;TZID=UTC:20290410T064500
DTEND;TZID=UTC:20290410T160000
DTSTAMP:20260422T220038
CREATED:20251119T044148Z
LAST-MODIFIED:20251119T075856Z
UID:10003842-1870497900-1870531200@dallasfamilymedical.com
SUMMARY:Business Hours
DESCRIPTION:Lunch from Noon to 1:00 PM
URL:https://dallasfamilymedical.com/event/business-hours/2029-04-10/
END:VEVENT
BEGIN:VEVENT
DTSTART;TZID=UTC:20290411T064500
DTEND;TZID=UTC:20290411T160000
DTSTAMP:20260422T220038
CREATED:20251119T044148Z
LAST-MODIFIED:20251119T075856Z
UID:10003843-1870584300-1870617600@dallasfamilymedical.com
SUMMARY:Business Hours
DESCRIPTION:Lunch from Noon to 1:00 PM
URL:https://dallasfamilymedical.com/event/business-hours/2029-04-11/
END:VEVENT
BEGIN:VEVENT
DTSTART;TZID=UTC:20290412T064500
DTEND;TZID=UTC:20290412T160000
DTSTAMP:20260422T220038
CREATED:20251119T044148Z
LAST-MODIFIED:20251119T075856Z
UID:10003844-1870670700-1870704000@dallasfamilymedical.com
SUMMARY:Business Hours
DESCRIPTION:Lunch from Noon to 1:00 PM
URL:https://dallasfamilymedical.com/event/business-hours/2029-04-12/
END:VEVENT
BEGIN:VEVENT
DTSTART;TZID=UTC:20290413T064500
DTEND;TZID=UTC:20290413T120000
DTSTAMP:20260422T220038
CREATED:20251119T072316Z
LAST-MODIFIED:20251119T072316Z
UID:10004357-1870757100-1870776000@dallasfamilymedical.com
SUMMARY:Business Hours Friday
DESCRIPTION:Business Hours Friday
URL:https://dallasfamilymedical.com/event/business-hours-friday/2029-04-13/
END:VEVENT
BEGIN:VEVENT
DTSTART;TZID=UTC:20290416T064500
DTEND;TZID=UTC:20290416T160000
DTSTAMP:20260422T220038
CREATED:20251119T044148Z
LAST-MODIFIED:20251119T075856Z
UID:10003845-1871016300-1871049600@dallasfamilymedical.com
SUMMARY:Business Hours
DESCRIPTION:Lunch from Noon to 1:00 PM
URL:https://dallasfamilymedical.com/event/business-hours/2029-04-16/
END:VEVENT
BEGIN:VEVENT
DTSTART;TZID=UTC:20290417T064500
DTEND;TZID=UTC:20290417T160000
DTSTAMP:20260422T220038
CREATED:20251119T044148Z
LAST-MODIFIED:20251119T075856Z
UID:10003846-1871102700-1871136000@dallasfamilymedical.com
SUMMARY:Business Hours
DESCRIPTION:Lunch from Noon to 1:00 PM
URL:https://dallasfamilymedical.com/event/business-hours/2029-04-17/
END:VEVENT
BEGIN:VEVENT
DTSTART;TZID=UTC:20290418T064500
DTEND;TZID=UTC:20290418T160000
DTSTAMP:20260422T220038
CREATED:20251119T044148Z
LAST-MODIFIED:20251119T075856Z
UID:10003847-1871189100-1871222400@dallasfamilymedical.com
SUMMARY:Business Hours
DESCRIPTION:Lunch from Noon to 1:00 PM
URL:https://dallasfamilymedical.com/event/business-hours/2029-04-18/
END:VEVENT
BEGIN:VEVENT
DTSTART;TZID=UTC:20290419T064500
DTEND;TZID=UTC:20290419T160000
DTSTAMP:20260422T220038
CREATED:20251119T044148Z
LAST-MODIFIED:20251119T075856Z
UID:10003848-1871275500-1871308800@dallasfamilymedical.com
SUMMARY:Business Hours
DESCRIPTION:Lunch from Noon to 1:00 PM
URL:https://dallasfamilymedical.com/event/business-hours/2029-04-19/
END:VEVENT
BEGIN:VEVENT
DTSTART;TZID=UTC:20290420T064500
DTEND;TZID=UTC:20290420T120000
DTSTAMP:20260422T220038
CREATED:20251119T072316Z
LAST-MODIFIED:20251119T072316Z
UID:10004358-1871361900-1871380800@dallasfamilymedical.com
SUMMARY:Business Hours Friday
DESCRIPTION:Business Hours Friday
URL:https://dallasfamilymedical.com/event/business-hours-friday/2029-04-20/
END:VEVENT
BEGIN:VEVENT
DTSTART;TZID=UTC:20290423T064500
DTEND;TZID=UTC:20290423T160000
DTSTAMP:20260422T220038
CREATED:20251119T044148Z
LAST-MODIFIED:20251119T075856Z
UID:10003849-1871621100-1871654400@dallasfamilymedical.com
SUMMARY:Business Hours
DESCRIPTION:Lunch from Noon to 1:00 PM
URL:https://dallasfamilymedical.com/event/business-hours/2029-04-23/
END:VEVENT
BEGIN:VEVENT
DTSTART;TZID=UTC:20290424T064500
DTEND;TZID=UTC:20290424T160000
DTSTAMP:20260422T220038
CREATED:20251119T044148Z
LAST-MODIFIED:20251119T075856Z
UID:10003850-1871707500-1871740800@dallasfamilymedical.com
SUMMARY:Business Hours
DESCRIPTION:Lunch from Noon to 1:00 PM
URL:https://dallasfamilymedical.com/event/business-hours/2029-04-24/
END:VEVENT
BEGIN:VEVENT
DTSTART;TZID=UTC:20290425T064500
DTEND;TZID=UTC:20290425T160000
DTSTAMP:20260422T220038
CREATED:20251119T044148Z
LAST-MODIFIED:20251119T075856Z
UID:10003851-1871793900-1871827200@dallasfamilymedical.com
SUMMARY:Business Hours
DESCRIPTION:Lunch from Noon to 1:00 PM
URL:https://dallasfamilymedical.com/event/business-hours/2029-04-25/
END:VEVENT
BEGIN:VEVENT
DTSTART;TZID=UTC:20290426T064500
DTEND;TZID=UTC:20290426T160000
DTSTAMP:20260422T220038
CREATED:20251119T044148Z
LAST-MODIFIED:20251119T075856Z
UID:10003852-1871880300-1871913600@dallasfamilymedical.com
SUMMARY:Business Hours
DESCRIPTION:Lunch from Noon to 1:00 PM
URL:https://dallasfamilymedical.com/event/business-hours/2029-04-26/
END:VEVENT
BEGIN:VEVENT
DTSTART;TZID=UTC:20290427T064500
DTEND;TZID=UTC:20290427T120000
DTSTAMP:20260422T220038
CREATED:20251119T072316Z
LAST-MODIFIED:20251119T072316Z
UID:10004359-1871966700-1871985600@dallasfamilymedical.com
SUMMARY:Business Hours Friday
DESCRIPTION:Business Hours Friday
URL:https://dallasfamilymedical.com/event/business-hours-friday/2029-04-27/
END:VEVENT
BEGIN:VEVENT
DTSTART;TZID=UTC:20290430T064500
DTEND;TZID=UTC:20290430T160000
DTSTAMP:20260422T220038
CREATED:20251119T044148Z
LAST-MODIFIED:20251119T075856Z
UID:10003853-1872225900-1872259200@dallasfamilymedical.com
SUMMARY:Business Hours
DESCRIPTION:Lunch from Noon to 1:00 PM
URL:https://dallasfamilymedical.com/event/business-hours/2029-04-30/
END:VEVENT
BEGIN:VEVENT
DTSTART;TZID=UTC:20290501T064500
DTEND;TZID=UTC:20290501T160000
DTSTAMP:20260422T220038
CREATED:20251119T044148Z
LAST-MODIFIED:20251119T075856Z
UID:10003854-1872312300-1872345600@dallasfamilymedical.com
SUMMARY:Business Hours
DESCRIPTION:Lunch from Noon to 1:00 PM
URL:https://dallasfamilymedical.com/event/business-hours/2029-05-01/
END:VEVENT
BEGIN:VEVENT
DTSTART;TZID=UTC:20290502T064500
DTEND;TZID=UTC:20290502T160000
DTSTAMP:20260422T220038
CREATED:20251119T044148Z
LAST-MODIFIED:20251119T075856Z
UID:10003855-1872398700-1872432000@dallasfamilymedical.com
SUMMARY:Business Hours
DESCRIPTION:Lunch from Noon to 1:00 PM
URL:https://dallasfamilymedical.com/event/business-hours/2029-05-02/
END:VEVENT
BEGIN:VEVENT
DTSTART;TZID=UTC:20290503T064500
DTEND;TZID=UTC:20290503T160000
DTSTAMP:20260422T220038
CREATED:20251119T044148Z
LAST-MODIFIED:20251119T075856Z
UID:10003856-1872485100-1872518400@dallasfamilymedical.com
SUMMARY:Business Hours
DESCRIPTION:Lunch from Noon to 1:00 PM
URL:https://dallasfamilymedical.com/event/business-hours/2029-05-03/
END:VEVENT
BEGIN:VEVENT
DTSTART;TZID=UTC:20290504T064500
DTEND;TZID=UTC:20290504T120000
DTSTAMP:20260422T220038
CREATED:20251119T072316Z
LAST-MODIFIED:20251119T072316Z
UID:10004360-1872571500-1872590400@dallasfamilymedical.com
SUMMARY:Business Hours Friday
DESCRIPTION:Business Hours Friday
URL:https://dallasfamilymedical.com/event/business-hours-friday/2029-05-04/
END:VEVENT
BEGIN:VEVENT
DTSTART;TZID=UTC:20290507T064500
DTEND;TZID=UTC:20290507T160000
DTSTAMP:20260422T220038
CREATED:20251119T044148Z
LAST-MODIFIED:20251119T075856Z
UID:10003857-1872830700-1872864000@dallasfamilymedical.com
SUMMARY:Business Hours
DESCRIPTION:Lunch from Noon to 1:00 PM
URL:https://dallasfamilymedical.com/event/business-hours/2029-05-07/
END:VEVENT
BEGIN:VEVENT
DTSTART;TZID=UTC:20290508T064500
DTEND;TZID=UTC:20290508T160000
DTSTAMP:20260422T220038
CREATED:20251119T044148Z
LAST-MODIFIED:20251119T075856Z
UID:10003858-1872917100-1872950400@dallasfamilymedical.com
SUMMARY:Business Hours
DESCRIPTION:Lunch from Noon to 1:00 PM
URL:https://dallasfamilymedical.com/event/business-hours/2029-05-08/
END:VEVENT
BEGIN:VEVENT
DTSTART;TZID=UTC:20290509T064500
DTEND;TZID=UTC:20290509T160000
DTSTAMP:20260422T220038
CREATED:20251119T044148Z
LAST-MODIFIED:20251119T075856Z
UID:10003859-1873003500-1873036800@dallasfamilymedical.com
SUMMARY:Business Hours
DESCRIPTION:Lunch from Noon to 1:00 PM
URL:https://dallasfamilymedical.com/event/business-hours/2029-05-09/
END:VEVENT
BEGIN:VEVENT
DTSTART;TZID=UTC:20290510T064500
DTEND;TZID=UTC:20290510T160000
DTSTAMP:20260422T220038
CREATED:20251119T044148Z
LAST-MODIFIED:20251119T075856Z
UID:10003860-1873089900-1873123200@dallasfamilymedical.com
SUMMARY:Business Hours
DESCRIPTION:Lunch from Noon to 1:00 PM
URL:https://dallasfamilymedical.com/event/business-hours/2029-05-10/
END:VEVENT
BEGIN:VEVENT
DTSTART;TZID=UTC:20290511T064500
DTEND;TZID=UTC:20290511T120000
DTSTAMP:20260422T220038
CREATED:20251119T072316Z
LAST-MODIFIED:20251119T072316Z
UID:10004361-1873176300-1873195200@dallasfamilymedical.com
SUMMARY:Business Hours Friday
DESCRIPTION:Business Hours Friday
URL:https://dallasfamilymedical.com/event/business-hours-friday/2029-05-11/
END:VEVENT
BEGIN:VEVENT
DTSTART;TZID=UTC:20290514T064500
DTEND;TZID=UTC:20290514T160000
DTSTAMP:20260422T220038
CREATED:20251119T044148Z
LAST-MODIFIED:20251119T075856Z
UID:10003861-1873435500-1873468800@dallasfamilymedical.com
SUMMARY:Business Hours
DESCRIPTION:Lunch from Noon to 1:00 PM
URL:https://dallasfamilymedical.com/event/business-hours/2029-05-14/
END:VEVENT
END:VCALENDAR