BEGIN:VCALENDAR
VERSION:2.0
PRODID:-//Dallas Family Medical &amp; Aesthetics - ECPv6.15.12//NONSGML v1.0//EN
CALSCALE:GREGORIAN
METHOD:PUBLISH
X-ORIGINAL-URL:https://dallasfamilymedical.com
X-WR-CALDESC:Events for Dallas Family Medical &amp; Aesthetics
REFRESH-INTERVAL;VALUE=DURATION:PT1H
X-Robots-Tag:noindex
X-PUBLISHED-TTL:PT1H
BEGIN:VTIMEZONE
TZID:UTC
BEGIN:STANDARD
TZOFFSETFROM:+0000
TZOFFSETTO:+0000
TZNAME:UTC
DTSTART:20290101T000000
END:STANDARD
END:VTIMEZONE
BEGIN:VEVENT
DTSTART;TZID=UTC:20300401T064500
DTEND;TZID=UTC:20300401T160000
DTSTAMP:20260423T234539
CREATED:20251119T044148Z
LAST-MODIFIED:20251119T075856Z
UID:10004045-1901256300-1901289600@dallasfamilymedical.com
SUMMARY:Business Hours
DESCRIPTION:Lunch from Noon to 1:00 PM
URL:https://dallasfamilymedical.com/event/business-hours/2030-04-01/
END:VEVENT
BEGIN:VEVENT
DTSTART;TZID=UTC:20300402T064500
DTEND;TZID=UTC:20300402T160000
DTSTAMP:20260423T234539
CREATED:20251119T044148Z
LAST-MODIFIED:20251119T075856Z
UID:10004046-1901342700-1901376000@dallasfamilymedical.com
SUMMARY:Business Hours
DESCRIPTION:Lunch from Noon to 1:00 PM
URL:https://dallasfamilymedical.com/event/business-hours/2030-04-02/
END:VEVENT
BEGIN:VEVENT
DTSTART;TZID=UTC:20300403T064500
DTEND;TZID=UTC:20300403T160000
DTSTAMP:20260423T234539
CREATED:20251119T044148Z
LAST-MODIFIED:20251119T075856Z
UID:10004047-1901429100-1901462400@dallasfamilymedical.com
SUMMARY:Business Hours
DESCRIPTION:Lunch from Noon to 1:00 PM
URL:https://dallasfamilymedical.com/event/business-hours/2030-04-03/
END:VEVENT
BEGIN:VEVENT
DTSTART;TZID=UTC:20300404T064500
DTEND;TZID=UTC:20300404T160000
DTSTAMP:20260423T234539
CREATED:20251119T044148Z
LAST-MODIFIED:20251119T075856Z
UID:10004048-1901515500-1901548800@dallasfamilymedical.com
SUMMARY:Business Hours
DESCRIPTION:Lunch from Noon to 1:00 PM
URL:https://dallasfamilymedical.com/event/business-hours/2030-04-04/
END:VEVENT
BEGIN:VEVENT
DTSTART;TZID=UTC:20300405T064500
DTEND;TZID=UTC:20300405T120000
DTSTAMP:20260423T234539
CREATED:20251119T072316Z
LAST-MODIFIED:20251119T072316Z
UID:10004408-1901601900-1901620800@dallasfamilymedical.com
SUMMARY:Business Hours Friday
DESCRIPTION:Business Hours Friday
URL:https://dallasfamilymedical.com/event/business-hours-friday/2030-04-05/
END:VEVENT
BEGIN:VEVENT
DTSTART;TZID=UTC:20300408T064500
DTEND;TZID=UTC:20300408T160000
DTSTAMP:20260423T234539
CREATED:20251119T044148Z
LAST-MODIFIED:20251119T075856Z
UID:10004049-1901861100-1901894400@dallasfamilymedical.com
SUMMARY:Business Hours
DESCRIPTION:Lunch from Noon to 1:00 PM
URL:https://dallasfamilymedical.com/event/business-hours/2030-04-08/
END:VEVENT
BEGIN:VEVENT
DTSTART;TZID=UTC:20300409T064500
DTEND;TZID=UTC:20300409T160000
DTSTAMP:20260423T234539
CREATED:20251119T044148Z
LAST-MODIFIED:20251119T075856Z
UID:10004050-1901947500-1901980800@dallasfamilymedical.com
SUMMARY:Business Hours
DESCRIPTION:Lunch from Noon to 1:00 PM
URL:https://dallasfamilymedical.com/event/business-hours/2030-04-09/
END:VEVENT
BEGIN:VEVENT
DTSTART;TZID=UTC:20300410T064500
DTEND;TZID=UTC:20300410T160000
DTSTAMP:20260423T234539
CREATED:20251119T044148Z
LAST-MODIFIED:20251119T075856Z
UID:10004051-1902033900-1902067200@dallasfamilymedical.com
SUMMARY:Business Hours
DESCRIPTION:Lunch from Noon to 1:00 PM
URL:https://dallasfamilymedical.com/event/business-hours/2030-04-10/
END:VEVENT
BEGIN:VEVENT
DTSTART;TZID=UTC:20300411T064500
DTEND;TZID=UTC:20300411T160000
DTSTAMP:20260423T234539
CREATED:20251119T044148Z
LAST-MODIFIED:20251119T075856Z
UID:10004052-1902120300-1902153600@dallasfamilymedical.com
SUMMARY:Business Hours
DESCRIPTION:Lunch from Noon to 1:00 PM
URL:https://dallasfamilymedical.com/event/business-hours/2030-04-11/
END:VEVENT
BEGIN:VEVENT
DTSTART;TZID=UTC:20300412T064500
DTEND;TZID=UTC:20300412T120000
DTSTAMP:20260423T234539
CREATED:20251119T072316Z
LAST-MODIFIED:20251119T072316Z
UID:10004409-1902206700-1902225600@dallasfamilymedical.com
SUMMARY:Business Hours Friday
DESCRIPTION:Business Hours Friday
URL:https://dallasfamilymedical.com/event/business-hours-friday/2030-04-12/
END:VEVENT
BEGIN:VEVENT
DTSTART;TZID=UTC:20300415T064500
DTEND;TZID=UTC:20300415T160000
DTSTAMP:20260423T234539
CREATED:20251119T044148Z
LAST-MODIFIED:20251119T075856Z
UID:10004053-1902465900-1902499200@dallasfamilymedical.com
SUMMARY:Business Hours
DESCRIPTION:Lunch from Noon to 1:00 PM
URL:https://dallasfamilymedical.com/event/business-hours/2030-04-15/
END:VEVENT
BEGIN:VEVENT
DTSTART;TZID=UTC:20300416T064500
DTEND;TZID=UTC:20300416T160000
DTSTAMP:20260423T234539
CREATED:20251119T044148Z
LAST-MODIFIED:20251119T075856Z
UID:10004054-1902552300-1902585600@dallasfamilymedical.com
SUMMARY:Business Hours
DESCRIPTION:Lunch from Noon to 1:00 PM
URL:https://dallasfamilymedical.com/event/business-hours/2030-04-16/
END:VEVENT
BEGIN:VEVENT
DTSTART;TZID=UTC:20300417T064500
DTEND;TZID=UTC:20300417T160000
DTSTAMP:20260423T234539
CREATED:20251119T044148Z
LAST-MODIFIED:20251119T075856Z
UID:10004055-1902638700-1902672000@dallasfamilymedical.com
SUMMARY:Business Hours
DESCRIPTION:Lunch from Noon to 1:00 PM
URL:https://dallasfamilymedical.com/event/business-hours/2030-04-17/
END:VEVENT
BEGIN:VEVENT
DTSTART;TZID=UTC:20300418T064500
DTEND;TZID=UTC:20300418T160000
DTSTAMP:20260423T234539
CREATED:20251119T044148Z
LAST-MODIFIED:20251119T075856Z
UID:10004056-1902725100-1902758400@dallasfamilymedical.com
SUMMARY:Business Hours
DESCRIPTION:Lunch from Noon to 1:00 PM
URL:https://dallasfamilymedical.com/event/business-hours/2030-04-18/
END:VEVENT
BEGIN:VEVENT
DTSTART;TZID=UTC:20300419T064500
DTEND;TZID=UTC:20300419T120000
DTSTAMP:20260423T234539
CREATED:20251119T072316Z
LAST-MODIFIED:20251119T072316Z
UID:10004410-1902811500-1902830400@dallasfamilymedical.com
SUMMARY:Business Hours Friday
DESCRIPTION:Business Hours Friday
URL:https://dallasfamilymedical.com/event/business-hours-friday/2030-04-19/
END:VEVENT
BEGIN:VEVENT
DTSTART;TZID=UTC:20300422T064500
DTEND;TZID=UTC:20300422T160000
DTSTAMP:20260423T234539
CREATED:20251119T044148Z
LAST-MODIFIED:20251119T075856Z
UID:10004057-1903070700-1903104000@dallasfamilymedical.com
SUMMARY:Business Hours
DESCRIPTION:Lunch from Noon to 1:00 PM
URL:https://dallasfamilymedical.com/event/business-hours/2030-04-22/
END:VEVENT
BEGIN:VEVENT
DTSTART;TZID=UTC:20300423T064500
DTEND;TZID=UTC:20300423T160000
DTSTAMP:20260423T234539
CREATED:20251119T044148Z
LAST-MODIFIED:20251119T075856Z
UID:10004058-1903157100-1903190400@dallasfamilymedical.com
SUMMARY:Business Hours
DESCRIPTION:Lunch from Noon to 1:00 PM
URL:https://dallasfamilymedical.com/event/business-hours/2030-04-23/
END:VEVENT
BEGIN:VEVENT
DTSTART;TZID=UTC:20300424T064500
DTEND;TZID=UTC:20300424T160000
DTSTAMP:20260423T234539
CREATED:20251119T044148Z
LAST-MODIFIED:20251119T075856Z
UID:10004059-1903243500-1903276800@dallasfamilymedical.com
SUMMARY:Business Hours
DESCRIPTION:Lunch from Noon to 1:00 PM
URL:https://dallasfamilymedical.com/event/business-hours/2030-04-24/
END:VEVENT
BEGIN:VEVENT
DTSTART;TZID=UTC:20300425T064500
DTEND;TZID=UTC:20300425T160000
DTSTAMP:20260423T234539
CREATED:20251119T044148Z
LAST-MODIFIED:20251119T075856Z
UID:10004060-1903329900-1903363200@dallasfamilymedical.com
SUMMARY:Business Hours
DESCRIPTION:Lunch from Noon to 1:00 PM
URL:https://dallasfamilymedical.com/event/business-hours/2030-04-25/
END:VEVENT
BEGIN:VEVENT
DTSTART;TZID=UTC:20300426T064500
DTEND;TZID=UTC:20300426T120000
DTSTAMP:20260423T234539
CREATED:20251119T072316Z
LAST-MODIFIED:20251119T072316Z
UID:10004411-1903416300-1903435200@dallasfamilymedical.com
SUMMARY:Business Hours Friday
DESCRIPTION:Business Hours Friday
URL:https://dallasfamilymedical.com/event/business-hours-friday/2030-04-26/
END:VEVENT
BEGIN:VEVENT
DTSTART;TZID=UTC:20300429T064500
DTEND;TZID=UTC:20300429T160000
DTSTAMP:20260423T234539
CREATED:20251119T044148Z
LAST-MODIFIED:20251119T075856Z
UID:10004061-1903675500-1903708800@dallasfamilymedical.com
SUMMARY:Business Hours
DESCRIPTION:Lunch from Noon to 1:00 PM
URL:https://dallasfamilymedical.com/event/business-hours/2030-04-29/
END:VEVENT
BEGIN:VEVENT
DTSTART;TZID=UTC:20300430T064500
DTEND;TZID=UTC:20300430T160000
DTSTAMP:20260423T234539
CREATED:20251119T044148Z
LAST-MODIFIED:20251119T075856Z
UID:10004062-1903761900-1903795200@dallasfamilymedical.com
SUMMARY:Business Hours
DESCRIPTION:Lunch from Noon to 1:00 PM
URL:https://dallasfamilymedical.com/event/business-hours/2030-04-30/
END:VEVENT
END:VCALENDAR