BEGIN:VCALENDAR
VERSION:2.0
PRODID:-//Dallas Family Medical &amp; Aesthetics - ECPv6.15.12//NONSGML v1.0//EN
CALSCALE:GREGORIAN
METHOD:PUBLISH
X-WR-CALNAME:Dallas Family Medical &amp; Aesthetics
X-ORIGINAL-URL:https://dallasfamilymedical.com
X-WR-CALDESC:Events for Dallas Family Medical &amp; Aesthetics
REFRESH-INTERVAL;VALUE=DURATION:PT1H
X-Robots-Tag:noindex
X-PUBLISHED-TTL:PT1H
BEGIN:VTIMEZONE
TZID:UTC
BEGIN:STANDARD
TZOFFSETFROM:+0000
TZOFFSETTO:+0000
TZNAME:UTC
DTSTART:20290101T000000
END:STANDARD
END:VTIMEZONE
BEGIN:VEVENT
DTSTART;TZID=UTC:20300201T064500
DTEND;TZID=UTC:20300201T120000
DTSTAMP:20260424T001132
CREATED:20251119T072316Z
LAST-MODIFIED:20251119T072316Z
UID:10004399-1896158700-1896177600@dallasfamilymedical.com
SUMMARY:Business Hours Friday
DESCRIPTION:Business Hours Friday
URL:https://dallasfamilymedical.com/event/business-hours-friday/2030-02-01/
END:VEVENT
BEGIN:VEVENT
DTSTART;TZID=UTC:20300204T064500
DTEND;TZID=UTC:20300204T160000
DTSTAMP:20260424T001132
CREATED:20251119T044148Z
LAST-MODIFIED:20251119T075856Z
UID:10004013-1896417900-1896451200@dallasfamilymedical.com
SUMMARY:Business Hours
DESCRIPTION:Lunch from Noon to 1:00 PM
URL:https://dallasfamilymedical.com/event/business-hours/2030-02-04/
END:VEVENT
BEGIN:VEVENT
DTSTART;TZID=UTC:20300205T064500
DTEND;TZID=UTC:20300205T160000
DTSTAMP:20260424T001132
CREATED:20251119T044148Z
LAST-MODIFIED:20251119T075856Z
UID:10004014-1896504300-1896537600@dallasfamilymedical.com
SUMMARY:Business Hours
DESCRIPTION:Lunch from Noon to 1:00 PM
URL:https://dallasfamilymedical.com/event/business-hours/2030-02-05/
END:VEVENT
BEGIN:VEVENT
DTSTART;TZID=UTC:20300206T064500
DTEND;TZID=UTC:20300206T160000
DTSTAMP:20260424T001132
CREATED:20251119T044148Z
LAST-MODIFIED:20251119T075856Z
UID:10004015-1896590700-1896624000@dallasfamilymedical.com
SUMMARY:Business Hours
DESCRIPTION:Lunch from Noon to 1:00 PM
URL:https://dallasfamilymedical.com/event/business-hours/2030-02-06/
END:VEVENT
BEGIN:VEVENT
DTSTART;TZID=UTC:20300207T064500
DTEND;TZID=UTC:20300207T160000
DTSTAMP:20260424T001132
CREATED:20251119T044148Z
LAST-MODIFIED:20251119T075856Z
UID:10004016-1896677100-1896710400@dallasfamilymedical.com
SUMMARY:Business Hours
DESCRIPTION:Lunch from Noon to 1:00 PM
URL:https://dallasfamilymedical.com/event/business-hours/2030-02-07/
END:VEVENT
BEGIN:VEVENT
DTSTART;TZID=UTC:20300208T064500
DTEND;TZID=UTC:20300208T120000
DTSTAMP:20260424T001132
CREATED:20251119T072316Z
LAST-MODIFIED:20251119T072316Z
UID:10004400-1896763500-1896782400@dallasfamilymedical.com
SUMMARY:Business Hours Friday
DESCRIPTION:Business Hours Friday
URL:https://dallasfamilymedical.com/event/business-hours-friday/2030-02-08/
END:VEVENT
BEGIN:VEVENT
DTSTART;TZID=UTC:20300211T064500
DTEND;TZID=UTC:20300211T160000
DTSTAMP:20260424T001132
CREATED:20251119T044148Z
LAST-MODIFIED:20251119T075856Z
UID:10004017-1897022700-1897056000@dallasfamilymedical.com
SUMMARY:Business Hours
DESCRIPTION:Lunch from Noon to 1:00 PM
URL:https://dallasfamilymedical.com/event/business-hours/2030-02-11/
END:VEVENT
BEGIN:VEVENT
DTSTART;TZID=UTC:20300212T064500
DTEND;TZID=UTC:20300212T160000
DTSTAMP:20260424T001132
CREATED:20251119T044148Z
LAST-MODIFIED:20251119T075856Z
UID:10004018-1897109100-1897142400@dallasfamilymedical.com
SUMMARY:Business Hours
DESCRIPTION:Lunch from Noon to 1:00 PM
URL:https://dallasfamilymedical.com/event/business-hours/2030-02-12/
END:VEVENT
BEGIN:VEVENT
DTSTART;TZID=UTC:20300213T064500
DTEND;TZID=UTC:20300213T160000
DTSTAMP:20260424T001132
CREATED:20251119T044148Z
LAST-MODIFIED:20251119T075856Z
UID:10004019-1897195500-1897228800@dallasfamilymedical.com
SUMMARY:Business Hours
DESCRIPTION:Lunch from Noon to 1:00 PM
URL:https://dallasfamilymedical.com/event/business-hours/2030-02-13/
END:VEVENT
BEGIN:VEVENT
DTSTART;TZID=UTC:20300214T064500
DTEND;TZID=UTC:20300214T160000
DTSTAMP:20260424T001132
CREATED:20251119T044148Z
LAST-MODIFIED:20251119T075856Z
UID:10004020-1897281900-1897315200@dallasfamilymedical.com
SUMMARY:Business Hours
DESCRIPTION:Lunch from Noon to 1:00 PM
URL:https://dallasfamilymedical.com/event/business-hours/2030-02-14/
END:VEVENT
BEGIN:VEVENT
DTSTART;TZID=UTC:20300215T064500
DTEND;TZID=UTC:20300215T120000
DTSTAMP:20260424T001132
CREATED:20251119T072316Z
LAST-MODIFIED:20251119T072316Z
UID:10004401-1897368300-1897387200@dallasfamilymedical.com
SUMMARY:Business Hours Friday
DESCRIPTION:Business Hours Friday
URL:https://dallasfamilymedical.com/event/business-hours-friday/2030-02-15/
END:VEVENT
BEGIN:VEVENT
DTSTART;TZID=UTC:20300218T064500
DTEND;TZID=UTC:20300218T160000
DTSTAMP:20260424T001132
CREATED:20251119T044148Z
LAST-MODIFIED:20251119T075856Z
UID:10004021-1897627500-1897660800@dallasfamilymedical.com
SUMMARY:Business Hours
DESCRIPTION:Lunch from Noon to 1:00 PM
URL:https://dallasfamilymedical.com/event/business-hours/2030-02-18/
END:VEVENT
BEGIN:VEVENT
DTSTART;TZID=UTC:20300219T064500
DTEND;TZID=UTC:20300219T160000
DTSTAMP:20260424T001132
CREATED:20251119T044148Z
LAST-MODIFIED:20251119T075856Z
UID:10004022-1897713900-1897747200@dallasfamilymedical.com
SUMMARY:Business Hours
DESCRIPTION:Lunch from Noon to 1:00 PM
URL:https://dallasfamilymedical.com/event/business-hours/2030-02-19/
END:VEVENT
BEGIN:VEVENT
DTSTART;TZID=UTC:20300220T064500
DTEND;TZID=UTC:20300220T160000
DTSTAMP:20260424T001132
CREATED:20251119T044148Z
LAST-MODIFIED:20251119T075856Z
UID:10004023-1897800300-1897833600@dallasfamilymedical.com
SUMMARY:Business Hours
DESCRIPTION:Lunch from Noon to 1:00 PM
URL:https://dallasfamilymedical.com/event/business-hours/2030-02-20/
END:VEVENT
BEGIN:VEVENT
DTSTART;TZID=UTC:20300221T064500
DTEND;TZID=UTC:20300221T160000
DTSTAMP:20260424T001132
CREATED:20251119T044148Z
LAST-MODIFIED:20251119T075856Z
UID:10004024-1897886700-1897920000@dallasfamilymedical.com
SUMMARY:Business Hours
DESCRIPTION:Lunch from Noon to 1:00 PM
URL:https://dallasfamilymedical.com/event/business-hours/2030-02-21/
END:VEVENT
BEGIN:VEVENT
DTSTART;TZID=UTC:20300222T064500
DTEND;TZID=UTC:20300222T120000
DTSTAMP:20260424T001132
CREATED:20251119T072316Z
LAST-MODIFIED:20251119T072316Z
UID:10004402-1897973100-1897992000@dallasfamilymedical.com
SUMMARY:Business Hours Friday
DESCRIPTION:Business Hours Friday
URL:https://dallasfamilymedical.com/event/business-hours-friday/2030-02-22/
END:VEVENT
BEGIN:VEVENT
DTSTART;TZID=UTC:20300225T064500
DTEND;TZID=UTC:20300225T160000
DTSTAMP:20260424T001132
CREATED:20251119T044148Z
LAST-MODIFIED:20251119T075856Z
UID:10004025-1898232300-1898265600@dallasfamilymedical.com
SUMMARY:Business Hours
DESCRIPTION:Lunch from Noon to 1:00 PM
URL:https://dallasfamilymedical.com/event/business-hours/2030-02-25/
END:VEVENT
BEGIN:VEVENT
DTSTART;TZID=UTC:20300226T064500
DTEND;TZID=UTC:20300226T160000
DTSTAMP:20260424T001132
CREATED:20251119T044148Z
LAST-MODIFIED:20251119T075856Z
UID:10004026-1898318700-1898352000@dallasfamilymedical.com
SUMMARY:Business Hours
DESCRIPTION:Lunch from Noon to 1:00 PM
URL:https://dallasfamilymedical.com/event/business-hours/2030-02-26/
END:VEVENT
BEGIN:VEVENT
DTSTART;TZID=UTC:20300227T064500
DTEND;TZID=UTC:20300227T160000
DTSTAMP:20260424T001132
CREATED:20251119T044148Z
LAST-MODIFIED:20251119T075856Z
UID:10004027-1898405100-1898438400@dallasfamilymedical.com
SUMMARY:Business Hours
DESCRIPTION:Lunch from Noon to 1:00 PM
URL:https://dallasfamilymedical.com/event/business-hours/2030-02-27/
END:VEVENT
BEGIN:VEVENT
DTSTART;TZID=UTC:20300228T064500
DTEND;TZID=UTC:20300228T160000
DTSTAMP:20260424T001132
CREATED:20251119T044148Z
LAST-MODIFIED:20251119T075856Z
UID:10004028-1898491500-1898524800@dallasfamilymedical.com
SUMMARY:Business Hours
DESCRIPTION:Lunch from Noon to 1:00 PM
URL:https://dallasfamilymedical.com/event/business-hours/2030-02-28/
END:VEVENT
BEGIN:VEVENT
DTSTART;TZID=UTC:20300301T064500
DTEND;TZID=UTC:20300301T120000
DTSTAMP:20260424T001132
CREATED:20251119T072316Z
LAST-MODIFIED:20251119T072316Z
UID:10004403-1898577900-1898596800@dallasfamilymedical.com
SUMMARY:Business Hours Friday
DESCRIPTION:Business Hours Friday
URL:https://dallasfamilymedical.com/event/business-hours-friday/2030-03-01/
END:VEVENT
BEGIN:VEVENT
DTSTART;TZID=UTC:20300304T064500
DTEND;TZID=UTC:20300304T160000
DTSTAMP:20260424T001132
CREATED:20251119T044148Z
LAST-MODIFIED:20251119T075856Z
UID:10004029-1898837100-1898870400@dallasfamilymedical.com
SUMMARY:Business Hours
DESCRIPTION:Lunch from Noon to 1:00 PM
URL:https://dallasfamilymedical.com/event/business-hours/2030-03-04/
END:VEVENT
BEGIN:VEVENT
DTSTART;TZID=UTC:20300305T064500
DTEND;TZID=UTC:20300305T160000
DTSTAMP:20260424T001132
CREATED:20251119T044148Z
LAST-MODIFIED:20251119T075856Z
UID:10004030-1898923500-1898956800@dallasfamilymedical.com
SUMMARY:Business Hours
DESCRIPTION:Lunch from Noon to 1:00 PM
URL:https://dallasfamilymedical.com/event/business-hours/2030-03-05/
END:VEVENT
BEGIN:VEVENT
DTSTART;TZID=UTC:20300306T064500
DTEND;TZID=UTC:20300306T160000
DTSTAMP:20260424T001132
CREATED:20251119T044148Z
LAST-MODIFIED:20251119T075856Z
UID:10004031-1899009900-1899043200@dallasfamilymedical.com
SUMMARY:Business Hours
DESCRIPTION:Lunch from Noon to 1:00 PM
URL:https://dallasfamilymedical.com/event/business-hours/2030-03-06/
END:VEVENT
BEGIN:VEVENT
DTSTART;TZID=UTC:20300307T064500
DTEND;TZID=UTC:20300307T160000
DTSTAMP:20260424T001132
CREATED:20251119T044148Z
LAST-MODIFIED:20251119T075856Z
UID:10004032-1899096300-1899129600@dallasfamilymedical.com
SUMMARY:Business Hours
DESCRIPTION:Lunch from Noon to 1:00 PM
URL:https://dallasfamilymedical.com/event/business-hours/2030-03-07/
END:VEVENT
BEGIN:VEVENT
DTSTART;TZID=UTC:20300308T064500
DTEND;TZID=UTC:20300308T120000
DTSTAMP:20260424T001132
CREATED:20251119T072316Z
LAST-MODIFIED:20251119T072316Z
UID:10004404-1899182700-1899201600@dallasfamilymedical.com
SUMMARY:Business Hours Friday
DESCRIPTION:Business Hours Friday
URL:https://dallasfamilymedical.com/event/business-hours-friday/2030-03-08/
END:VEVENT
BEGIN:VEVENT
DTSTART;TZID=UTC:20300311T064500
DTEND;TZID=UTC:20300311T160000
DTSTAMP:20260424T001132
CREATED:20251119T044148Z
LAST-MODIFIED:20251119T075856Z
UID:10004033-1899441900-1899475200@dallasfamilymedical.com
SUMMARY:Business Hours
DESCRIPTION:Lunch from Noon to 1:00 PM
URL:https://dallasfamilymedical.com/event/business-hours/2030-03-11/
END:VEVENT
BEGIN:VEVENT
DTSTART;TZID=UTC:20300312T064500
DTEND;TZID=UTC:20300312T160000
DTSTAMP:20260424T001132
CREATED:20251119T044148Z
LAST-MODIFIED:20251119T075856Z
UID:10004034-1899528300-1899561600@dallasfamilymedical.com
SUMMARY:Business Hours
DESCRIPTION:Lunch from Noon to 1:00 PM
URL:https://dallasfamilymedical.com/event/business-hours/2030-03-12/
END:VEVENT
BEGIN:VEVENT
DTSTART;TZID=UTC:20300313T064500
DTEND;TZID=UTC:20300313T160000
DTSTAMP:20260424T001132
CREATED:20251119T044148Z
LAST-MODIFIED:20251119T075856Z
UID:10004035-1899614700-1899648000@dallasfamilymedical.com
SUMMARY:Business Hours
DESCRIPTION:Lunch from Noon to 1:00 PM
URL:https://dallasfamilymedical.com/event/business-hours/2030-03-13/
END:VEVENT
BEGIN:VEVENT
DTSTART;TZID=UTC:20300314T064500
DTEND;TZID=UTC:20300314T160000
DTSTAMP:20260424T001132
CREATED:20251119T044148Z
LAST-MODIFIED:20251119T075856Z
UID:10004036-1899701100-1899734400@dallasfamilymedical.com
SUMMARY:Business Hours
DESCRIPTION:Lunch from Noon to 1:00 PM
URL:https://dallasfamilymedical.com/event/business-hours/2030-03-14/
END:VEVENT
END:VCALENDAR