BEGIN:VCALENDAR
VERSION:2.0
PRODID:-//Dallas Family Medical &amp; Aesthetics - ECPv6.15.12//NONSGML v1.0//EN
CALSCALE:GREGORIAN
METHOD:PUBLISH
X-WR-CALNAME:Dallas Family Medical &amp; Aesthetics
X-ORIGINAL-URL:https://dallasfamilymedical.com
X-WR-CALDESC:Events for Dallas Family Medical &amp; Aesthetics
REFRESH-INTERVAL;VALUE=DURATION:PT1H
X-Robots-Tag:noindex
X-PUBLISHED-TTL:PT1H
BEGIN:VTIMEZONE
TZID:UTC
BEGIN:STANDARD
TZOFFSETFROM:+0000
TZOFFSETTO:+0000
TZNAME:UTC
DTSTART:20280101T000000
END:STANDARD
END:VTIMEZONE
BEGIN:VEVENT
DTSTART;TZID=UTC:20290827T064500
DTEND;TZID=UTC:20290827T160000
DTSTAMP:20260423T071057
CREATED:20251119T044148Z
LAST-MODIFIED:20251119T075856Z
UID:10003921-1882507500-1882540800@dallasfamilymedical.com
SUMMARY:Business Hours
DESCRIPTION:Lunch from Noon to 1:00 PM
URL:https://dallasfamilymedical.com/event/business-hours/2029-08-27/
END:VEVENT
BEGIN:VEVENT
DTSTART;TZID=UTC:20290828T064500
DTEND;TZID=UTC:20290828T160000
DTSTAMP:20260423T071057
CREATED:20251119T044148Z
LAST-MODIFIED:20251119T075856Z
UID:10003922-1882593900-1882627200@dallasfamilymedical.com
SUMMARY:Business Hours
DESCRIPTION:Lunch from Noon to 1:00 PM
URL:https://dallasfamilymedical.com/event/business-hours/2029-08-28/
END:VEVENT
BEGIN:VEVENT
DTSTART;TZID=UTC:20290829T064500
DTEND;TZID=UTC:20290829T160000
DTSTAMP:20260423T071057
CREATED:20251119T044148Z
LAST-MODIFIED:20251119T075856Z
UID:10003923-1882680300-1882713600@dallasfamilymedical.com
SUMMARY:Business Hours
DESCRIPTION:Lunch from Noon to 1:00 PM
URL:https://dallasfamilymedical.com/event/business-hours/2029-08-29/
END:VEVENT
BEGIN:VEVENT
DTSTART;TZID=UTC:20290830T064500
DTEND;TZID=UTC:20290830T160000
DTSTAMP:20260423T071057
CREATED:20251119T044148Z
LAST-MODIFIED:20251119T075856Z
UID:10003924-1882766700-1882800000@dallasfamilymedical.com
SUMMARY:Business Hours
DESCRIPTION:Lunch from Noon to 1:00 PM
URL:https://dallasfamilymedical.com/event/business-hours/2029-08-30/
END:VEVENT
BEGIN:VEVENT
DTSTART;TZID=UTC:20290831T064500
DTEND;TZID=UTC:20290831T120000
DTSTAMP:20260423T071057
CREATED:20251119T072316Z
LAST-MODIFIED:20251119T072316Z
UID:10004377-1882853100-1882872000@dallasfamilymedical.com
SUMMARY:Business Hours Friday
DESCRIPTION:Business Hours Friday
URL:https://dallasfamilymedical.com/event/business-hours-friday/2029-08-31/
END:VEVENT
BEGIN:VEVENT
DTSTART;TZID=UTC:20290903T064500
DTEND;TZID=UTC:20290903T160000
DTSTAMP:20260423T071057
CREATED:20251119T044148Z
LAST-MODIFIED:20251119T075856Z
UID:10003925-1883112300-1883145600@dallasfamilymedical.com
SUMMARY:Business Hours
DESCRIPTION:Lunch from Noon to 1:00 PM
URL:https://dallasfamilymedical.com/event/business-hours/2029-09-03/
END:VEVENT
BEGIN:VEVENT
DTSTART;TZID=UTC:20290904T064500
DTEND;TZID=UTC:20290904T160000
DTSTAMP:20260423T071057
CREATED:20251119T044148Z
LAST-MODIFIED:20251119T075856Z
UID:10003926-1883198700-1883232000@dallasfamilymedical.com
SUMMARY:Business Hours
DESCRIPTION:Lunch from Noon to 1:00 PM
URL:https://dallasfamilymedical.com/event/business-hours/2029-09-04/
END:VEVENT
BEGIN:VEVENT
DTSTART;TZID=UTC:20290905T064500
DTEND;TZID=UTC:20290905T160000
DTSTAMP:20260423T071057
CREATED:20251119T044148Z
LAST-MODIFIED:20251119T075856Z
UID:10003927-1883285100-1883318400@dallasfamilymedical.com
SUMMARY:Business Hours
DESCRIPTION:Lunch from Noon to 1:00 PM
URL:https://dallasfamilymedical.com/event/business-hours/2029-09-05/
END:VEVENT
BEGIN:VEVENT
DTSTART;TZID=UTC:20290906T064500
DTEND;TZID=UTC:20290906T160000
DTSTAMP:20260423T071057
CREATED:20251119T044148Z
LAST-MODIFIED:20251119T075856Z
UID:10003928-1883371500-1883404800@dallasfamilymedical.com
SUMMARY:Business Hours
DESCRIPTION:Lunch from Noon to 1:00 PM
URL:https://dallasfamilymedical.com/event/business-hours/2029-09-06/
END:VEVENT
BEGIN:VEVENT
DTSTART;TZID=UTC:20290907T064500
DTEND;TZID=UTC:20290907T120000
DTSTAMP:20260423T071057
CREATED:20251119T072316Z
LAST-MODIFIED:20251119T072316Z
UID:10004378-1883457900-1883476800@dallasfamilymedical.com
SUMMARY:Business Hours Friday
DESCRIPTION:Business Hours Friday
URL:https://dallasfamilymedical.com/event/business-hours-friday/2029-09-07/
END:VEVENT
BEGIN:VEVENT
DTSTART;TZID=UTC:20290910T064500
DTEND;TZID=UTC:20290910T160000
DTSTAMP:20260423T071057
CREATED:20251119T044148Z
LAST-MODIFIED:20251119T075856Z
UID:10003929-1883717100-1883750400@dallasfamilymedical.com
SUMMARY:Business Hours
DESCRIPTION:Lunch from Noon to 1:00 PM
URL:https://dallasfamilymedical.com/event/business-hours/2029-09-10/
END:VEVENT
BEGIN:VEVENT
DTSTART;TZID=UTC:20290911T064500
DTEND;TZID=UTC:20290911T160000
DTSTAMP:20260423T071057
CREATED:20251119T044148Z
LAST-MODIFIED:20251119T075856Z
UID:10003930-1883803500-1883836800@dallasfamilymedical.com
SUMMARY:Business Hours
DESCRIPTION:Lunch from Noon to 1:00 PM
URL:https://dallasfamilymedical.com/event/business-hours/2029-09-11/
END:VEVENT
BEGIN:VEVENT
DTSTART;TZID=UTC:20290912T064500
DTEND;TZID=UTC:20290912T160000
DTSTAMP:20260423T071057
CREATED:20251119T044148Z
LAST-MODIFIED:20251119T075856Z
UID:10003931-1883889900-1883923200@dallasfamilymedical.com
SUMMARY:Business Hours
DESCRIPTION:Lunch from Noon to 1:00 PM
URL:https://dallasfamilymedical.com/event/business-hours/2029-09-12/
END:VEVENT
BEGIN:VEVENT
DTSTART;TZID=UTC:20290913T064500
DTEND;TZID=UTC:20290913T160000
DTSTAMP:20260423T071057
CREATED:20251119T044148Z
LAST-MODIFIED:20251119T075856Z
UID:10003932-1883976300-1884009600@dallasfamilymedical.com
SUMMARY:Business Hours
DESCRIPTION:Lunch from Noon to 1:00 PM
URL:https://dallasfamilymedical.com/event/business-hours/2029-09-13/
END:VEVENT
BEGIN:VEVENT
DTSTART;TZID=UTC:20290914T064500
DTEND;TZID=UTC:20290914T120000
DTSTAMP:20260423T071057
CREATED:20251119T072316Z
LAST-MODIFIED:20251119T072316Z
UID:10004379-1884062700-1884081600@dallasfamilymedical.com
SUMMARY:Business Hours Friday
DESCRIPTION:Business Hours Friday
URL:https://dallasfamilymedical.com/event/business-hours-friday/2029-09-14/
END:VEVENT
BEGIN:VEVENT
DTSTART;TZID=UTC:20290917T064500
DTEND;TZID=UTC:20290917T160000
DTSTAMP:20260423T071057
CREATED:20251119T044148Z
LAST-MODIFIED:20251119T075856Z
UID:10003933-1884321900-1884355200@dallasfamilymedical.com
SUMMARY:Business Hours
DESCRIPTION:Lunch from Noon to 1:00 PM
URL:https://dallasfamilymedical.com/event/business-hours/2029-09-17/
END:VEVENT
BEGIN:VEVENT
DTSTART;TZID=UTC:20290918T064500
DTEND;TZID=UTC:20290918T160000
DTSTAMP:20260423T071057
CREATED:20251119T044148Z
LAST-MODIFIED:20251119T075856Z
UID:10003934-1884408300-1884441600@dallasfamilymedical.com
SUMMARY:Business Hours
DESCRIPTION:Lunch from Noon to 1:00 PM
URL:https://dallasfamilymedical.com/event/business-hours/2029-09-18/
END:VEVENT
BEGIN:VEVENT
DTSTART;TZID=UTC:20290919T064500
DTEND;TZID=UTC:20290919T160000
DTSTAMP:20260423T071057
CREATED:20251119T044148Z
LAST-MODIFIED:20251119T075856Z
UID:10003935-1884494700-1884528000@dallasfamilymedical.com
SUMMARY:Business Hours
DESCRIPTION:Lunch from Noon to 1:00 PM
URL:https://dallasfamilymedical.com/event/business-hours/2029-09-19/
END:VEVENT
BEGIN:VEVENT
DTSTART;TZID=UTC:20290920T064500
DTEND;TZID=UTC:20290920T160000
DTSTAMP:20260423T071057
CREATED:20251119T044148Z
LAST-MODIFIED:20251119T075856Z
UID:10003936-1884581100-1884614400@dallasfamilymedical.com
SUMMARY:Business Hours
DESCRIPTION:Lunch from Noon to 1:00 PM
URL:https://dallasfamilymedical.com/event/business-hours/2029-09-20/
END:VEVENT
BEGIN:VEVENT
DTSTART;TZID=UTC:20290921T064500
DTEND;TZID=UTC:20290921T120000
DTSTAMP:20260423T071057
CREATED:20251119T072316Z
LAST-MODIFIED:20251119T072316Z
UID:10004380-1884667500-1884686400@dallasfamilymedical.com
SUMMARY:Business Hours Friday
DESCRIPTION:Business Hours Friday
URL:https://dallasfamilymedical.com/event/business-hours-friday/2029-09-21/
END:VEVENT
BEGIN:VEVENT
DTSTART;TZID=UTC:20290924T064500
DTEND;TZID=UTC:20290924T160000
DTSTAMP:20260423T071057
CREATED:20251119T044148Z
LAST-MODIFIED:20251119T075856Z
UID:10003937-1884926700-1884960000@dallasfamilymedical.com
SUMMARY:Business Hours
DESCRIPTION:Lunch from Noon to 1:00 PM
URL:https://dallasfamilymedical.com/event/business-hours/2029-09-24/
END:VEVENT
BEGIN:VEVENT
DTSTART;TZID=UTC:20290925T064500
DTEND;TZID=UTC:20290925T160000
DTSTAMP:20260423T071057
CREATED:20251119T044148Z
LAST-MODIFIED:20251119T075856Z
UID:10003938-1885013100-1885046400@dallasfamilymedical.com
SUMMARY:Business Hours
DESCRIPTION:Lunch from Noon to 1:00 PM
URL:https://dallasfamilymedical.com/event/business-hours/2029-09-25/
END:VEVENT
BEGIN:VEVENT
DTSTART;TZID=UTC:20290926T064500
DTEND;TZID=UTC:20290926T160000
DTSTAMP:20260423T071057
CREATED:20251119T044148Z
LAST-MODIFIED:20251119T075856Z
UID:10003939-1885099500-1885132800@dallasfamilymedical.com
SUMMARY:Business Hours
DESCRIPTION:Lunch from Noon to 1:00 PM
URL:https://dallasfamilymedical.com/event/business-hours/2029-09-26/
END:VEVENT
BEGIN:VEVENT
DTSTART;TZID=UTC:20290927T064500
DTEND;TZID=UTC:20290927T160000
DTSTAMP:20260423T071058
CREATED:20251119T044148Z
LAST-MODIFIED:20251119T075856Z
UID:10003940-1885185900-1885219200@dallasfamilymedical.com
SUMMARY:Business Hours
DESCRIPTION:Lunch from Noon to 1:00 PM
URL:https://dallasfamilymedical.com/event/business-hours/2029-09-27/
END:VEVENT
BEGIN:VEVENT
DTSTART;TZID=UTC:20290928T064500
DTEND;TZID=UTC:20290928T120000
DTSTAMP:20260423T071058
CREATED:20251119T072316Z
LAST-MODIFIED:20251119T072316Z
UID:10004381-1885272300-1885291200@dallasfamilymedical.com
SUMMARY:Business Hours Friday
DESCRIPTION:Business Hours Friday
URL:https://dallasfamilymedical.com/event/business-hours-friday/2029-09-28/
END:VEVENT
BEGIN:VEVENT
DTSTART;TZID=UTC:20291001T064500
DTEND;TZID=UTC:20291001T160000
DTSTAMP:20260423T071058
CREATED:20251119T044148Z
LAST-MODIFIED:20251119T075856Z
UID:10003941-1885531500-1885564800@dallasfamilymedical.com
SUMMARY:Business Hours
DESCRIPTION:Lunch from Noon to 1:00 PM
URL:https://dallasfamilymedical.com/event/business-hours/2029-10-01/
END:VEVENT
BEGIN:VEVENT
DTSTART;TZID=UTC:20291002T064500
DTEND;TZID=UTC:20291002T160000
DTSTAMP:20260423T071058
CREATED:20251119T044148Z
LAST-MODIFIED:20251119T075856Z
UID:10003942-1885617900-1885651200@dallasfamilymedical.com
SUMMARY:Business Hours
DESCRIPTION:Lunch from Noon to 1:00 PM
URL:https://dallasfamilymedical.com/event/business-hours/2029-10-02/
END:VEVENT
BEGIN:VEVENT
DTSTART;TZID=UTC:20291003T064500
DTEND;TZID=UTC:20291003T160000
DTSTAMP:20260423T071058
CREATED:20251119T044148Z
LAST-MODIFIED:20251119T075856Z
UID:10003943-1885704300-1885737600@dallasfamilymedical.com
SUMMARY:Business Hours
DESCRIPTION:Lunch from Noon to 1:00 PM
URL:https://dallasfamilymedical.com/event/business-hours/2029-10-03/
END:VEVENT
BEGIN:VEVENT
DTSTART;TZID=UTC:20291004T064500
DTEND;TZID=UTC:20291004T160000
DTSTAMP:20260423T071058
CREATED:20251119T044148Z
LAST-MODIFIED:20251119T075856Z
UID:10003944-1885790700-1885824000@dallasfamilymedical.com
SUMMARY:Business Hours
DESCRIPTION:Lunch from Noon to 1:00 PM
URL:https://dallasfamilymedical.com/event/business-hours/2029-10-04/
END:VEVENT
BEGIN:VEVENT
DTSTART;TZID=UTC:20291005T064500
DTEND;TZID=UTC:20291005T120000
DTSTAMP:20260423T071058
CREATED:20251119T072316Z
LAST-MODIFIED:20251119T072316Z
UID:10004382-1885877100-1885896000@dallasfamilymedical.com
SUMMARY:Business Hours Friday
DESCRIPTION:Business Hours Friday
URL:https://dallasfamilymedical.com/event/business-hours-friday/2029-10-05/
END:VEVENT
END:VCALENDAR