BEGIN:VCALENDAR
VERSION:2.0
PRODID:-//Dallas Family Medical &amp; Aesthetics - ECPv6.15.12//NONSGML v1.0//EN
CALSCALE:GREGORIAN
METHOD:PUBLISH
X-WR-CALNAME:Dallas Family Medical &amp; Aesthetics
X-ORIGINAL-URL:https://dallasfamilymedical.com
X-WR-CALDESC:Events for Dallas Family Medical &amp; Aesthetics
REFRESH-INTERVAL;VALUE=DURATION:PT1H
X-Robots-Tag:noindex
X-PUBLISHED-TTL:PT1H
BEGIN:VTIMEZONE
TZID:UTC
BEGIN:STANDARD
TZOFFSETFROM:+0000
TZOFFSETTO:+0000
TZNAME:UTC
DTSTART:20270101T000000
END:STANDARD
END:VTIMEZONE
BEGIN:VEVENT
DTSTART;TZID=UTC:20280808T064500
DTEND;TZID=UTC:20280808T160000
DTSTAMP:20260422T223829
CREATED:20251119T044148Z
LAST-MODIFIED:20251119T075856Z
UID:10003702-1849329900-1849363200@dallasfamilymedical.com
SUMMARY:Business Hours
DESCRIPTION:Lunch from Noon to 1:00 PM
URL:https://dallasfamilymedical.com/event/business-hours/2028-08-08/
END:VEVENT
BEGIN:VEVENT
DTSTART;TZID=UTC:20280809T064500
DTEND;TZID=UTC:20280809T160000
DTSTAMP:20260422T223829
CREATED:20251119T044148Z
LAST-MODIFIED:20251119T075856Z
UID:10003703-1849416300-1849449600@dallasfamilymedical.com
SUMMARY:Business Hours
DESCRIPTION:Lunch from Noon to 1:00 PM
URL:https://dallasfamilymedical.com/event/business-hours/2028-08-09/
END:VEVENT
BEGIN:VEVENT
DTSTART;TZID=UTC:20280810T064500
DTEND;TZID=UTC:20280810T160000
DTSTAMP:20260422T223829
CREATED:20251119T044148Z
LAST-MODIFIED:20251119T075856Z
UID:10003704-1849502700-1849536000@dallasfamilymedical.com
SUMMARY:Business Hours
DESCRIPTION:Lunch from Noon to 1:00 PM
URL:https://dallasfamilymedical.com/event/business-hours/2028-08-10/
END:VEVENT
BEGIN:VEVENT
DTSTART;TZID=UTC:20280811T064500
DTEND;TZID=UTC:20280811T120000
DTSTAMP:20260422T223829
CREATED:20251119T072316Z
LAST-MODIFIED:20251119T072316Z
UID:10004322-1849589100-1849608000@dallasfamilymedical.com
SUMMARY:Business Hours Friday
DESCRIPTION:Business Hours Friday
URL:https://dallasfamilymedical.com/event/business-hours-friday/2028-08-11/
END:VEVENT
BEGIN:VEVENT
DTSTART;TZID=UTC:20280814T064500
DTEND;TZID=UTC:20280814T160000
DTSTAMP:20260422T223829
CREATED:20251119T044148Z
LAST-MODIFIED:20251119T075856Z
UID:10003705-1849848300-1849881600@dallasfamilymedical.com
SUMMARY:Business Hours
DESCRIPTION:Lunch from Noon to 1:00 PM
URL:https://dallasfamilymedical.com/event/business-hours/2028-08-14/
END:VEVENT
BEGIN:VEVENT
DTSTART;TZID=UTC:20280815T064500
DTEND;TZID=UTC:20280815T160000
DTSTAMP:20260422T223829
CREATED:20251119T044148Z
LAST-MODIFIED:20251119T075856Z
UID:10003706-1849934700-1849968000@dallasfamilymedical.com
SUMMARY:Business Hours
DESCRIPTION:Lunch from Noon to 1:00 PM
URL:https://dallasfamilymedical.com/event/business-hours/2028-08-15/
END:VEVENT
BEGIN:VEVENT
DTSTART;TZID=UTC:20280816T064500
DTEND;TZID=UTC:20280816T160000
DTSTAMP:20260422T223829
CREATED:20251119T044148Z
LAST-MODIFIED:20251119T075856Z
UID:10003707-1850021100-1850054400@dallasfamilymedical.com
SUMMARY:Business Hours
DESCRIPTION:Lunch from Noon to 1:00 PM
URL:https://dallasfamilymedical.com/event/business-hours/2028-08-16/
END:VEVENT
BEGIN:VEVENT
DTSTART;TZID=UTC:20280817T064500
DTEND;TZID=UTC:20280817T160000
DTSTAMP:20260422T223829
CREATED:20251119T044148Z
LAST-MODIFIED:20251119T075856Z
UID:10003708-1850107500-1850140800@dallasfamilymedical.com
SUMMARY:Business Hours
DESCRIPTION:Lunch from Noon to 1:00 PM
URL:https://dallasfamilymedical.com/event/business-hours/2028-08-17/
END:VEVENT
BEGIN:VEVENT
DTSTART;TZID=UTC:20280818T064500
DTEND;TZID=UTC:20280818T120000
DTSTAMP:20260422T223829
CREATED:20251119T072316Z
LAST-MODIFIED:20251119T072316Z
UID:10004323-1850193900-1850212800@dallasfamilymedical.com
SUMMARY:Business Hours Friday
DESCRIPTION:Business Hours Friday
URL:https://dallasfamilymedical.com/event/business-hours-friday/2028-08-18/
END:VEVENT
BEGIN:VEVENT
DTSTART;TZID=UTC:20280821T064500
DTEND;TZID=UTC:20280821T160000
DTSTAMP:20260422T223829
CREATED:20251119T044148Z
LAST-MODIFIED:20251119T075856Z
UID:10003709-1850453100-1850486400@dallasfamilymedical.com
SUMMARY:Business Hours
DESCRIPTION:Lunch from Noon to 1:00 PM
URL:https://dallasfamilymedical.com/event/business-hours/2028-08-21/
END:VEVENT
BEGIN:VEVENT
DTSTART;TZID=UTC:20280822T064500
DTEND;TZID=UTC:20280822T160000
DTSTAMP:20260422T223830
CREATED:20251119T044148Z
LAST-MODIFIED:20251119T075856Z
UID:10003710-1850539500-1850572800@dallasfamilymedical.com
SUMMARY:Business Hours
DESCRIPTION:Lunch from Noon to 1:00 PM
URL:https://dallasfamilymedical.com/event/business-hours/2028-08-22/
END:VEVENT
BEGIN:VEVENT
DTSTART;TZID=UTC:20280823T064500
DTEND;TZID=UTC:20280823T160000
DTSTAMP:20260422T223830
CREATED:20251119T044148Z
LAST-MODIFIED:20251119T075856Z
UID:10003711-1850625900-1850659200@dallasfamilymedical.com
SUMMARY:Business Hours
DESCRIPTION:Lunch from Noon to 1:00 PM
URL:https://dallasfamilymedical.com/event/business-hours/2028-08-23/
END:VEVENT
BEGIN:VEVENT
DTSTART;TZID=UTC:20280824T064500
DTEND;TZID=UTC:20280824T160000
DTSTAMP:20260422T223830
CREATED:20251119T044148Z
LAST-MODIFIED:20251119T075856Z
UID:10003712-1850712300-1850745600@dallasfamilymedical.com
SUMMARY:Business Hours
DESCRIPTION:Lunch from Noon to 1:00 PM
URL:https://dallasfamilymedical.com/event/business-hours/2028-08-24/
END:VEVENT
BEGIN:VEVENT
DTSTART;TZID=UTC:20280825T064500
DTEND;TZID=UTC:20280825T120000
DTSTAMP:20260422T223830
CREATED:20251119T072316Z
LAST-MODIFIED:20251119T072316Z
UID:10004324-1850798700-1850817600@dallasfamilymedical.com
SUMMARY:Business Hours Friday
DESCRIPTION:Business Hours Friday
URL:https://dallasfamilymedical.com/event/business-hours-friday/2028-08-25/
END:VEVENT
BEGIN:VEVENT
DTSTART;TZID=UTC:20280828T064500
DTEND;TZID=UTC:20280828T160000
DTSTAMP:20260422T223830
CREATED:20251119T044148Z
LAST-MODIFIED:20251119T075856Z
UID:10003713-1851057900-1851091200@dallasfamilymedical.com
SUMMARY:Business Hours
DESCRIPTION:Lunch from Noon to 1:00 PM
URL:https://dallasfamilymedical.com/event/business-hours/2028-08-28/
END:VEVENT
BEGIN:VEVENT
DTSTART;TZID=UTC:20280829T064500
DTEND;TZID=UTC:20280829T160000
DTSTAMP:20260422T223830
CREATED:20251119T044148Z
LAST-MODIFIED:20251119T075856Z
UID:10003714-1851144300-1851177600@dallasfamilymedical.com
SUMMARY:Business Hours
DESCRIPTION:Lunch from Noon to 1:00 PM
URL:https://dallasfamilymedical.com/event/business-hours/2028-08-29/
END:VEVENT
BEGIN:VEVENT
DTSTART;TZID=UTC:20280830T064500
DTEND;TZID=UTC:20280830T160000
DTSTAMP:20260422T223830
CREATED:20251119T044148Z
LAST-MODIFIED:20251119T075856Z
UID:10003715-1851230700-1851264000@dallasfamilymedical.com
SUMMARY:Business Hours
DESCRIPTION:Lunch from Noon to 1:00 PM
URL:https://dallasfamilymedical.com/event/business-hours/2028-08-30/
END:VEVENT
BEGIN:VEVENT
DTSTART;TZID=UTC:20280831T064500
DTEND;TZID=UTC:20280831T160000
DTSTAMP:20260422T223830
CREATED:20251119T044148Z
LAST-MODIFIED:20251119T075856Z
UID:10003716-1851317100-1851350400@dallasfamilymedical.com
SUMMARY:Business Hours
DESCRIPTION:Lunch from Noon to 1:00 PM
URL:https://dallasfamilymedical.com/event/business-hours/2028-08-31/
END:VEVENT
BEGIN:VEVENT
DTSTART;TZID=UTC:20280901T064500
DTEND;TZID=UTC:20280901T120000
DTSTAMP:20260422T223830
CREATED:20251119T072316Z
LAST-MODIFIED:20251119T072316Z
UID:10004325-1851403500-1851422400@dallasfamilymedical.com
SUMMARY:Business Hours Friday
DESCRIPTION:Business Hours Friday
URL:https://dallasfamilymedical.com/event/business-hours-friday/2028-09-01/
END:VEVENT
BEGIN:VEVENT
DTSTART;TZID=UTC:20280904T064500
DTEND;TZID=UTC:20280904T160000
DTSTAMP:20260422T223830
CREATED:20251119T044148Z
LAST-MODIFIED:20251119T075856Z
UID:10003717-1851662700-1851696000@dallasfamilymedical.com
SUMMARY:Business Hours
DESCRIPTION:Lunch from Noon to 1:00 PM
URL:https://dallasfamilymedical.com/event/business-hours/2028-09-04/
END:VEVENT
BEGIN:VEVENT
DTSTART;TZID=UTC:20280905T064500
DTEND;TZID=UTC:20280905T160000
DTSTAMP:20260422T223830
CREATED:20251119T044148Z
LAST-MODIFIED:20251119T075856Z
UID:10003718-1851749100-1851782400@dallasfamilymedical.com
SUMMARY:Business Hours
DESCRIPTION:Lunch from Noon to 1:00 PM
URL:https://dallasfamilymedical.com/event/business-hours/2028-09-05/
END:VEVENT
BEGIN:VEVENT
DTSTART;TZID=UTC:20280906T064500
DTEND;TZID=UTC:20280906T160000
DTSTAMP:20260422T223830
CREATED:20251119T044148Z
LAST-MODIFIED:20251119T075856Z
UID:10003719-1851835500-1851868800@dallasfamilymedical.com
SUMMARY:Business Hours
DESCRIPTION:Lunch from Noon to 1:00 PM
URL:https://dallasfamilymedical.com/event/business-hours/2028-09-06/
END:VEVENT
BEGIN:VEVENT
DTSTART;TZID=UTC:20280907T064500
DTEND;TZID=UTC:20280907T160000
DTSTAMP:20260422T223830
CREATED:20251119T044148Z
LAST-MODIFIED:20251119T075856Z
UID:10003720-1851921900-1851955200@dallasfamilymedical.com
SUMMARY:Business Hours
DESCRIPTION:Lunch from Noon to 1:00 PM
URL:https://dallasfamilymedical.com/event/business-hours/2028-09-07/
END:VEVENT
BEGIN:VEVENT
DTSTART;TZID=UTC:20280908T064500
DTEND;TZID=UTC:20280908T120000
DTSTAMP:20260422T223830
CREATED:20251119T072316Z
LAST-MODIFIED:20251119T072316Z
UID:10004326-1852008300-1852027200@dallasfamilymedical.com
SUMMARY:Business Hours Friday
DESCRIPTION:Business Hours Friday
URL:https://dallasfamilymedical.com/event/business-hours-friday/2028-09-08/
END:VEVENT
BEGIN:VEVENT
DTSTART;TZID=UTC:20280911T064500
DTEND;TZID=UTC:20280911T160000
DTSTAMP:20260422T223830
CREATED:20251119T044148Z
LAST-MODIFIED:20251119T075856Z
UID:10003721-1852267500-1852300800@dallasfamilymedical.com
SUMMARY:Business Hours
DESCRIPTION:Lunch from Noon to 1:00 PM
URL:https://dallasfamilymedical.com/event/business-hours/2028-09-11/
END:VEVENT
BEGIN:VEVENT
DTSTART;TZID=UTC:20280912T064500
DTEND;TZID=UTC:20280912T160000
DTSTAMP:20260422T223830
CREATED:20251119T044148Z
LAST-MODIFIED:20251119T075856Z
UID:10003722-1852353900-1852387200@dallasfamilymedical.com
SUMMARY:Business Hours
DESCRIPTION:Lunch from Noon to 1:00 PM
URL:https://dallasfamilymedical.com/event/business-hours/2028-09-12/
END:VEVENT
BEGIN:VEVENT
DTSTART;TZID=UTC:20280913T064500
DTEND;TZID=UTC:20280913T160000
DTSTAMP:20260422T223830
CREATED:20251119T044148Z
LAST-MODIFIED:20251119T075856Z
UID:10003723-1852440300-1852473600@dallasfamilymedical.com
SUMMARY:Business Hours
DESCRIPTION:Lunch from Noon to 1:00 PM
URL:https://dallasfamilymedical.com/event/business-hours/2028-09-13/
END:VEVENT
BEGIN:VEVENT
DTSTART;TZID=UTC:20280914T064500
DTEND;TZID=UTC:20280914T160000
DTSTAMP:20260422T223830
CREATED:20251119T044148Z
LAST-MODIFIED:20251119T075856Z
UID:10003724-1852526700-1852560000@dallasfamilymedical.com
SUMMARY:Business Hours
DESCRIPTION:Lunch from Noon to 1:00 PM
URL:https://dallasfamilymedical.com/event/business-hours/2028-09-14/
END:VEVENT
BEGIN:VEVENT
DTSTART;TZID=UTC:20280915T064500
DTEND;TZID=UTC:20280915T120000
DTSTAMP:20260422T223830
CREATED:20251119T072316Z
LAST-MODIFIED:20251119T072316Z
UID:10004327-1852613100-1852632000@dallasfamilymedical.com
SUMMARY:Business Hours Friday
DESCRIPTION:Business Hours Friday
URL:https://dallasfamilymedical.com/event/business-hours-friday/2028-09-15/
END:VEVENT
BEGIN:VEVENT
DTSTART;TZID=UTC:20280918T064500
DTEND;TZID=UTC:20280918T160000
DTSTAMP:20260422T223830
CREATED:20251119T044148Z
LAST-MODIFIED:20251119T075856Z
UID:10003725-1852872300-1852905600@dallasfamilymedical.com
SUMMARY:Business Hours
DESCRIPTION:Lunch from Noon to 1:00 PM
URL:https://dallasfamilymedical.com/event/business-hours/2028-09-18/
END:VEVENT
END:VCALENDAR