BEGIN:VCALENDAR
VERSION:2.0
PRODID:-//Dallas Family Medical &amp; Aesthetics - ECPv6.15.12//NONSGML v1.0//EN
CALSCALE:GREGORIAN
METHOD:PUBLISH
X-WR-CALNAME:Dallas Family Medical &amp; Aesthetics
X-ORIGINAL-URL:https://dallasfamilymedical.com
X-WR-CALDESC:Events for Dallas Family Medical &amp; Aesthetics
REFRESH-INTERVAL;VALUE=DURATION:PT1H
X-Robots-Tag:noindex
X-PUBLISHED-TTL:PT1H
BEGIN:VTIMEZONE
TZID:UTC
BEGIN:STANDARD
TZOFFSETFROM:+0000
TZOFFSETTO:+0000
TZNAME:UTC
DTSTART:20280101T000000
END:STANDARD
END:VTIMEZONE
BEGIN:VEVENT
DTSTART;TZID=UTC:20290213T064500
DTEND;TZID=UTC:20290213T160000
DTSTAMP:20260422T221841
CREATED:20251119T044148Z
LAST-MODIFIED:20251119T075856Z
UID:10003810-1865659500-1865692800@dallasfamilymedical.com
SUMMARY:Business Hours
DESCRIPTION:Lunch from Noon to 1:00 PM
URL:https://dallasfamilymedical.com/event/business-hours/2029-02-13/
END:VEVENT
BEGIN:VEVENT
DTSTART;TZID=UTC:20290214T064500
DTEND;TZID=UTC:20290214T160000
DTSTAMP:20260422T221841
CREATED:20251119T044148Z
LAST-MODIFIED:20251119T075856Z
UID:10003811-1865745900-1865779200@dallasfamilymedical.com
SUMMARY:Business Hours
DESCRIPTION:Lunch from Noon to 1:00 PM
URL:https://dallasfamilymedical.com/event/business-hours/2029-02-14/
END:VEVENT
BEGIN:VEVENT
DTSTART;TZID=UTC:20290215T064500
DTEND;TZID=UTC:20290215T160000
DTSTAMP:20260422T221841
CREATED:20251119T044148Z
LAST-MODIFIED:20251119T075856Z
UID:10003812-1865832300-1865865600@dallasfamilymedical.com
SUMMARY:Business Hours
DESCRIPTION:Lunch from Noon to 1:00 PM
URL:https://dallasfamilymedical.com/event/business-hours/2029-02-15/
END:VEVENT
BEGIN:VEVENT
DTSTART;TZID=UTC:20290216T064500
DTEND;TZID=UTC:20290216T120000
DTSTAMP:20260422T221841
CREATED:20251119T072316Z
LAST-MODIFIED:20251119T072316Z
UID:10004349-1865918700-1865937600@dallasfamilymedical.com
SUMMARY:Business Hours Friday
DESCRIPTION:Business Hours Friday
URL:https://dallasfamilymedical.com/event/business-hours-friday/2029-02-16/
END:VEVENT
BEGIN:VEVENT
DTSTART;TZID=UTC:20290219T064500
DTEND;TZID=UTC:20290219T160000
DTSTAMP:20260422T221841
CREATED:20251119T044148Z
LAST-MODIFIED:20251119T075856Z
UID:10003813-1866177900-1866211200@dallasfamilymedical.com
SUMMARY:Business Hours
DESCRIPTION:Lunch from Noon to 1:00 PM
URL:https://dallasfamilymedical.com/event/business-hours/2029-02-19/
END:VEVENT
BEGIN:VEVENT
DTSTART;TZID=UTC:20290220T064500
DTEND;TZID=UTC:20290220T160000
DTSTAMP:20260422T221841
CREATED:20251119T044148Z
LAST-MODIFIED:20251119T075856Z
UID:10003814-1866264300-1866297600@dallasfamilymedical.com
SUMMARY:Business Hours
DESCRIPTION:Lunch from Noon to 1:00 PM
URL:https://dallasfamilymedical.com/event/business-hours/2029-02-20/
END:VEVENT
BEGIN:VEVENT
DTSTART;TZID=UTC:20290221T064500
DTEND;TZID=UTC:20290221T160000
DTSTAMP:20260422T221841
CREATED:20251119T044148Z
LAST-MODIFIED:20251119T075856Z
UID:10003815-1866350700-1866384000@dallasfamilymedical.com
SUMMARY:Business Hours
DESCRIPTION:Lunch from Noon to 1:00 PM
URL:https://dallasfamilymedical.com/event/business-hours/2029-02-21/
END:VEVENT
BEGIN:VEVENT
DTSTART;TZID=UTC:20290222T064500
DTEND;TZID=UTC:20290222T160000
DTSTAMP:20260422T221841
CREATED:20251119T044148Z
LAST-MODIFIED:20251119T075856Z
UID:10003816-1866437100-1866470400@dallasfamilymedical.com
SUMMARY:Business Hours
DESCRIPTION:Lunch from Noon to 1:00 PM
URL:https://dallasfamilymedical.com/event/business-hours/2029-02-22/
END:VEVENT
BEGIN:VEVENT
DTSTART;TZID=UTC:20290223T064500
DTEND;TZID=UTC:20290223T120000
DTSTAMP:20260422T221841
CREATED:20251119T072316Z
LAST-MODIFIED:20251119T072316Z
UID:10004350-1866523500-1866542400@dallasfamilymedical.com
SUMMARY:Business Hours Friday
DESCRIPTION:Business Hours Friday
URL:https://dallasfamilymedical.com/event/business-hours-friday/2029-02-23/
END:VEVENT
BEGIN:VEVENT
DTSTART;TZID=UTC:20290226T064500
DTEND;TZID=UTC:20290226T160000
DTSTAMP:20260422T221841
CREATED:20251119T044148Z
LAST-MODIFIED:20251119T075856Z
UID:10003817-1866782700-1866816000@dallasfamilymedical.com
SUMMARY:Business Hours
DESCRIPTION:Lunch from Noon to 1:00 PM
URL:https://dallasfamilymedical.com/event/business-hours/2029-02-26/
END:VEVENT
BEGIN:VEVENT
DTSTART;TZID=UTC:20290227T064500
DTEND;TZID=UTC:20290227T160000
DTSTAMP:20260422T221841
CREATED:20251119T044148Z
LAST-MODIFIED:20251119T075856Z
UID:10003818-1866869100-1866902400@dallasfamilymedical.com
SUMMARY:Business Hours
DESCRIPTION:Lunch from Noon to 1:00 PM
URL:https://dallasfamilymedical.com/event/business-hours/2029-02-27/
END:VEVENT
BEGIN:VEVENT
DTSTART;TZID=UTC:20290228T064500
DTEND;TZID=UTC:20290228T160000
DTSTAMP:20260422T221841
CREATED:20251119T044148Z
LAST-MODIFIED:20251119T075856Z
UID:10003819-1866955500-1866988800@dallasfamilymedical.com
SUMMARY:Business Hours
DESCRIPTION:Lunch from Noon to 1:00 PM
URL:https://dallasfamilymedical.com/event/business-hours/2029-02-28/
END:VEVENT
BEGIN:VEVENT
DTSTART;TZID=UTC:20290301T064500
DTEND;TZID=UTC:20290301T160000
DTSTAMP:20260422T221841
CREATED:20251119T044148Z
LAST-MODIFIED:20251119T075856Z
UID:10003820-1867041900-1867075200@dallasfamilymedical.com
SUMMARY:Business Hours
DESCRIPTION:Lunch from Noon to 1:00 PM
URL:https://dallasfamilymedical.com/event/business-hours/2029-03-01/
END:VEVENT
BEGIN:VEVENT
DTSTART;TZID=UTC:20290302T064500
DTEND;TZID=UTC:20290302T120000
DTSTAMP:20260422T221841
CREATED:20251119T072316Z
LAST-MODIFIED:20251119T072316Z
UID:10004351-1867128300-1867147200@dallasfamilymedical.com
SUMMARY:Business Hours Friday
DESCRIPTION:Business Hours Friday
URL:https://dallasfamilymedical.com/event/business-hours-friday/2029-03-02/
END:VEVENT
BEGIN:VEVENT
DTSTART;TZID=UTC:20290305T064500
DTEND;TZID=UTC:20290305T160000
DTSTAMP:20260422T221841
CREATED:20251119T044148Z
LAST-MODIFIED:20251119T075856Z
UID:10003821-1867387500-1867420800@dallasfamilymedical.com
SUMMARY:Business Hours
DESCRIPTION:Lunch from Noon to 1:00 PM
URL:https://dallasfamilymedical.com/event/business-hours/2029-03-05/
END:VEVENT
BEGIN:VEVENT
DTSTART;TZID=UTC:20290306T064500
DTEND;TZID=UTC:20290306T160000
DTSTAMP:20260422T221841
CREATED:20251119T044148Z
LAST-MODIFIED:20251119T075856Z
UID:10003822-1867473900-1867507200@dallasfamilymedical.com
SUMMARY:Business Hours
DESCRIPTION:Lunch from Noon to 1:00 PM
URL:https://dallasfamilymedical.com/event/business-hours/2029-03-06/
END:VEVENT
BEGIN:VEVENT
DTSTART;TZID=UTC:20290307T064500
DTEND;TZID=UTC:20290307T160000
DTSTAMP:20260422T221841
CREATED:20251119T044148Z
LAST-MODIFIED:20251119T075856Z
UID:10003823-1867560300-1867593600@dallasfamilymedical.com
SUMMARY:Business Hours
DESCRIPTION:Lunch from Noon to 1:00 PM
URL:https://dallasfamilymedical.com/event/business-hours/2029-03-07/
END:VEVENT
BEGIN:VEVENT
DTSTART;TZID=UTC:20290308T064500
DTEND;TZID=UTC:20290308T160000
DTSTAMP:20260422T221841
CREATED:20251119T044148Z
LAST-MODIFIED:20251119T075856Z
UID:10003824-1867646700-1867680000@dallasfamilymedical.com
SUMMARY:Business Hours
DESCRIPTION:Lunch from Noon to 1:00 PM
URL:https://dallasfamilymedical.com/event/business-hours/2029-03-08/
END:VEVENT
BEGIN:VEVENT
DTSTART;TZID=UTC:20290309T064500
DTEND;TZID=UTC:20290309T120000
DTSTAMP:20260422T221841
CREATED:20251119T072316Z
LAST-MODIFIED:20251119T072316Z
UID:10004352-1867733100-1867752000@dallasfamilymedical.com
SUMMARY:Business Hours Friday
DESCRIPTION:Business Hours Friday
URL:https://dallasfamilymedical.com/event/business-hours-friday/2029-03-09/
END:VEVENT
BEGIN:VEVENT
DTSTART;TZID=UTC:20290312T064500
DTEND;TZID=UTC:20290312T160000
DTSTAMP:20260422T221841
CREATED:20251119T044148Z
LAST-MODIFIED:20251119T075856Z
UID:10003825-1867992300-1868025600@dallasfamilymedical.com
SUMMARY:Business Hours
DESCRIPTION:Lunch from Noon to 1:00 PM
URL:https://dallasfamilymedical.com/event/business-hours/2029-03-12/
END:VEVENT
BEGIN:VEVENT
DTSTART;TZID=UTC:20290313T064500
DTEND;TZID=UTC:20290313T160000
DTSTAMP:20260422T221841
CREATED:20251119T044148Z
LAST-MODIFIED:20251119T075856Z
UID:10003826-1868078700-1868112000@dallasfamilymedical.com
SUMMARY:Business Hours
DESCRIPTION:Lunch from Noon to 1:00 PM
URL:https://dallasfamilymedical.com/event/business-hours/2029-03-13/
END:VEVENT
BEGIN:VEVENT
DTSTART;TZID=UTC:20290314T064500
DTEND;TZID=UTC:20290314T160000
DTSTAMP:20260422T221841
CREATED:20251119T044148Z
LAST-MODIFIED:20251119T075856Z
UID:10003827-1868165100-1868198400@dallasfamilymedical.com
SUMMARY:Business Hours
DESCRIPTION:Lunch from Noon to 1:00 PM
URL:https://dallasfamilymedical.com/event/business-hours/2029-03-14/
END:VEVENT
BEGIN:VEVENT
DTSTART;TZID=UTC:20290315T064500
DTEND;TZID=UTC:20290315T160000
DTSTAMP:20260422T221841
CREATED:20251119T044148Z
LAST-MODIFIED:20251119T075856Z
UID:10003828-1868251500-1868284800@dallasfamilymedical.com
SUMMARY:Business Hours
DESCRIPTION:Lunch from Noon to 1:00 PM
URL:https://dallasfamilymedical.com/event/business-hours/2029-03-15/
END:VEVENT
BEGIN:VEVENT
DTSTART;TZID=UTC:20290316T064500
DTEND;TZID=UTC:20290316T120000
DTSTAMP:20260422T221841
CREATED:20251119T072316Z
LAST-MODIFIED:20251119T072316Z
UID:10004353-1868337900-1868356800@dallasfamilymedical.com
SUMMARY:Business Hours Friday
DESCRIPTION:Business Hours Friday
URL:https://dallasfamilymedical.com/event/business-hours-friday/2029-03-16/
END:VEVENT
BEGIN:VEVENT
DTSTART;TZID=UTC:20290319T064500
DTEND;TZID=UTC:20290319T160000
DTSTAMP:20260422T221841
CREATED:20251119T044148Z
LAST-MODIFIED:20251119T075856Z
UID:10003829-1868597100-1868630400@dallasfamilymedical.com
SUMMARY:Business Hours
DESCRIPTION:Lunch from Noon to 1:00 PM
URL:https://dallasfamilymedical.com/event/business-hours/2029-03-19/
END:VEVENT
BEGIN:VEVENT
DTSTART;TZID=UTC:20290320T064500
DTEND;TZID=UTC:20290320T160000
DTSTAMP:20260422T221841
CREATED:20251119T044148Z
LAST-MODIFIED:20251119T075856Z
UID:10003830-1868683500-1868716800@dallasfamilymedical.com
SUMMARY:Business Hours
DESCRIPTION:Lunch from Noon to 1:00 PM
URL:https://dallasfamilymedical.com/event/business-hours/2029-03-20/
END:VEVENT
BEGIN:VEVENT
DTSTART;TZID=UTC:20290321T064500
DTEND;TZID=UTC:20290321T160000
DTSTAMP:20260422T221842
CREATED:20251119T044148Z
LAST-MODIFIED:20251119T075856Z
UID:10003831-1868769900-1868803200@dallasfamilymedical.com
SUMMARY:Business Hours
DESCRIPTION:Lunch from Noon to 1:00 PM
URL:https://dallasfamilymedical.com/event/business-hours/2029-03-21/
END:VEVENT
BEGIN:VEVENT
DTSTART;TZID=UTC:20290322T064500
DTEND;TZID=UTC:20290322T160000
DTSTAMP:20260422T221842
CREATED:20251119T044148Z
LAST-MODIFIED:20251119T075856Z
UID:10003832-1868856300-1868889600@dallasfamilymedical.com
SUMMARY:Business Hours
DESCRIPTION:Lunch from Noon to 1:00 PM
URL:https://dallasfamilymedical.com/event/business-hours/2029-03-22/
END:VEVENT
BEGIN:VEVENT
DTSTART;TZID=UTC:20290323T064500
DTEND;TZID=UTC:20290323T120000
DTSTAMP:20260422T221842
CREATED:20251119T072316Z
LAST-MODIFIED:20251119T072316Z
UID:10004354-1868942700-1868961600@dallasfamilymedical.com
SUMMARY:Business Hours Friday
DESCRIPTION:Business Hours Friday
URL:https://dallasfamilymedical.com/event/business-hours-friday/2029-03-23/
END:VEVENT
BEGIN:VEVENT
DTSTART;TZID=UTC:20290326T064500
DTEND;TZID=UTC:20290326T160000
DTSTAMP:20260422T221842
CREATED:20251119T044148Z
LAST-MODIFIED:20251119T075856Z
UID:10003833-1869201900-1869235200@dallasfamilymedical.com
SUMMARY:Business Hours
DESCRIPTION:Lunch from Noon to 1:00 PM
URL:https://dallasfamilymedical.com/event/business-hours/2029-03-26/
END:VEVENT
END:VCALENDAR