BEGIN:VCALENDAR
VERSION:2.0
PRODID:-//Dallas Family Medical &amp; Aesthetics - ECPv6.15.12//NONSGML v1.0//EN
CALSCALE:GREGORIAN
METHOD:PUBLISH
X-ORIGINAL-URL:https://dallasfamilymedical.com
X-WR-CALDESC:Events for Dallas Family Medical &amp; Aesthetics
REFRESH-INTERVAL;VALUE=DURATION:PT1H
X-Robots-Tag:noindex
X-PUBLISHED-TTL:PT1H
BEGIN:VTIMEZONE
TZID:UTC
BEGIN:STANDARD
TZOFFSETFROM:+0000
TZOFFSETTO:+0000
TZNAME:UTC
DTSTART:20270101T000000
END:STANDARD
END:VTIMEZONE
BEGIN:VEVENT
DTSTART;TZID=UTC:20281101T064500
DTEND;TZID=UTC:20281101T160000
DTSTAMP:20260421T193939
CREATED:20251119T044148Z
LAST-MODIFIED:20251119T075856Z
UID:10003751-1856673900-1856707200@dallasfamilymedical.com
SUMMARY:Business Hours
DESCRIPTION:Lunch from Noon to 1:00 PM
URL:https://dallasfamilymedical.com/event/business-hours/2028-11-01/
END:VEVENT
BEGIN:VEVENT
DTSTART;TZID=UTC:20281102T064500
DTEND;TZID=UTC:20281102T160000
DTSTAMP:20260421T193939
CREATED:20251119T044148Z
LAST-MODIFIED:20251119T075856Z
UID:10003752-1856760300-1856793600@dallasfamilymedical.com
SUMMARY:Business Hours
DESCRIPTION:Lunch from Noon to 1:00 PM
URL:https://dallasfamilymedical.com/event/business-hours/2028-11-02/
END:VEVENT
BEGIN:VEVENT
DTSTART;TZID=UTC:20281103T064500
DTEND;TZID=UTC:20281103T120000
DTSTAMP:20260421T193939
CREATED:20251119T072316Z
LAST-MODIFIED:20251119T072316Z
UID:10004334-1856846700-1856865600@dallasfamilymedical.com
SUMMARY:Business Hours Friday
DESCRIPTION:Business Hours Friday
URL:https://dallasfamilymedical.com/event/business-hours-friday/2028-11-03/
END:VEVENT
BEGIN:VEVENT
DTSTART;TZID=UTC:20281106T064500
DTEND;TZID=UTC:20281106T160000
DTSTAMP:20260421T193939
CREATED:20251119T044148Z
LAST-MODIFIED:20251119T075856Z
UID:10003753-1857105900-1857139200@dallasfamilymedical.com
SUMMARY:Business Hours
DESCRIPTION:Lunch from Noon to 1:00 PM
URL:https://dallasfamilymedical.com/event/business-hours/2028-11-06/
END:VEVENT
BEGIN:VEVENT
DTSTART;TZID=UTC:20281107T064500
DTEND;TZID=UTC:20281107T160000
DTSTAMP:20260421T193939
CREATED:20251119T044148Z
LAST-MODIFIED:20251119T075856Z
UID:10003754-1857192300-1857225600@dallasfamilymedical.com
SUMMARY:Business Hours
DESCRIPTION:Lunch from Noon to 1:00 PM
URL:https://dallasfamilymedical.com/event/business-hours/2028-11-07/
END:VEVENT
BEGIN:VEVENT
DTSTART;TZID=UTC:20281108T064500
DTEND;TZID=UTC:20281108T160000
DTSTAMP:20260421T193939
CREATED:20251119T044148Z
LAST-MODIFIED:20251119T075856Z
UID:10003755-1857278700-1857312000@dallasfamilymedical.com
SUMMARY:Business Hours
DESCRIPTION:Lunch from Noon to 1:00 PM
URL:https://dallasfamilymedical.com/event/business-hours/2028-11-08/
END:VEVENT
BEGIN:VEVENT
DTSTART;TZID=UTC:20281109T064500
DTEND;TZID=UTC:20281109T160000
DTSTAMP:20260421T193939
CREATED:20251119T044148Z
LAST-MODIFIED:20251119T075856Z
UID:10003756-1857365100-1857398400@dallasfamilymedical.com
SUMMARY:Business Hours
DESCRIPTION:Lunch from Noon to 1:00 PM
URL:https://dallasfamilymedical.com/event/business-hours/2028-11-09/
END:VEVENT
BEGIN:VEVENT
DTSTART;TZID=UTC:20281110T064500
DTEND;TZID=UTC:20281110T120000
DTSTAMP:20260421T193939
CREATED:20251119T072316Z
LAST-MODIFIED:20251119T072316Z
UID:10004335-1857451500-1857470400@dallasfamilymedical.com
SUMMARY:Business Hours Friday
DESCRIPTION:Business Hours Friday
URL:https://dallasfamilymedical.com/event/business-hours-friday/2028-11-10/
END:VEVENT
BEGIN:VEVENT
DTSTART;TZID=UTC:20281113T064500
DTEND;TZID=UTC:20281113T160000
DTSTAMP:20260421T193939
CREATED:20251119T044148Z
LAST-MODIFIED:20251119T075856Z
UID:10003757-1857710700-1857744000@dallasfamilymedical.com
SUMMARY:Business Hours
DESCRIPTION:Lunch from Noon to 1:00 PM
URL:https://dallasfamilymedical.com/event/business-hours/2028-11-13/
END:VEVENT
BEGIN:VEVENT
DTSTART;TZID=UTC:20281114T064500
DTEND;TZID=UTC:20281114T160000
DTSTAMP:20260421T193939
CREATED:20251119T044148Z
LAST-MODIFIED:20251119T075856Z
UID:10003758-1857797100-1857830400@dallasfamilymedical.com
SUMMARY:Business Hours
DESCRIPTION:Lunch from Noon to 1:00 PM
URL:https://dallasfamilymedical.com/event/business-hours/2028-11-14/
END:VEVENT
BEGIN:VEVENT
DTSTART;TZID=UTC:20281115T064500
DTEND;TZID=UTC:20281115T160000
DTSTAMP:20260421T193939
CREATED:20251119T044148Z
LAST-MODIFIED:20251119T075856Z
UID:10003759-1857883500-1857916800@dallasfamilymedical.com
SUMMARY:Business Hours
DESCRIPTION:Lunch from Noon to 1:00 PM
URL:https://dallasfamilymedical.com/event/business-hours/2028-11-15/
END:VEVENT
BEGIN:VEVENT
DTSTART;TZID=UTC:20281116T064500
DTEND;TZID=UTC:20281116T160000
DTSTAMP:20260421T193939
CREATED:20251119T044148Z
LAST-MODIFIED:20251119T075856Z
UID:10003760-1857969900-1858003200@dallasfamilymedical.com
SUMMARY:Business Hours
DESCRIPTION:Lunch from Noon to 1:00 PM
URL:https://dallasfamilymedical.com/event/business-hours/2028-11-16/
END:VEVENT
BEGIN:VEVENT
DTSTART;TZID=UTC:20281117T064500
DTEND;TZID=UTC:20281117T120000
DTSTAMP:20260421T193939
CREATED:20251119T072316Z
LAST-MODIFIED:20251119T072316Z
UID:10004336-1858056300-1858075200@dallasfamilymedical.com
SUMMARY:Business Hours Friday
DESCRIPTION:Business Hours Friday
URL:https://dallasfamilymedical.com/event/business-hours-friday/2028-11-17/
END:VEVENT
BEGIN:VEVENT
DTSTART;TZID=UTC:20281120T064500
DTEND;TZID=UTC:20281120T160000
DTSTAMP:20260421T193939
CREATED:20251119T044148Z
LAST-MODIFIED:20251119T075856Z
UID:10003761-1858315500-1858348800@dallasfamilymedical.com
SUMMARY:Business Hours
DESCRIPTION:Lunch from Noon to 1:00 PM
URL:https://dallasfamilymedical.com/event/business-hours/2028-11-20/
END:VEVENT
BEGIN:VEVENT
DTSTART;TZID=UTC:20281121T064500
DTEND;TZID=UTC:20281121T160000
DTSTAMP:20260421T193939
CREATED:20251119T044148Z
LAST-MODIFIED:20251119T075856Z
UID:10003762-1858401900-1858435200@dallasfamilymedical.com
SUMMARY:Business Hours
DESCRIPTION:Lunch from Noon to 1:00 PM
URL:https://dallasfamilymedical.com/event/business-hours/2028-11-21/
END:VEVENT
BEGIN:VEVENT
DTSTART;TZID=UTC:20281122T064500
DTEND;TZID=UTC:20281122T160000
DTSTAMP:20260421T193939
CREATED:20251119T044148Z
LAST-MODIFIED:20251119T075856Z
UID:10003763-1858488300-1858521600@dallasfamilymedical.com
SUMMARY:Business Hours
DESCRIPTION:Lunch from Noon to 1:00 PM
URL:https://dallasfamilymedical.com/event/business-hours/2028-11-22/
END:VEVENT
BEGIN:VEVENT
DTSTART;TZID=UTC:20281123T064500
DTEND;TZID=UTC:20281123T160000
DTSTAMP:20260421T193939
CREATED:20251119T044148Z
LAST-MODIFIED:20251119T075856Z
UID:10003764-1858574700-1858608000@dallasfamilymedical.com
SUMMARY:Business Hours
DESCRIPTION:Lunch from Noon to 1:00 PM
URL:https://dallasfamilymedical.com/event/business-hours/2028-11-23/
END:VEVENT
BEGIN:VEVENT
DTSTART;TZID=UTC:20281124T064500
DTEND;TZID=UTC:20281124T120000
DTSTAMP:20260421T193939
CREATED:20251119T072316Z
LAST-MODIFIED:20251119T072316Z
UID:10004337-1858661100-1858680000@dallasfamilymedical.com
SUMMARY:Business Hours Friday
DESCRIPTION:Business Hours Friday
URL:https://dallasfamilymedical.com/event/business-hours-friday/2028-11-24/
END:VEVENT
BEGIN:VEVENT
DTSTART;TZID=UTC:20281127T064500
DTEND;TZID=UTC:20281127T160000
DTSTAMP:20260421T193939
CREATED:20251119T044148Z
LAST-MODIFIED:20251119T075856Z
UID:10003765-1858920300-1858953600@dallasfamilymedical.com
SUMMARY:Business Hours
DESCRIPTION:Lunch from Noon to 1:00 PM
URL:https://dallasfamilymedical.com/event/business-hours/2028-11-27/
END:VEVENT
BEGIN:VEVENT
DTSTART;TZID=UTC:20281128T064500
DTEND;TZID=UTC:20281128T160000
DTSTAMP:20260421T193939
CREATED:20251119T044148Z
LAST-MODIFIED:20251119T075856Z
UID:10003766-1859006700-1859040000@dallasfamilymedical.com
SUMMARY:Business Hours
DESCRIPTION:Lunch from Noon to 1:00 PM
URL:https://dallasfamilymedical.com/event/business-hours/2028-11-28/
END:VEVENT
BEGIN:VEVENT
DTSTART;TZID=UTC:20281129T064500
DTEND;TZID=UTC:20281129T160000
DTSTAMP:20260421T193939
CREATED:20251119T044148Z
LAST-MODIFIED:20251119T075856Z
UID:10003767-1859093100-1859126400@dallasfamilymedical.com
SUMMARY:Business Hours
DESCRIPTION:Lunch from Noon to 1:00 PM
URL:https://dallasfamilymedical.com/event/business-hours/2028-11-29/
END:VEVENT
BEGIN:VEVENT
DTSTART;TZID=UTC:20281130T064500
DTEND;TZID=UTC:20281130T160000
DTSTAMP:20260421T193939
CREATED:20251119T044148Z
LAST-MODIFIED:20251119T075856Z
UID:10003768-1859179500-1859212800@dallasfamilymedical.com
SUMMARY:Business Hours
DESCRIPTION:Lunch from Noon to 1:00 PM
URL:https://dallasfamilymedical.com/event/business-hours/2028-11-30/
END:VEVENT
BEGIN:VEVENT
DTSTART;TZID=UTC:20281201T064500
DTEND;TZID=UTC:20281201T120000
DTSTAMP:20260421T193939
CREATED:20251119T072316Z
LAST-MODIFIED:20251119T072316Z
UID:10004338-1859265900-1859284800@dallasfamilymedical.com
SUMMARY:Business Hours Friday
DESCRIPTION:Business Hours Friday
URL:https://dallasfamilymedical.com/event/business-hours-friday/2028-12-01/
END:VEVENT
BEGIN:VEVENT
DTSTART;TZID=UTC:20281204T064500
DTEND;TZID=UTC:20281204T160000
DTSTAMP:20260421T193939
CREATED:20251119T044148Z
LAST-MODIFIED:20251119T075856Z
UID:10003769-1859525100-1859558400@dallasfamilymedical.com
SUMMARY:Business Hours
DESCRIPTION:Lunch from Noon to 1:00 PM
URL:https://dallasfamilymedical.com/event/business-hours/2028-12-04/
END:VEVENT
BEGIN:VEVENT
DTSTART;TZID=UTC:20281205T064500
DTEND;TZID=UTC:20281205T160000
DTSTAMP:20260421T193939
CREATED:20251119T044148Z
LAST-MODIFIED:20251119T075856Z
UID:10003770-1859611500-1859644800@dallasfamilymedical.com
SUMMARY:Business Hours
DESCRIPTION:Lunch from Noon to 1:00 PM
URL:https://dallasfamilymedical.com/event/business-hours/2028-12-05/
END:VEVENT
BEGIN:VEVENT
DTSTART;TZID=UTC:20281206T064500
DTEND;TZID=UTC:20281206T160000
DTSTAMP:20260421T193939
CREATED:20251119T044148Z
LAST-MODIFIED:20251119T075856Z
UID:10003771-1859697900-1859731200@dallasfamilymedical.com
SUMMARY:Business Hours
DESCRIPTION:Lunch from Noon to 1:00 PM
URL:https://dallasfamilymedical.com/event/business-hours/2028-12-06/
END:VEVENT
BEGIN:VEVENT
DTSTART;TZID=UTC:20281207T064500
DTEND;TZID=UTC:20281207T160000
DTSTAMP:20260421T193939
CREATED:20251119T044148Z
LAST-MODIFIED:20251119T075856Z
UID:10003772-1859784300-1859817600@dallasfamilymedical.com
SUMMARY:Business Hours
DESCRIPTION:Lunch from Noon to 1:00 PM
URL:https://dallasfamilymedical.com/event/business-hours/2028-12-07/
END:VEVENT
BEGIN:VEVENT
DTSTART;TZID=UTC:20281208T064500
DTEND;TZID=UTC:20281208T120000
DTSTAMP:20260421T193939
CREATED:20251119T072316Z
LAST-MODIFIED:20251119T072316Z
UID:10004339-1859870700-1859889600@dallasfamilymedical.com
SUMMARY:Business Hours Friday
DESCRIPTION:Business Hours Friday
URL:https://dallasfamilymedical.com/event/business-hours-friday/2028-12-08/
END:VEVENT
BEGIN:VEVENT
DTSTART;TZID=UTC:20281211T064500
DTEND;TZID=UTC:20281211T160000
DTSTAMP:20260421T193939
CREATED:20251119T044148Z
LAST-MODIFIED:20251119T075856Z
UID:10003773-1860129900-1860163200@dallasfamilymedical.com
SUMMARY:Business Hours
DESCRIPTION:Lunch from Noon to 1:00 PM
URL:https://dallasfamilymedical.com/event/business-hours/2028-12-11/
END:VEVENT
BEGIN:VEVENT
DTSTART;TZID=UTC:20281212T064500
DTEND;TZID=UTC:20281212T160000
DTSTAMP:20260421T193939
CREATED:20251119T044148Z
LAST-MODIFIED:20251119T075856Z
UID:10003774-1860216300-1860249600@dallasfamilymedical.com
SUMMARY:Business Hours
DESCRIPTION:Lunch from Noon to 1:00 PM
URL:https://dallasfamilymedical.com/event/business-hours/2028-12-12/
END:VEVENT
END:VCALENDAR