BEGIN:VCALENDAR
VERSION:2.0
PRODID:-//Dallas Family Medical &amp; Aesthetics - ECPv6.15.12//NONSGML v1.0//EN
CALSCALE:GREGORIAN
METHOD:PUBLISH
X-ORIGINAL-URL:https://dallasfamilymedical.com
X-WR-CALDESC:Events for Dallas Family Medical &amp; Aesthetics
REFRESH-INTERVAL;VALUE=DURATION:PT1H
X-Robots-Tag:noindex
X-PUBLISHED-TTL:PT1H
BEGIN:VTIMEZONE
TZID:UTC
BEGIN:STANDARD
TZOFFSETFROM:+0000
TZOFFSETTO:+0000
TZNAME:UTC
DTSTART:20270101T000000
END:STANDARD
END:VTIMEZONE
BEGIN:VEVENT
DTSTART;TZID=UTC:20281009T064500
DTEND;TZID=UTC:20281009T160000
DTSTAMP:20260421T164630
CREATED:20251119T044148Z
LAST-MODIFIED:20251119T075856Z
UID:10003737-1854686700-1854720000@dallasfamilymedical.com
SUMMARY:Business Hours
DESCRIPTION:Lunch from Noon to 1:00 PM
URL:https://dallasfamilymedical.com/event/business-hours/2028-10-09/
END:VEVENT
BEGIN:VEVENT
DTSTART;TZID=UTC:20281010T064500
DTEND;TZID=UTC:20281010T160000
DTSTAMP:20260421T164631
CREATED:20251119T044148Z
LAST-MODIFIED:20251119T075856Z
UID:10003738-1854773100-1854806400@dallasfamilymedical.com
SUMMARY:Business Hours
DESCRIPTION:Lunch from Noon to 1:00 PM
URL:https://dallasfamilymedical.com/event/business-hours/2028-10-10/
END:VEVENT
BEGIN:VEVENT
DTSTART;TZID=UTC:20281011T064500
DTEND;TZID=UTC:20281011T160000
DTSTAMP:20260421T164631
CREATED:20251119T044148Z
LAST-MODIFIED:20251119T075856Z
UID:10003739-1854859500-1854892800@dallasfamilymedical.com
SUMMARY:Business Hours
DESCRIPTION:Lunch from Noon to 1:00 PM
URL:https://dallasfamilymedical.com/event/business-hours/2028-10-11/
END:VEVENT
BEGIN:VEVENT
DTSTART;TZID=UTC:20281012T064500
DTEND;TZID=UTC:20281012T160000
DTSTAMP:20260421T164631
CREATED:20251119T044148Z
LAST-MODIFIED:20251119T075856Z
UID:10003740-1854945900-1854979200@dallasfamilymedical.com
SUMMARY:Business Hours
DESCRIPTION:Lunch from Noon to 1:00 PM
URL:https://dallasfamilymedical.com/event/business-hours/2028-10-12/
END:VEVENT
BEGIN:VEVENT
DTSTART;TZID=UTC:20281013T064500
DTEND;TZID=UTC:20281013T120000
DTSTAMP:20260421T164631
CREATED:20251119T072316Z
LAST-MODIFIED:20251119T072316Z
UID:10004331-1855032300-1855051200@dallasfamilymedical.com
SUMMARY:Business Hours Friday
DESCRIPTION:Business Hours Friday
URL:https://dallasfamilymedical.com/event/business-hours-friday/2028-10-13/
END:VEVENT
BEGIN:VEVENT
DTSTART;TZID=UTC:20281016T064500
DTEND;TZID=UTC:20281016T160000
DTSTAMP:20260421T164631
CREATED:20251119T044148Z
LAST-MODIFIED:20251119T075856Z
UID:10003741-1855291500-1855324800@dallasfamilymedical.com
SUMMARY:Business Hours
DESCRIPTION:Lunch from Noon to 1:00 PM
URL:https://dallasfamilymedical.com/event/business-hours/2028-10-16/
END:VEVENT
BEGIN:VEVENT
DTSTART;TZID=UTC:20281017T064500
DTEND;TZID=UTC:20281017T160000
DTSTAMP:20260421T164631
CREATED:20251119T044148Z
LAST-MODIFIED:20251119T075856Z
UID:10003742-1855377900-1855411200@dallasfamilymedical.com
SUMMARY:Business Hours
DESCRIPTION:Lunch from Noon to 1:00 PM
URL:https://dallasfamilymedical.com/event/business-hours/2028-10-17/
END:VEVENT
BEGIN:VEVENT
DTSTART;TZID=UTC:20281018T064500
DTEND;TZID=UTC:20281018T160000
DTSTAMP:20260421T164631
CREATED:20251119T044148Z
LAST-MODIFIED:20251119T075856Z
UID:10003743-1855464300-1855497600@dallasfamilymedical.com
SUMMARY:Business Hours
DESCRIPTION:Lunch from Noon to 1:00 PM
URL:https://dallasfamilymedical.com/event/business-hours/2028-10-18/
END:VEVENT
BEGIN:VEVENT
DTSTART;TZID=UTC:20281019T064500
DTEND;TZID=UTC:20281019T160000
DTSTAMP:20260421T164631
CREATED:20251119T044148Z
LAST-MODIFIED:20251119T075856Z
UID:10003744-1855550700-1855584000@dallasfamilymedical.com
SUMMARY:Business Hours
DESCRIPTION:Lunch from Noon to 1:00 PM
URL:https://dallasfamilymedical.com/event/business-hours/2028-10-19/
END:VEVENT
BEGIN:VEVENT
DTSTART;TZID=UTC:20281020T064500
DTEND;TZID=UTC:20281020T120000
DTSTAMP:20260421T164631
CREATED:20251119T072316Z
LAST-MODIFIED:20251119T072316Z
UID:10004332-1855637100-1855656000@dallasfamilymedical.com
SUMMARY:Business Hours Friday
DESCRIPTION:Business Hours Friday
URL:https://dallasfamilymedical.com/event/business-hours-friday/2028-10-20/
END:VEVENT
BEGIN:VEVENT
DTSTART;TZID=UTC:20281023T064500
DTEND;TZID=UTC:20281023T160000
DTSTAMP:20260421T164631
CREATED:20251119T044148Z
LAST-MODIFIED:20251119T075856Z
UID:10003745-1855896300-1855929600@dallasfamilymedical.com
SUMMARY:Business Hours
DESCRIPTION:Lunch from Noon to 1:00 PM
URL:https://dallasfamilymedical.com/event/business-hours/2028-10-23/
END:VEVENT
BEGIN:VEVENT
DTSTART;TZID=UTC:20281024T064500
DTEND;TZID=UTC:20281024T160000
DTSTAMP:20260421T164631
CREATED:20251119T044148Z
LAST-MODIFIED:20251119T075856Z
UID:10003746-1855982700-1856016000@dallasfamilymedical.com
SUMMARY:Business Hours
DESCRIPTION:Lunch from Noon to 1:00 PM
URL:https://dallasfamilymedical.com/event/business-hours/2028-10-24/
END:VEVENT
BEGIN:VEVENT
DTSTART;TZID=UTC:20281025T064500
DTEND;TZID=UTC:20281025T160000
DTSTAMP:20260421T164631
CREATED:20251119T044148Z
LAST-MODIFIED:20251119T075856Z
UID:10003747-1856069100-1856102400@dallasfamilymedical.com
SUMMARY:Business Hours
DESCRIPTION:Lunch from Noon to 1:00 PM
URL:https://dallasfamilymedical.com/event/business-hours/2028-10-25/
END:VEVENT
BEGIN:VEVENT
DTSTART;TZID=UTC:20281026T064500
DTEND;TZID=UTC:20281026T160000
DTSTAMP:20260421T164631
CREATED:20251119T044148Z
LAST-MODIFIED:20251119T075856Z
UID:10003748-1856155500-1856188800@dallasfamilymedical.com
SUMMARY:Business Hours
DESCRIPTION:Lunch from Noon to 1:00 PM
URL:https://dallasfamilymedical.com/event/business-hours/2028-10-26/
END:VEVENT
BEGIN:VEVENT
DTSTART;TZID=UTC:20281027T064500
DTEND;TZID=UTC:20281027T120000
DTSTAMP:20260421T164631
CREATED:20251119T072316Z
LAST-MODIFIED:20251119T072316Z
UID:10004333-1856241900-1856260800@dallasfamilymedical.com
SUMMARY:Business Hours Friday
DESCRIPTION:Business Hours Friday
URL:https://dallasfamilymedical.com/event/business-hours-friday/2028-10-27/
END:VEVENT
BEGIN:VEVENT
DTSTART;TZID=UTC:20281030T064500
DTEND;TZID=UTC:20281030T160000
DTSTAMP:20260421T164631
CREATED:20251119T044148Z
LAST-MODIFIED:20251119T075856Z
UID:10003749-1856501100-1856534400@dallasfamilymedical.com
SUMMARY:Business Hours
DESCRIPTION:Lunch from Noon to 1:00 PM
URL:https://dallasfamilymedical.com/event/business-hours/2028-10-30/
END:VEVENT
BEGIN:VEVENT
DTSTART;TZID=UTC:20281031T064500
DTEND;TZID=UTC:20281031T160000
DTSTAMP:20260421T164631
CREATED:20251119T044148Z
LAST-MODIFIED:20251119T075856Z
UID:10003750-1856587500-1856620800@dallasfamilymedical.com
SUMMARY:Business Hours
DESCRIPTION:Lunch from Noon to 1:00 PM
URL:https://dallasfamilymedical.com/event/business-hours/2028-10-31/
END:VEVENT
BEGIN:VEVENT
DTSTART;TZID=UTC:20281101T064500
DTEND;TZID=UTC:20281101T160000
DTSTAMP:20260421T164631
CREATED:20251119T044148Z
LAST-MODIFIED:20251119T075856Z
UID:10003751-1856673900-1856707200@dallasfamilymedical.com
SUMMARY:Business Hours
DESCRIPTION:Lunch from Noon to 1:00 PM
URL:https://dallasfamilymedical.com/event/business-hours/2028-11-01/
END:VEVENT
BEGIN:VEVENT
DTSTART;TZID=UTC:20281102T064500
DTEND;TZID=UTC:20281102T160000
DTSTAMP:20260421T164631
CREATED:20251119T044148Z
LAST-MODIFIED:20251119T075856Z
UID:10003752-1856760300-1856793600@dallasfamilymedical.com
SUMMARY:Business Hours
DESCRIPTION:Lunch from Noon to 1:00 PM
URL:https://dallasfamilymedical.com/event/business-hours/2028-11-02/
END:VEVENT
BEGIN:VEVENT
DTSTART;TZID=UTC:20281103T064500
DTEND;TZID=UTC:20281103T120000
DTSTAMP:20260421T164631
CREATED:20251119T072316Z
LAST-MODIFIED:20251119T072316Z
UID:10004334-1856846700-1856865600@dallasfamilymedical.com
SUMMARY:Business Hours Friday
DESCRIPTION:Business Hours Friday
URL:https://dallasfamilymedical.com/event/business-hours-friday/2028-11-03/
END:VEVENT
BEGIN:VEVENT
DTSTART;TZID=UTC:20281106T064500
DTEND;TZID=UTC:20281106T160000
DTSTAMP:20260421T164631
CREATED:20251119T044148Z
LAST-MODIFIED:20251119T075856Z
UID:10003753-1857105900-1857139200@dallasfamilymedical.com
SUMMARY:Business Hours
DESCRIPTION:Lunch from Noon to 1:00 PM
URL:https://dallasfamilymedical.com/event/business-hours/2028-11-06/
END:VEVENT
BEGIN:VEVENT
DTSTART;TZID=UTC:20281107T064500
DTEND;TZID=UTC:20281107T160000
DTSTAMP:20260421T164631
CREATED:20251119T044148Z
LAST-MODIFIED:20251119T075856Z
UID:10003754-1857192300-1857225600@dallasfamilymedical.com
SUMMARY:Business Hours
DESCRIPTION:Lunch from Noon to 1:00 PM
URL:https://dallasfamilymedical.com/event/business-hours/2028-11-07/
END:VEVENT
BEGIN:VEVENT
DTSTART;TZID=UTC:20281108T064500
DTEND;TZID=UTC:20281108T160000
DTSTAMP:20260421T164631
CREATED:20251119T044148Z
LAST-MODIFIED:20251119T075856Z
UID:10003755-1857278700-1857312000@dallasfamilymedical.com
SUMMARY:Business Hours
DESCRIPTION:Lunch from Noon to 1:00 PM
URL:https://dallasfamilymedical.com/event/business-hours/2028-11-08/
END:VEVENT
BEGIN:VEVENT
DTSTART;TZID=UTC:20281109T064500
DTEND;TZID=UTC:20281109T160000
DTSTAMP:20260421T164631
CREATED:20251119T044148Z
LAST-MODIFIED:20251119T075856Z
UID:10003756-1857365100-1857398400@dallasfamilymedical.com
SUMMARY:Business Hours
DESCRIPTION:Lunch from Noon to 1:00 PM
URL:https://dallasfamilymedical.com/event/business-hours/2028-11-09/
END:VEVENT
BEGIN:VEVENT
DTSTART;TZID=UTC:20281110T064500
DTEND;TZID=UTC:20281110T120000
DTSTAMP:20260421T164631
CREATED:20251119T072316Z
LAST-MODIFIED:20251119T072316Z
UID:10004335-1857451500-1857470400@dallasfamilymedical.com
SUMMARY:Business Hours Friday
DESCRIPTION:Business Hours Friday
URL:https://dallasfamilymedical.com/event/business-hours-friday/2028-11-10/
END:VEVENT
BEGIN:VEVENT
DTSTART;TZID=UTC:20281113T064500
DTEND;TZID=UTC:20281113T160000
DTSTAMP:20260421T164631
CREATED:20251119T044148Z
LAST-MODIFIED:20251119T075856Z
UID:10003757-1857710700-1857744000@dallasfamilymedical.com
SUMMARY:Business Hours
DESCRIPTION:Lunch from Noon to 1:00 PM
URL:https://dallasfamilymedical.com/event/business-hours/2028-11-13/
END:VEVENT
BEGIN:VEVENT
DTSTART;TZID=UTC:20281114T064500
DTEND;TZID=UTC:20281114T160000
DTSTAMP:20260421T164631
CREATED:20251119T044148Z
LAST-MODIFIED:20251119T075856Z
UID:10003758-1857797100-1857830400@dallasfamilymedical.com
SUMMARY:Business Hours
DESCRIPTION:Lunch from Noon to 1:00 PM
URL:https://dallasfamilymedical.com/event/business-hours/2028-11-14/
END:VEVENT
BEGIN:VEVENT
DTSTART;TZID=UTC:20281115T064500
DTEND;TZID=UTC:20281115T160000
DTSTAMP:20260421T164631
CREATED:20251119T044148Z
LAST-MODIFIED:20251119T075856Z
UID:10003759-1857883500-1857916800@dallasfamilymedical.com
SUMMARY:Business Hours
DESCRIPTION:Lunch from Noon to 1:00 PM
URL:https://dallasfamilymedical.com/event/business-hours/2028-11-15/
END:VEVENT
BEGIN:VEVENT
DTSTART;TZID=UTC:20281116T064500
DTEND;TZID=UTC:20281116T160000
DTSTAMP:20260421T164631
CREATED:20251119T044148Z
LAST-MODIFIED:20251119T075856Z
UID:10003760-1857969900-1858003200@dallasfamilymedical.com
SUMMARY:Business Hours
DESCRIPTION:Lunch from Noon to 1:00 PM
URL:https://dallasfamilymedical.com/event/business-hours/2028-11-16/
END:VEVENT
BEGIN:VEVENT
DTSTART;TZID=UTC:20281117T064500
DTEND;TZID=UTC:20281117T120000
DTSTAMP:20260421T164631
CREATED:20251119T072316Z
LAST-MODIFIED:20251119T072316Z
UID:10004336-1858056300-1858075200@dallasfamilymedical.com
SUMMARY:Business Hours Friday
DESCRIPTION:Business Hours Friday
URL:https://dallasfamilymedical.com/event/business-hours-friday/2028-11-17/
END:VEVENT
END:VCALENDAR