BEGIN:VCALENDAR
VERSION:2.0
PRODID:-//Dallas Family Medical &amp; Aesthetics - ECPv6.15.12//NONSGML v1.0//EN
CALSCALE:GREGORIAN
METHOD:PUBLISH
X-WR-CALNAME:Dallas Family Medical &amp; Aesthetics
X-ORIGINAL-URL:https://dallasfamilymedical.com
X-WR-CALDESC:Events for Dallas Family Medical &amp; Aesthetics
REFRESH-INTERVAL;VALUE=DURATION:PT1H
X-Robots-Tag:noindex
X-PUBLISHED-TTL:PT1H
BEGIN:VTIMEZONE
TZID:UTC
BEGIN:STANDARD
TZOFFSETFROM:+0000
TZOFFSETTO:+0000
TZNAME:UTC
DTSTART:20270101T000000
END:STANDARD
END:VTIMEZONE
BEGIN:VEVENT
DTSTART;TZID=UTC:20280519T064500
DTEND;TZID=UTC:20280519T120000
DTSTAMP:20260421T053259
CREATED:20251119T072316Z
LAST-MODIFIED:20251119T072316Z
UID:10004310-1842331500-1842350400@dallasfamilymedical.com
SUMMARY:Business Hours Friday
DESCRIPTION:Business Hours Friday
URL:https://dallasfamilymedical.com/event/business-hours-friday/2028-05-19/
END:VEVENT
BEGIN:VEVENT
DTSTART;TZID=UTC:20280522T064500
DTEND;TZID=UTC:20280522T160000
DTSTAMP:20260421T053259
CREATED:20251119T044148Z
LAST-MODIFIED:20251119T075856Z
UID:10003657-1842590700-1842624000@dallasfamilymedical.com
SUMMARY:Business Hours
DESCRIPTION:Lunch from Noon to 1:00 PM
URL:https://dallasfamilymedical.com/event/business-hours/2028-05-22/
END:VEVENT
BEGIN:VEVENT
DTSTART;TZID=UTC:20280523T064500
DTEND;TZID=UTC:20280523T160000
DTSTAMP:20260421T053259
CREATED:20251119T044148Z
LAST-MODIFIED:20251119T075856Z
UID:10003658-1842677100-1842710400@dallasfamilymedical.com
SUMMARY:Business Hours
DESCRIPTION:Lunch from Noon to 1:00 PM
URL:https://dallasfamilymedical.com/event/business-hours/2028-05-23/
END:VEVENT
BEGIN:VEVENT
DTSTART;TZID=UTC:20280524T064500
DTEND;TZID=UTC:20280524T160000
DTSTAMP:20260421T053259
CREATED:20251119T044148Z
LAST-MODIFIED:20251119T075856Z
UID:10003659-1842763500-1842796800@dallasfamilymedical.com
SUMMARY:Business Hours
DESCRIPTION:Lunch from Noon to 1:00 PM
URL:https://dallasfamilymedical.com/event/business-hours/2028-05-24/
END:VEVENT
BEGIN:VEVENT
DTSTART;TZID=UTC:20280525T064500
DTEND;TZID=UTC:20280525T160000
DTSTAMP:20260421T053259
CREATED:20251119T044148Z
LAST-MODIFIED:20251119T075856Z
UID:10003660-1842849900-1842883200@dallasfamilymedical.com
SUMMARY:Business Hours
DESCRIPTION:Lunch from Noon to 1:00 PM
URL:https://dallasfamilymedical.com/event/business-hours/2028-05-25/
END:VEVENT
BEGIN:VEVENT
DTSTART;TZID=UTC:20280526T064500
DTEND;TZID=UTC:20280526T120000
DTSTAMP:20260421T053259
CREATED:20251119T072316Z
LAST-MODIFIED:20251119T072316Z
UID:10004311-1842936300-1842955200@dallasfamilymedical.com
SUMMARY:Business Hours Friday
DESCRIPTION:Business Hours Friday
URL:https://dallasfamilymedical.com/event/business-hours-friday/2028-05-26/
END:VEVENT
BEGIN:VEVENT
DTSTART;TZID=UTC:20280529T064500
DTEND;TZID=UTC:20280529T160000
DTSTAMP:20260421T053259
CREATED:20251119T044148Z
LAST-MODIFIED:20251119T075856Z
UID:10003661-1843195500-1843228800@dallasfamilymedical.com
SUMMARY:Business Hours
DESCRIPTION:Lunch from Noon to 1:00 PM
URL:https://dallasfamilymedical.com/event/business-hours/2028-05-29/
END:VEVENT
BEGIN:VEVENT
DTSTART;TZID=UTC:20280530T064500
DTEND;TZID=UTC:20280530T160000
DTSTAMP:20260421T053259
CREATED:20251119T044148Z
LAST-MODIFIED:20251119T075856Z
UID:10003662-1843281900-1843315200@dallasfamilymedical.com
SUMMARY:Business Hours
DESCRIPTION:Lunch from Noon to 1:00 PM
URL:https://dallasfamilymedical.com/event/business-hours/2028-05-30/
END:VEVENT
BEGIN:VEVENT
DTSTART;TZID=UTC:20280531T064500
DTEND;TZID=UTC:20280531T160000
DTSTAMP:20260421T053259
CREATED:20251119T044148Z
LAST-MODIFIED:20251119T075856Z
UID:10003663-1843368300-1843401600@dallasfamilymedical.com
SUMMARY:Business Hours
DESCRIPTION:Lunch from Noon to 1:00 PM
URL:https://dallasfamilymedical.com/event/business-hours/2028-05-31/
END:VEVENT
BEGIN:VEVENT
DTSTART;TZID=UTC:20280601T064500
DTEND;TZID=UTC:20280601T160000
DTSTAMP:20260421T053259
CREATED:20251119T044148Z
LAST-MODIFIED:20251119T075856Z
UID:10003664-1843454700-1843488000@dallasfamilymedical.com
SUMMARY:Business Hours
DESCRIPTION:Lunch from Noon to 1:00 PM
URL:https://dallasfamilymedical.com/event/business-hours/2028-06-01/
END:VEVENT
BEGIN:VEVENT
DTSTART;TZID=UTC:20280602T064500
DTEND;TZID=UTC:20280602T120000
DTSTAMP:20260421T053259
CREATED:20251119T072316Z
LAST-MODIFIED:20251119T072316Z
UID:10004312-1843541100-1843560000@dallasfamilymedical.com
SUMMARY:Business Hours Friday
DESCRIPTION:Business Hours Friday
URL:https://dallasfamilymedical.com/event/business-hours-friday/2028-06-02/
END:VEVENT
BEGIN:VEVENT
DTSTART;TZID=UTC:20280605T064500
DTEND;TZID=UTC:20280605T160000
DTSTAMP:20260421T053259
CREATED:20251119T044148Z
LAST-MODIFIED:20251119T075856Z
UID:10003665-1843800300-1843833600@dallasfamilymedical.com
SUMMARY:Business Hours
DESCRIPTION:Lunch from Noon to 1:00 PM
URL:https://dallasfamilymedical.com/event/business-hours/2028-06-05/
END:VEVENT
BEGIN:VEVENT
DTSTART;TZID=UTC:20280606T064500
DTEND;TZID=UTC:20280606T160000
DTSTAMP:20260421T053259
CREATED:20251119T044148Z
LAST-MODIFIED:20251119T075856Z
UID:10003666-1843886700-1843920000@dallasfamilymedical.com
SUMMARY:Business Hours
DESCRIPTION:Lunch from Noon to 1:00 PM
URL:https://dallasfamilymedical.com/event/business-hours/2028-06-06/
END:VEVENT
BEGIN:VEVENT
DTSTART;TZID=UTC:20280607T064500
DTEND;TZID=UTC:20280607T160000
DTSTAMP:20260421T053259
CREATED:20251119T044148Z
LAST-MODIFIED:20251119T075856Z
UID:10003667-1843973100-1844006400@dallasfamilymedical.com
SUMMARY:Business Hours
DESCRIPTION:Lunch from Noon to 1:00 PM
URL:https://dallasfamilymedical.com/event/business-hours/2028-06-07/
END:VEVENT
BEGIN:VEVENT
DTSTART;TZID=UTC:20280608T064500
DTEND;TZID=UTC:20280608T160000
DTSTAMP:20260421T053259
CREATED:20251119T044148Z
LAST-MODIFIED:20251119T075856Z
UID:10003668-1844059500-1844092800@dallasfamilymedical.com
SUMMARY:Business Hours
DESCRIPTION:Lunch from Noon to 1:00 PM
URL:https://dallasfamilymedical.com/event/business-hours/2028-06-08/
END:VEVENT
BEGIN:VEVENT
DTSTART;TZID=UTC:20280609T064500
DTEND;TZID=UTC:20280609T120000
DTSTAMP:20260421T053259
CREATED:20251119T072316Z
LAST-MODIFIED:20251119T072316Z
UID:10004313-1844145900-1844164800@dallasfamilymedical.com
SUMMARY:Business Hours Friday
DESCRIPTION:Business Hours Friday
URL:https://dallasfamilymedical.com/event/business-hours-friday/2028-06-09/
END:VEVENT
BEGIN:VEVENT
DTSTART;TZID=UTC:20280612T064500
DTEND;TZID=UTC:20280612T160000
DTSTAMP:20260421T053259
CREATED:20251119T044148Z
LAST-MODIFIED:20251119T075856Z
UID:10003669-1844405100-1844438400@dallasfamilymedical.com
SUMMARY:Business Hours
DESCRIPTION:Lunch from Noon to 1:00 PM
URL:https://dallasfamilymedical.com/event/business-hours/2028-06-12/
END:VEVENT
BEGIN:VEVENT
DTSTART;TZID=UTC:20280613T064500
DTEND;TZID=UTC:20280613T160000
DTSTAMP:20260421T053259
CREATED:20251119T044148Z
LAST-MODIFIED:20251119T075856Z
UID:10003670-1844491500-1844524800@dallasfamilymedical.com
SUMMARY:Business Hours
DESCRIPTION:Lunch from Noon to 1:00 PM
URL:https://dallasfamilymedical.com/event/business-hours/2028-06-13/
END:VEVENT
BEGIN:VEVENT
DTSTART;TZID=UTC:20280614T064500
DTEND;TZID=UTC:20280614T160000
DTSTAMP:20260421T053259
CREATED:20251119T044148Z
LAST-MODIFIED:20251119T075856Z
UID:10003671-1844577900-1844611200@dallasfamilymedical.com
SUMMARY:Business Hours
DESCRIPTION:Lunch from Noon to 1:00 PM
URL:https://dallasfamilymedical.com/event/business-hours/2028-06-14/
END:VEVENT
BEGIN:VEVENT
DTSTART;TZID=UTC:20280615T064500
DTEND;TZID=UTC:20280615T160000
DTSTAMP:20260421T053259
CREATED:20251119T044148Z
LAST-MODIFIED:20251119T075856Z
UID:10003672-1844664300-1844697600@dallasfamilymedical.com
SUMMARY:Business Hours
DESCRIPTION:Lunch from Noon to 1:00 PM
URL:https://dallasfamilymedical.com/event/business-hours/2028-06-15/
END:VEVENT
BEGIN:VEVENT
DTSTART;TZID=UTC:20280616T064500
DTEND;TZID=UTC:20280616T120000
DTSTAMP:20260421T053259
CREATED:20251119T072316Z
LAST-MODIFIED:20251119T072316Z
UID:10004314-1844750700-1844769600@dallasfamilymedical.com
SUMMARY:Business Hours Friday
DESCRIPTION:Business Hours Friday
URL:https://dallasfamilymedical.com/event/business-hours-friday/2028-06-16/
END:VEVENT
BEGIN:VEVENT
DTSTART;TZID=UTC:20280619T064500
DTEND;TZID=UTC:20280619T160000
DTSTAMP:20260421T053259
CREATED:20251119T044148Z
LAST-MODIFIED:20251119T075856Z
UID:10003673-1845009900-1845043200@dallasfamilymedical.com
SUMMARY:Business Hours
DESCRIPTION:Lunch from Noon to 1:00 PM
URL:https://dallasfamilymedical.com/event/business-hours/2028-06-19/
END:VEVENT
BEGIN:VEVENT
DTSTART;TZID=UTC:20280620T064500
DTEND;TZID=UTC:20280620T160000
DTSTAMP:20260421T053259
CREATED:20251119T044148Z
LAST-MODIFIED:20251119T075856Z
UID:10003674-1845096300-1845129600@dallasfamilymedical.com
SUMMARY:Business Hours
DESCRIPTION:Lunch from Noon to 1:00 PM
URL:https://dallasfamilymedical.com/event/business-hours/2028-06-20/
END:VEVENT
BEGIN:VEVENT
DTSTART;TZID=UTC:20280621T064500
DTEND;TZID=UTC:20280621T160000
DTSTAMP:20260421T053259
CREATED:20251119T044148Z
LAST-MODIFIED:20251119T075856Z
UID:10003675-1845182700-1845216000@dallasfamilymedical.com
SUMMARY:Business Hours
DESCRIPTION:Lunch from Noon to 1:00 PM
URL:https://dallasfamilymedical.com/event/business-hours/2028-06-21/
END:VEVENT
BEGIN:VEVENT
DTSTART;TZID=UTC:20280622T064500
DTEND;TZID=UTC:20280622T160000
DTSTAMP:20260421T053259
CREATED:20251119T044148Z
LAST-MODIFIED:20251119T075856Z
UID:10003676-1845269100-1845302400@dallasfamilymedical.com
SUMMARY:Business Hours
DESCRIPTION:Lunch from Noon to 1:00 PM
URL:https://dallasfamilymedical.com/event/business-hours/2028-06-22/
END:VEVENT
BEGIN:VEVENT
DTSTART;TZID=UTC:20280623T064500
DTEND;TZID=UTC:20280623T120000
DTSTAMP:20260421T053259
CREATED:20251119T072316Z
LAST-MODIFIED:20251119T072316Z
UID:10004315-1845355500-1845374400@dallasfamilymedical.com
SUMMARY:Business Hours Friday
DESCRIPTION:Business Hours Friday
URL:https://dallasfamilymedical.com/event/business-hours-friday/2028-06-23/
END:VEVENT
BEGIN:VEVENT
DTSTART;TZID=UTC:20280626T064500
DTEND;TZID=UTC:20280626T160000
DTSTAMP:20260421T053259
CREATED:20251119T044148Z
LAST-MODIFIED:20251119T075856Z
UID:10003677-1845614700-1845648000@dallasfamilymedical.com
SUMMARY:Business Hours
DESCRIPTION:Lunch from Noon to 1:00 PM
URL:https://dallasfamilymedical.com/event/business-hours/2028-06-26/
END:VEVENT
BEGIN:VEVENT
DTSTART;TZID=UTC:20280627T064500
DTEND;TZID=UTC:20280627T160000
DTSTAMP:20260421T053259
CREATED:20251119T044148Z
LAST-MODIFIED:20251119T075856Z
UID:10003678-1845701100-1845734400@dallasfamilymedical.com
SUMMARY:Business Hours
DESCRIPTION:Lunch from Noon to 1:00 PM
URL:https://dallasfamilymedical.com/event/business-hours/2028-06-27/
END:VEVENT
BEGIN:VEVENT
DTSTART;TZID=UTC:20280628T064500
DTEND;TZID=UTC:20280628T160000
DTSTAMP:20260421T053259
CREATED:20251119T044148Z
LAST-MODIFIED:20251119T075856Z
UID:10003679-1845787500-1845820800@dallasfamilymedical.com
SUMMARY:Business Hours
DESCRIPTION:Lunch from Noon to 1:00 PM
URL:https://dallasfamilymedical.com/event/business-hours/2028-06-28/
END:VEVENT
BEGIN:VEVENT
DTSTART;TZID=UTC:20280629T064500
DTEND;TZID=UTC:20280629T160000
DTSTAMP:20260421T053259
CREATED:20251119T044148Z
LAST-MODIFIED:20251119T075856Z
UID:10003680-1845873900-1845907200@dallasfamilymedical.com
SUMMARY:Business Hours
DESCRIPTION:Lunch from Noon to 1:00 PM
URL:https://dallasfamilymedical.com/event/business-hours/2028-06-29/
END:VEVENT
END:VCALENDAR