BEGIN:VCALENDAR
VERSION:2.0
PRODID:-//Dallas Family Medical &amp; Aesthetics - ECPv6.15.12//NONSGML v1.0//EN
CALSCALE:GREGORIAN
METHOD:PUBLISH
X-ORIGINAL-URL:https://dallasfamilymedical.com
X-WR-CALDESC:Events for Dallas Family Medical &amp; Aesthetics
REFRESH-INTERVAL;VALUE=DURATION:PT1H
X-Robots-Tag:noindex
X-PUBLISHED-TTL:PT1H
BEGIN:VTIMEZONE
TZID:UTC
BEGIN:STANDARD
TZOFFSETFROM:+0000
TZOFFSETTO:+0000
TZNAME:UTC
DTSTART:20270101T000000
END:STANDARD
END:VTIMEZONE
BEGIN:VEVENT
DTSTART;TZID=UTC:20280424T064500
DTEND;TZID=UTC:20280424T160000
DTSTAMP:20260421T021229
CREATED:20251119T044148Z
LAST-MODIFIED:20251119T075856Z
UID:10003641-1840171500-1840204800@dallasfamilymedical.com
SUMMARY:Business Hours
DESCRIPTION:Lunch from Noon to 1:00 PM
URL:https://dallasfamilymedical.com/event/business-hours/2028-04-24/
END:VEVENT
BEGIN:VEVENT
DTSTART;TZID=UTC:20280425T064500
DTEND;TZID=UTC:20280425T160000
DTSTAMP:20260421T021229
CREATED:20251119T044148Z
LAST-MODIFIED:20251119T075856Z
UID:10003642-1840257900-1840291200@dallasfamilymedical.com
SUMMARY:Business Hours
DESCRIPTION:Lunch from Noon to 1:00 PM
URL:https://dallasfamilymedical.com/event/business-hours/2028-04-25/
END:VEVENT
BEGIN:VEVENT
DTSTART;TZID=UTC:20280426T064500
DTEND;TZID=UTC:20280426T160000
DTSTAMP:20260421T021229
CREATED:20251119T044148Z
LAST-MODIFIED:20251119T075856Z
UID:10003643-1840344300-1840377600@dallasfamilymedical.com
SUMMARY:Business Hours
DESCRIPTION:Lunch from Noon to 1:00 PM
URL:https://dallasfamilymedical.com/event/business-hours/2028-04-26/
END:VEVENT
BEGIN:VEVENT
DTSTART;TZID=UTC:20280427T064500
DTEND;TZID=UTC:20280427T160000
DTSTAMP:20260421T021229
CREATED:20251119T044148Z
LAST-MODIFIED:20251119T075856Z
UID:10003644-1840430700-1840464000@dallasfamilymedical.com
SUMMARY:Business Hours
DESCRIPTION:Lunch from Noon to 1:00 PM
URL:https://dallasfamilymedical.com/event/business-hours/2028-04-27/
END:VEVENT
BEGIN:VEVENT
DTSTART;TZID=UTC:20280428T064500
DTEND;TZID=UTC:20280428T120000
DTSTAMP:20260421T021229
CREATED:20251119T072316Z
LAST-MODIFIED:20251119T072316Z
UID:10004307-1840517100-1840536000@dallasfamilymedical.com
SUMMARY:Business Hours Friday
DESCRIPTION:Business Hours Friday
URL:https://dallasfamilymedical.com/event/business-hours-friday/2028-04-28/
END:VEVENT
BEGIN:VEVENT
DTSTART;TZID=UTC:20280501T064500
DTEND;TZID=UTC:20280501T160000
DTSTAMP:20260421T021229
CREATED:20251119T044148Z
LAST-MODIFIED:20251119T075856Z
UID:10003645-1840776300-1840809600@dallasfamilymedical.com
SUMMARY:Business Hours
DESCRIPTION:Lunch from Noon to 1:00 PM
URL:https://dallasfamilymedical.com/event/business-hours/2028-05-01/
END:VEVENT
BEGIN:VEVENT
DTSTART;TZID=UTC:20280502T064500
DTEND;TZID=UTC:20280502T160000
DTSTAMP:20260421T021229
CREATED:20251119T044148Z
LAST-MODIFIED:20251119T075856Z
UID:10003646-1840862700-1840896000@dallasfamilymedical.com
SUMMARY:Business Hours
DESCRIPTION:Lunch from Noon to 1:00 PM
URL:https://dallasfamilymedical.com/event/business-hours/2028-05-02/
END:VEVENT
BEGIN:VEVENT
DTSTART;TZID=UTC:20280503T064500
DTEND;TZID=UTC:20280503T160000
DTSTAMP:20260421T021229
CREATED:20251119T044148Z
LAST-MODIFIED:20251119T075856Z
UID:10003647-1840949100-1840982400@dallasfamilymedical.com
SUMMARY:Business Hours
DESCRIPTION:Lunch from Noon to 1:00 PM
URL:https://dallasfamilymedical.com/event/business-hours/2028-05-03/
END:VEVENT
BEGIN:VEVENT
DTSTART;TZID=UTC:20280504T064500
DTEND;TZID=UTC:20280504T160000
DTSTAMP:20260421T021229
CREATED:20251119T044148Z
LAST-MODIFIED:20251119T075856Z
UID:10003648-1841035500-1841068800@dallasfamilymedical.com
SUMMARY:Business Hours
DESCRIPTION:Lunch from Noon to 1:00 PM
URL:https://dallasfamilymedical.com/event/business-hours/2028-05-04/
END:VEVENT
BEGIN:VEVENT
DTSTART;TZID=UTC:20280505T064500
DTEND;TZID=UTC:20280505T120000
DTSTAMP:20260421T021229
CREATED:20251119T072316Z
LAST-MODIFIED:20251119T072316Z
UID:10004308-1841121900-1841140800@dallasfamilymedical.com
SUMMARY:Business Hours Friday
DESCRIPTION:Business Hours Friday
URL:https://dallasfamilymedical.com/event/business-hours-friday/2028-05-05/
END:VEVENT
BEGIN:VEVENT
DTSTART;TZID=UTC:20280508T064500
DTEND;TZID=UTC:20280508T160000
DTSTAMP:20260421T021229
CREATED:20251119T044148Z
LAST-MODIFIED:20251119T075856Z
UID:10003649-1841381100-1841414400@dallasfamilymedical.com
SUMMARY:Business Hours
DESCRIPTION:Lunch from Noon to 1:00 PM
URL:https://dallasfamilymedical.com/event/business-hours/2028-05-08/
END:VEVENT
BEGIN:VEVENT
DTSTART;TZID=UTC:20280509T064500
DTEND;TZID=UTC:20280509T160000
DTSTAMP:20260421T021229
CREATED:20251119T044148Z
LAST-MODIFIED:20251119T075856Z
UID:10003650-1841467500-1841500800@dallasfamilymedical.com
SUMMARY:Business Hours
DESCRIPTION:Lunch from Noon to 1:00 PM
URL:https://dallasfamilymedical.com/event/business-hours/2028-05-09/
END:VEVENT
BEGIN:VEVENT
DTSTART;TZID=UTC:20280510T064500
DTEND;TZID=UTC:20280510T160000
DTSTAMP:20260421T021229
CREATED:20251119T044148Z
LAST-MODIFIED:20251119T075856Z
UID:10003651-1841553900-1841587200@dallasfamilymedical.com
SUMMARY:Business Hours
DESCRIPTION:Lunch from Noon to 1:00 PM
URL:https://dallasfamilymedical.com/event/business-hours/2028-05-10/
END:VEVENT
BEGIN:VEVENT
DTSTART;TZID=UTC:20280511T064500
DTEND;TZID=UTC:20280511T160000
DTSTAMP:20260421T021229
CREATED:20251119T044148Z
LAST-MODIFIED:20251119T075856Z
UID:10003652-1841640300-1841673600@dallasfamilymedical.com
SUMMARY:Business Hours
DESCRIPTION:Lunch from Noon to 1:00 PM
URL:https://dallasfamilymedical.com/event/business-hours/2028-05-11/
END:VEVENT
BEGIN:VEVENT
DTSTART;TZID=UTC:20280512T064500
DTEND;TZID=UTC:20280512T120000
DTSTAMP:20260421T021229
CREATED:20251119T072316Z
LAST-MODIFIED:20251119T072316Z
UID:10004309-1841726700-1841745600@dallasfamilymedical.com
SUMMARY:Business Hours Friday
DESCRIPTION:Business Hours Friday
URL:https://dallasfamilymedical.com/event/business-hours-friday/2028-05-12/
END:VEVENT
BEGIN:VEVENT
DTSTART;TZID=UTC:20280515T064500
DTEND;TZID=UTC:20280515T160000
DTSTAMP:20260421T021229
CREATED:20251119T044148Z
LAST-MODIFIED:20251119T075856Z
UID:10003653-1841985900-1842019200@dallasfamilymedical.com
SUMMARY:Business Hours
DESCRIPTION:Lunch from Noon to 1:00 PM
URL:https://dallasfamilymedical.com/event/business-hours/2028-05-15/
END:VEVENT
BEGIN:VEVENT
DTSTART;TZID=UTC:20280516T064500
DTEND;TZID=UTC:20280516T160000
DTSTAMP:20260421T021229
CREATED:20251119T044148Z
LAST-MODIFIED:20251119T075856Z
UID:10003654-1842072300-1842105600@dallasfamilymedical.com
SUMMARY:Business Hours
DESCRIPTION:Lunch from Noon to 1:00 PM
URL:https://dallasfamilymedical.com/event/business-hours/2028-05-16/
END:VEVENT
BEGIN:VEVENT
DTSTART;TZID=UTC:20280517T064500
DTEND;TZID=UTC:20280517T160000
DTSTAMP:20260421T021229
CREATED:20251119T044148Z
LAST-MODIFIED:20251119T075856Z
UID:10003655-1842158700-1842192000@dallasfamilymedical.com
SUMMARY:Business Hours
DESCRIPTION:Lunch from Noon to 1:00 PM
URL:https://dallasfamilymedical.com/event/business-hours/2028-05-17/
END:VEVENT
BEGIN:VEVENT
DTSTART;TZID=UTC:20280518T064500
DTEND;TZID=UTC:20280518T160000
DTSTAMP:20260421T021229
CREATED:20251119T044148Z
LAST-MODIFIED:20251119T075856Z
UID:10003656-1842245100-1842278400@dallasfamilymedical.com
SUMMARY:Business Hours
DESCRIPTION:Lunch from Noon to 1:00 PM
URL:https://dallasfamilymedical.com/event/business-hours/2028-05-18/
END:VEVENT
BEGIN:VEVENT
DTSTART;TZID=UTC:20280519T064500
DTEND;TZID=UTC:20280519T120000
DTSTAMP:20260421T021229
CREATED:20251119T072316Z
LAST-MODIFIED:20251119T072316Z
UID:10004310-1842331500-1842350400@dallasfamilymedical.com
SUMMARY:Business Hours Friday
DESCRIPTION:Business Hours Friday
URL:https://dallasfamilymedical.com/event/business-hours-friday/2028-05-19/
END:VEVENT
BEGIN:VEVENT
DTSTART;TZID=UTC:20280522T064500
DTEND;TZID=UTC:20280522T160000
DTSTAMP:20260421T021229
CREATED:20251119T044148Z
LAST-MODIFIED:20251119T075856Z
UID:10003657-1842590700-1842624000@dallasfamilymedical.com
SUMMARY:Business Hours
DESCRIPTION:Lunch from Noon to 1:00 PM
URL:https://dallasfamilymedical.com/event/business-hours/2028-05-22/
END:VEVENT
BEGIN:VEVENT
DTSTART;TZID=UTC:20280523T064500
DTEND;TZID=UTC:20280523T160000
DTSTAMP:20260421T021229
CREATED:20251119T044148Z
LAST-MODIFIED:20251119T075856Z
UID:10003658-1842677100-1842710400@dallasfamilymedical.com
SUMMARY:Business Hours
DESCRIPTION:Lunch from Noon to 1:00 PM
URL:https://dallasfamilymedical.com/event/business-hours/2028-05-23/
END:VEVENT
BEGIN:VEVENT
DTSTART;TZID=UTC:20280524T064500
DTEND;TZID=UTC:20280524T160000
DTSTAMP:20260421T021229
CREATED:20251119T044148Z
LAST-MODIFIED:20251119T075856Z
UID:10003659-1842763500-1842796800@dallasfamilymedical.com
SUMMARY:Business Hours
DESCRIPTION:Lunch from Noon to 1:00 PM
URL:https://dallasfamilymedical.com/event/business-hours/2028-05-24/
END:VEVENT
BEGIN:VEVENT
DTSTART;TZID=UTC:20280525T064500
DTEND;TZID=UTC:20280525T160000
DTSTAMP:20260421T021229
CREATED:20251119T044148Z
LAST-MODIFIED:20251119T075856Z
UID:10003660-1842849900-1842883200@dallasfamilymedical.com
SUMMARY:Business Hours
DESCRIPTION:Lunch from Noon to 1:00 PM
URL:https://dallasfamilymedical.com/event/business-hours/2028-05-25/
END:VEVENT
BEGIN:VEVENT
DTSTART;TZID=UTC:20280526T064500
DTEND;TZID=UTC:20280526T120000
DTSTAMP:20260421T021229
CREATED:20251119T072316Z
LAST-MODIFIED:20251119T072316Z
UID:10004311-1842936300-1842955200@dallasfamilymedical.com
SUMMARY:Business Hours Friday
DESCRIPTION:Business Hours Friday
URL:https://dallasfamilymedical.com/event/business-hours-friday/2028-05-26/
END:VEVENT
BEGIN:VEVENT
DTSTART;TZID=UTC:20280529T064500
DTEND;TZID=UTC:20280529T160000
DTSTAMP:20260421T021229
CREATED:20251119T044148Z
LAST-MODIFIED:20251119T075856Z
UID:10003661-1843195500-1843228800@dallasfamilymedical.com
SUMMARY:Business Hours
DESCRIPTION:Lunch from Noon to 1:00 PM
URL:https://dallasfamilymedical.com/event/business-hours/2028-05-29/
END:VEVENT
BEGIN:VEVENT
DTSTART;TZID=UTC:20280530T064500
DTEND;TZID=UTC:20280530T160000
DTSTAMP:20260421T021229
CREATED:20251119T044148Z
LAST-MODIFIED:20251119T075856Z
UID:10003662-1843281900-1843315200@dallasfamilymedical.com
SUMMARY:Business Hours
DESCRIPTION:Lunch from Noon to 1:00 PM
URL:https://dallasfamilymedical.com/event/business-hours/2028-05-30/
END:VEVENT
BEGIN:VEVENT
DTSTART;TZID=UTC:20280531T064500
DTEND;TZID=UTC:20280531T160000
DTSTAMP:20260421T021229
CREATED:20251119T044148Z
LAST-MODIFIED:20251119T075856Z
UID:10003663-1843368300-1843401600@dallasfamilymedical.com
SUMMARY:Business Hours
DESCRIPTION:Lunch from Noon to 1:00 PM
URL:https://dallasfamilymedical.com/event/business-hours/2028-05-31/
END:VEVENT
BEGIN:VEVENT
DTSTART;TZID=UTC:20280601T064500
DTEND;TZID=UTC:20280601T160000
DTSTAMP:20260421T021229
CREATED:20251119T044148Z
LAST-MODIFIED:20251119T075856Z
UID:10003664-1843454700-1843488000@dallasfamilymedical.com
SUMMARY:Business Hours
DESCRIPTION:Lunch from Noon to 1:00 PM
URL:https://dallasfamilymedical.com/event/business-hours/2028-06-01/
END:VEVENT
BEGIN:VEVENT
DTSTART;TZID=UTC:20280602T064500
DTEND;TZID=UTC:20280602T120000
DTSTAMP:20260421T021229
CREATED:20251119T072316Z
LAST-MODIFIED:20251119T072316Z
UID:10004312-1843541100-1843560000@dallasfamilymedical.com
SUMMARY:Business Hours Friday
DESCRIPTION:Business Hours Friday
URL:https://dallasfamilymedical.com/event/business-hours-friday/2028-06-02/
END:VEVENT
END:VCALENDAR