BEGIN:VCALENDAR
VERSION:2.0
PRODID:-//Dallas Family Medical &amp; Aesthetics - ECPv6.15.12//NONSGML v1.0//EN
CALSCALE:GREGORIAN
METHOD:PUBLISH
X-WR-CALNAME:Dallas Family Medical &amp; Aesthetics
X-ORIGINAL-URL:https://dallasfamilymedical.com
X-WR-CALDESC:Events for Dallas Family Medical &amp; Aesthetics
REFRESH-INTERVAL;VALUE=DURATION:PT1H
X-Robots-Tag:noindex
X-PUBLISHED-TTL:PT1H
BEGIN:VTIMEZONE
TZID:UTC
BEGIN:STANDARD
TZOFFSETFROM:+0000
TZOFFSETTO:+0000
TZNAME:UTC
DTSTART:20270101T000000
END:STANDARD
END:VTIMEZONE
BEGIN:VEVENT
DTSTART;TZID=UTC:20280228T064500
DTEND;TZID=UTC:20280228T160000
DTSTAMP:20260421T035541
CREATED:20251119T044148Z
LAST-MODIFIED:20251119T075856Z
UID:10003609-1835333100-1835366400@dallasfamilymedical.com
SUMMARY:Business Hours
DESCRIPTION:Lunch from Noon to 1:00 PM
URL:https://dallasfamilymedical.com/event/business-hours/2028-02-28/
END:VEVENT
BEGIN:VEVENT
DTSTART;TZID=UTC:20280229T064500
DTEND;TZID=UTC:20280229T160000
DTSTAMP:20260421T035541
CREATED:20251119T044148Z
LAST-MODIFIED:20251119T075856Z
UID:10003610-1835419500-1835452800@dallasfamilymedical.com
SUMMARY:Business Hours
DESCRIPTION:Lunch from Noon to 1:00 PM
URL:https://dallasfamilymedical.com/event/business-hours/2028-02-29/
END:VEVENT
BEGIN:VEVENT
DTSTART;TZID=UTC:20280301T064500
DTEND;TZID=UTC:20280301T160000
DTSTAMP:20260421T035541
CREATED:20251119T044148Z
LAST-MODIFIED:20251119T075856Z
UID:10003611-1835505900-1835539200@dallasfamilymedical.com
SUMMARY:Business Hours
DESCRIPTION:Lunch from Noon to 1:00 PM
URL:https://dallasfamilymedical.com/event/business-hours/2028-03-01/
END:VEVENT
BEGIN:VEVENT
DTSTART;TZID=UTC:20280302T064500
DTEND;TZID=UTC:20280302T160000
DTSTAMP:20260421T035541
CREATED:20251119T044148Z
LAST-MODIFIED:20251119T075856Z
UID:10003612-1835592300-1835625600@dallasfamilymedical.com
SUMMARY:Business Hours
DESCRIPTION:Lunch from Noon to 1:00 PM
URL:https://dallasfamilymedical.com/event/business-hours/2028-03-02/
END:VEVENT
BEGIN:VEVENT
DTSTART;TZID=UTC:20280303T064500
DTEND;TZID=UTC:20280303T120000
DTSTAMP:20260421T035541
CREATED:20251119T072316Z
LAST-MODIFIED:20251119T072316Z
UID:10004299-1835678700-1835697600@dallasfamilymedical.com
SUMMARY:Business Hours Friday
DESCRIPTION:Business Hours Friday
URL:https://dallasfamilymedical.com/event/business-hours-friday/2028-03-03/
END:VEVENT
BEGIN:VEVENT
DTSTART;TZID=UTC:20280306T064500
DTEND;TZID=UTC:20280306T160000
DTSTAMP:20260421T035541
CREATED:20251119T044148Z
LAST-MODIFIED:20251119T075856Z
UID:10003613-1835937900-1835971200@dallasfamilymedical.com
SUMMARY:Business Hours
DESCRIPTION:Lunch from Noon to 1:00 PM
URL:https://dallasfamilymedical.com/event/business-hours/2028-03-06/
END:VEVENT
BEGIN:VEVENT
DTSTART;TZID=UTC:20280307T064500
DTEND;TZID=UTC:20280307T160000
DTSTAMP:20260421T035541
CREATED:20251119T044148Z
LAST-MODIFIED:20251119T075856Z
UID:10003614-1836024300-1836057600@dallasfamilymedical.com
SUMMARY:Business Hours
DESCRIPTION:Lunch from Noon to 1:00 PM
URL:https://dallasfamilymedical.com/event/business-hours/2028-03-07/
END:VEVENT
BEGIN:VEVENT
DTSTART;TZID=UTC:20280308T064500
DTEND;TZID=UTC:20280308T160000
DTSTAMP:20260421T035541
CREATED:20251119T044148Z
LAST-MODIFIED:20251119T075856Z
UID:10003615-1836110700-1836144000@dallasfamilymedical.com
SUMMARY:Business Hours
DESCRIPTION:Lunch from Noon to 1:00 PM
URL:https://dallasfamilymedical.com/event/business-hours/2028-03-08/
END:VEVENT
BEGIN:VEVENT
DTSTART;TZID=UTC:20280309T064500
DTEND;TZID=UTC:20280309T160000
DTSTAMP:20260421T035541
CREATED:20251119T044148Z
LAST-MODIFIED:20251119T075856Z
UID:10003616-1836197100-1836230400@dallasfamilymedical.com
SUMMARY:Business Hours
DESCRIPTION:Lunch from Noon to 1:00 PM
URL:https://dallasfamilymedical.com/event/business-hours/2028-03-09/
END:VEVENT
BEGIN:VEVENT
DTSTART;TZID=UTC:20280310T064500
DTEND;TZID=UTC:20280310T120000
DTSTAMP:20260421T035541
CREATED:20251119T072316Z
LAST-MODIFIED:20251119T072316Z
UID:10004300-1836283500-1836302400@dallasfamilymedical.com
SUMMARY:Business Hours Friday
DESCRIPTION:Business Hours Friday
URL:https://dallasfamilymedical.com/event/business-hours-friday/2028-03-10/
END:VEVENT
BEGIN:VEVENT
DTSTART;TZID=UTC:20280313T064500
DTEND;TZID=UTC:20280313T160000
DTSTAMP:20260421T035541
CREATED:20251119T044148Z
LAST-MODIFIED:20251119T075856Z
UID:10003617-1836542700-1836576000@dallasfamilymedical.com
SUMMARY:Business Hours
DESCRIPTION:Lunch from Noon to 1:00 PM
URL:https://dallasfamilymedical.com/event/business-hours/2028-03-13/
END:VEVENT
BEGIN:VEVENT
DTSTART;TZID=UTC:20280314T064500
DTEND;TZID=UTC:20280314T160000
DTSTAMP:20260421T035541
CREATED:20251119T044148Z
LAST-MODIFIED:20251119T075856Z
UID:10003618-1836629100-1836662400@dallasfamilymedical.com
SUMMARY:Business Hours
DESCRIPTION:Lunch from Noon to 1:00 PM
URL:https://dallasfamilymedical.com/event/business-hours/2028-03-14/
END:VEVENT
BEGIN:VEVENT
DTSTART;TZID=UTC:20280315T064500
DTEND;TZID=UTC:20280315T160000
DTSTAMP:20260421T035541
CREATED:20251119T044148Z
LAST-MODIFIED:20251119T075856Z
UID:10003619-1836715500-1836748800@dallasfamilymedical.com
SUMMARY:Business Hours
DESCRIPTION:Lunch from Noon to 1:00 PM
URL:https://dallasfamilymedical.com/event/business-hours/2028-03-15/
END:VEVENT
BEGIN:VEVENT
DTSTART;TZID=UTC:20280316T064500
DTEND;TZID=UTC:20280316T160000
DTSTAMP:20260421T035541
CREATED:20251119T044148Z
LAST-MODIFIED:20251119T075856Z
UID:10003620-1836801900-1836835200@dallasfamilymedical.com
SUMMARY:Business Hours
DESCRIPTION:Lunch from Noon to 1:00 PM
URL:https://dallasfamilymedical.com/event/business-hours/2028-03-16/
END:VEVENT
BEGIN:VEVENT
DTSTART;TZID=UTC:20280317T064500
DTEND;TZID=UTC:20280317T120000
DTSTAMP:20260421T035541
CREATED:20251119T072316Z
LAST-MODIFIED:20251119T072316Z
UID:10004301-1836888300-1836907200@dallasfamilymedical.com
SUMMARY:Business Hours Friday
DESCRIPTION:Business Hours Friday
URL:https://dallasfamilymedical.com/event/business-hours-friday/2028-03-17/
END:VEVENT
BEGIN:VEVENT
DTSTART;TZID=UTC:20280320T064500
DTEND;TZID=UTC:20280320T160000
DTSTAMP:20260421T035541
CREATED:20251119T044148Z
LAST-MODIFIED:20251119T075856Z
UID:10003621-1837147500-1837180800@dallasfamilymedical.com
SUMMARY:Business Hours
DESCRIPTION:Lunch from Noon to 1:00 PM
URL:https://dallasfamilymedical.com/event/business-hours/2028-03-20/
END:VEVENT
BEGIN:VEVENT
DTSTART;TZID=UTC:20280321T064500
DTEND;TZID=UTC:20280321T160000
DTSTAMP:20260421T035541
CREATED:20251119T044148Z
LAST-MODIFIED:20251119T075856Z
UID:10003622-1837233900-1837267200@dallasfamilymedical.com
SUMMARY:Business Hours
DESCRIPTION:Lunch from Noon to 1:00 PM
URL:https://dallasfamilymedical.com/event/business-hours/2028-03-21/
END:VEVENT
BEGIN:VEVENT
DTSTART;TZID=UTC:20280322T064500
DTEND;TZID=UTC:20280322T160000
DTSTAMP:20260421T035541
CREATED:20251119T044148Z
LAST-MODIFIED:20251119T075856Z
UID:10003623-1837320300-1837353600@dallasfamilymedical.com
SUMMARY:Business Hours
DESCRIPTION:Lunch from Noon to 1:00 PM
URL:https://dallasfamilymedical.com/event/business-hours/2028-03-22/
END:VEVENT
BEGIN:VEVENT
DTSTART;TZID=UTC:20280323T064500
DTEND;TZID=UTC:20280323T160000
DTSTAMP:20260421T035541
CREATED:20251119T044148Z
LAST-MODIFIED:20251119T075856Z
UID:10003624-1837406700-1837440000@dallasfamilymedical.com
SUMMARY:Business Hours
DESCRIPTION:Lunch from Noon to 1:00 PM
URL:https://dallasfamilymedical.com/event/business-hours/2028-03-23/
END:VEVENT
BEGIN:VEVENT
DTSTART;TZID=UTC:20280324T064500
DTEND;TZID=UTC:20280324T120000
DTSTAMP:20260421T035541
CREATED:20251119T072316Z
LAST-MODIFIED:20251119T072316Z
UID:10004302-1837493100-1837512000@dallasfamilymedical.com
SUMMARY:Business Hours Friday
DESCRIPTION:Business Hours Friday
URL:https://dallasfamilymedical.com/event/business-hours-friday/2028-03-24/
END:VEVENT
BEGIN:VEVENT
DTSTART;TZID=UTC:20280327T064500
DTEND;TZID=UTC:20280327T160000
DTSTAMP:20260421T035541
CREATED:20251119T044148Z
LAST-MODIFIED:20251119T075856Z
UID:10003625-1837752300-1837785600@dallasfamilymedical.com
SUMMARY:Business Hours
DESCRIPTION:Lunch from Noon to 1:00 PM
URL:https://dallasfamilymedical.com/event/business-hours/2028-03-27/
END:VEVENT
BEGIN:VEVENT
DTSTART;TZID=UTC:20280328T064500
DTEND;TZID=UTC:20280328T160000
DTSTAMP:20260421T035541
CREATED:20251119T044148Z
LAST-MODIFIED:20251119T075856Z
UID:10003626-1837838700-1837872000@dallasfamilymedical.com
SUMMARY:Business Hours
DESCRIPTION:Lunch from Noon to 1:00 PM
URL:https://dallasfamilymedical.com/event/business-hours/2028-03-28/
END:VEVENT
BEGIN:VEVENT
DTSTART;TZID=UTC:20280329T064500
DTEND;TZID=UTC:20280329T160000
DTSTAMP:20260421T035541
CREATED:20251119T044148Z
LAST-MODIFIED:20251119T075856Z
UID:10003627-1837925100-1837958400@dallasfamilymedical.com
SUMMARY:Business Hours
DESCRIPTION:Lunch from Noon to 1:00 PM
URL:https://dallasfamilymedical.com/event/business-hours/2028-03-29/
END:VEVENT
BEGIN:VEVENT
DTSTART;TZID=UTC:20280330T064500
DTEND;TZID=UTC:20280330T160000
DTSTAMP:20260421T035541
CREATED:20251119T044148Z
LAST-MODIFIED:20251119T075856Z
UID:10003628-1838011500-1838044800@dallasfamilymedical.com
SUMMARY:Business Hours
DESCRIPTION:Lunch from Noon to 1:00 PM
URL:https://dallasfamilymedical.com/event/business-hours/2028-03-30/
END:VEVENT
BEGIN:VEVENT
DTSTART;TZID=UTC:20280331T064500
DTEND;TZID=UTC:20280331T120000
DTSTAMP:20260421T035541
CREATED:20251119T072316Z
LAST-MODIFIED:20251119T072316Z
UID:10004303-1838097900-1838116800@dallasfamilymedical.com
SUMMARY:Business Hours Friday
DESCRIPTION:Business Hours Friday
URL:https://dallasfamilymedical.com/event/business-hours-friday/2028-03-31/
END:VEVENT
BEGIN:VEVENT
DTSTART;TZID=UTC:20280403T064500
DTEND;TZID=UTC:20280403T160000
DTSTAMP:20260421T035541
CREATED:20251119T044148Z
LAST-MODIFIED:20251119T075856Z
UID:10003629-1838357100-1838390400@dallasfamilymedical.com
SUMMARY:Business Hours
DESCRIPTION:Lunch from Noon to 1:00 PM
URL:https://dallasfamilymedical.com/event/business-hours/2028-04-03/
END:VEVENT
BEGIN:VEVENT
DTSTART;TZID=UTC:20280404T064500
DTEND;TZID=UTC:20280404T160000
DTSTAMP:20260421T035541
CREATED:20251119T044148Z
LAST-MODIFIED:20251119T075856Z
UID:10003630-1838443500-1838476800@dallasfamilymedical.com
SUMMARY:Business Hours
DESCRIPTION:Lunch from Noon to 1:00 PM
URL:https://dallasfamilymedical.com/event/business-hours/2028-04-04/
END:VEVENT
BEGIN:VEVENT
DTSTART;TZID=UTC:20280405T064500
DTEND;TZID=UTC:20280405T160000
DTSTAMP:20260421T035541
CREATED:20251119T044148Z
LAST-MODIFIED:20251119T075856Z
UID:10003631-1838529900-1838563200@dallasfamilymedical.com
SUMMARY:Business Hours
DESCRIPTION:Lunch from Noon to 1:00 PM
URL:https://dallasfamilymedical.com/event/business-hours/2028-04-05/
END:VEVENT
BEGIN:VEVENT
DTSTART;TZID=UTC:20280406T064500
DTEND;TZID=UTC:20280406T160000
DTSTAMP:20260421T035541
CREATED:20251119T044148Z
LAST-MODIFIED:20251119T075856Z
UID:10003632-1838616300-1838649600@dallasfamilymedical.com
SUMMARY:Business Hours
DESCRIPTION:Lunch from Noon to 1:00 PM
URL:https://dallasfamilymedical.com/event/business-hours/2028-04-06/
END:VEVENT
BEGIN:VEVENT
DTSTART;TZID=UTC:20280407T064500
DTEND;TZID=UTC:20280407T120000
DTSTAMP:20260421T035541
CREATED:20251119T072316Z
LAST-MODIFIED:20251119T072316Z
UID:10004304-1838702700-1838721600@dallasfamilymedical.com
SUMMARY:Business Hours Friday
DESCRIPTION:Business Hours Friday
URL:https://dallasfamilymedical.com/event/business-hours-friday/2028-04-07/
END:VEVENT
END:VCALENDAR