BEGIN:VCALENDAR
VERSION:2.0
PRODID:-//Dallas Family Medical &amp; Aesthetics - ECPv6.15.12//NONSGML v1.0//EN
CALSCALE:GREGORIAN
METHOD:PUBLISH
X-WR-CALNAME:Dallas Family Medical &amp; Aesthetics
X-ORIGINAL-URL:https://dallasfamilymedical.com
X-WR-CALDESC:Events for Dallas Family Medical &amp; Aesthetics
REFRESH-INTERVAL;VALUE=DURATION:PT1H
X-Robots-Tag:noindex
X-PUBLISHED-TTL:PT1H
BEGIN:VTIMEZONE
TZID:UTC
BEGIN:STANDARD
TZOFFSETFROM:+0000
TZOFFSETTO:+0000
TZNAME:UTC
DTSTART:20270101T000000
END:STANDARD
END:VTIMEZONE
BEGIN:VEVENT
DTSTART;TZID=UTC:20280105T064500
DTEND;TZID=UTC:20280105T160000
DTSTAMP:20260420T222541
CREATED:20251119T044148Z
LAST-MODIFIED:20251119T075856Z
UID:10003579-1830667500-1830700800@dallasfamilymedical.com
SUMMARY:Business Hours
DESCRIPTION:Lunch from Noon to 1:00 PM
URL:https://dallasfamilymedical.com/event/business-hours/2028-01-05/
END:VEVENT
BEGIN:VEVENT
DTSTART;TZID=UTC:20280106T064500
DTEND;TZID=UTC:20280106T160000
DTSTAMP:20260420T222541
CREATED:20251119T044148Z
LAST-MODIFIED:20251119T075856Z
UID:10003580-1830753900-1830787200@dallasfamilymedical.com
SUMMARY:Business Hours
DESCRIPTION:Lunch from Noon to 1:00 PM
URL:https://dallasfamilymedical.com/event/business-hours/2028-01-06/
END:VEVENT
BEGIN:VEVENT
DTSTART;TZID=UTC:20280107T064500
DTEND;TZID=UTC:20280107T120000
DTSTAMP:20260420T222541
CREATED:20251119T072316Z
LAST-MODIFIED:20251119T072316Z
UID:10004291-1830840300-1830859200@dallasfamilymedical.com
SUMMARY:Business Hours Friday
DESCRIPTION:Business Hours Friday
URL:https://dallasfamilymedical.com/event/business-hours-friday/2028-01-07/
END:VEVENT
BEGIN:VEVENT
DTSTART;TZID=UTC:20280110T064500
DTEND;TZID=UTC:20280110T160000
DTSTAMP:20260420T222541
CREATED:20251119T044148Z
LAST-MODIFIED:20251119T075856Z
UID:10003581-1831099500-1831132800@dallasfamilymedical.com
SUMMARY:Business Hours
DESCRIPTION:Lunch from Noon to 1:00 PM
URL:https://dallasfamilymedical.com/event/business-hours/2028-01-10/
END:VEVENT
BEGIN:VEVENT
DTSTART;TZID=UTC:20280111T064500
DTEND;TZID=UTC:20280111T160000
DTSTAMP:20260420T222541
CREATED:20251119T044148Z
LAST-MODIFIED:20251119T075856Z
UID:10003582-1831185900-1831219200@dallasfamilymedical.com
SUMMARY:Business Hours
DESCRIPTION:Lunch from Noon to 1:00 PM
URL:https://dallasfamilymedical.com/event/business-hours/2028-01-11/
END:VEVENT
BEGIN:VEVENT
DTSTART;TZID=UTC:20280112T064500
DTEND;TZID=UTC:20280112T160000
DTSTAMP:20260420T222541
CREATED:20251119T044148Z
LAST-MODIFIED:20251119T075856Z
UID:10003583-1831272300-1831305600@dallasfamilymedical.com
SUMMARY:Business Hours
DESCRIPTION:Lunch from Noon to 1:00 PM
URL:https://dallasfamilymedical.com/event/business-hours/2028-01-12/
END:VEVENT
BEGIN:VEVENT
DTSTART;TZID=UTC:20280113T064500
DTEND;TZID=UTC:20280113T160000
DTSTAMP:20260420T222541
CREATED:20251119T044148Z
LAST-MODIFIED:20251119T075856Z
UID:10003584-1831358700-1831392000@dallasfamilymedical.com
SUMMARY:Business Hours
DESCRIPTION:Lunch from Noon to 1:00 PM
URL:https://dallasfamilymedical.com/event/business-hours/2028-01-13/
END:VEVENT
BEGIN:VEVENT
DTSTART;TZID=UTC:20280114T064500
DTEND;TZID=UTC:20280114T120000
DTSTAMP:20260420T222541
CREATED:20251119T072316Z
LAST-MODIFIED:20251119T072316Z
UID:10004292-1831445100-1831464000@dallasfamilymedical.com
SUMMARY:Business Hours Friday
DESCRIPTION:Business Hours Friday
URL:https://dallasfamilymedical.com/event/business-hours-friday/2028-01-14/
END:VEVENT
BEGIN:VEVENT
DTSTART;TZID=UTC:20280117T064500
DTEND;TZID=UTC:20280117T160000
DTSTAMP:20260420T222541
CREATED:20251119T044148Z
LAST-MODIFIED:20251119T075856Z
UID:10003585-1831704300-1831737600@dallasfamilymedical.com
SUMMARY:Business Hours
DESCRIPTION:Lunch from Noon to 1:00 PM
URL:https://dallasfamilymedical.com/event/business-hours/2028-01-17/
END:VEVENT
BEGIN:VEVENT
DTSTART;TZID=UTC:20280118T064500
DTEND;TZID=UTC:20280118T160000
DTSTAMP:20260420T222541
CREATED:20251119T044148Z
LAST-MODIFIED:20251119T075856Z
UID:10003586-1831790700-1831824000@dallasfamilymedical.com
SUMMARY:Business Hours
DESCRIPTION:Lunch from Noon to 1:00 PM
URL:https://dallasfamilymedical.com/event/business-hours/2028-01-18/
END:VEVENT
BEGIN:VEVENT
DTSTART;TZID=UTC:20280119T064500
DTEND;TZID=UTC:20280119T160000
DTSTAMP:20260420T222541
CREATED:20251119T044148Z
LAST-MODIFIED:20251119T075856Z
UID:10003587-1831877100-1831910400@dallasfamilymedical.com
SUMMARY:Business Hours
DESCRIPTION:Lunch from Noon to 1:00 PM
URL:https://dallasfamilymedical.com/event/business-hours/2028-01-19/
END:VEVENT
BEGIN:VEVENT
DTSTART;TZID=UTC:20280120T064500
DTEND;TZID=UTC:20280120T160000
DTSTAMP:20260420T222541
CREATED:20251119T044148Z
LAST-MODIFIED:20251119T075856Z
UID:10003588-1831963500-1831996800@dallasfamilymedical.com
SUMMARY:Business Hours
DESCRIPTION:Lunch from Noon to 1:00 PM
URL:https://dallasfamilymedical.com/event/business-hours/2028-01-20/
END:VEVENT
BEGIN:VEVENT
DTSTART;TZID=UTC:20280121T064500
DTEND;TZID=UTC:20280121T120000
DTSTAMP:20260420T222541
CREATED:20251119T072316Z
LAST-MODIFIED:20251119T072316Z
UID:10004293-1832049900-1832068800@dallasfamilymedical.com
SUMMARY:Business Hours Friday
DESCRIPTION:Business Hours Friday
URL:https://dallasfamilymedical.com/event/business-hours-friday/2028-01-21/
END:VEVENT
BEGIN:VEVENT
DTSTART;TZID=UTC:20280124T064500
DTEND;TZID=UTC:20280124T160000
DTSTAMP:20260420T222541
CREATED:20251119T044148Z
LAST-MODIFIED:20251119T075856Z
UID:10003589-1832309100-1832342400@dallasfamilymedical.com
SUMMARY:Business Hours
DESCRIPTION:Lunch from Noon to 1:00 PM
URL:https://dallasfamilymedical.com/event/business-hours/2028-01-24/
END:VEVENT
BEGIN:VEVENT
DTSTART;TZID=UTC:20280125T064500
DTEND;TZID=UTC:20280125T160000
DTSTAMP:20260420T222541
CREATED:20251119T044148Z
LAST-MODIFIED:20251119T075856Z
UID:10003590-1832395500-1832428800@dallasfamilymedical.com
SUMMARY:Business Hours
DESCRIPTION:Lunch from Noon to 1:00 PM
URL:https://dallasfamilymedical.com/event/business-hours/2028-01-25/
END:VEVENT
BEGIN:VEVENT
DTSTART;TZID=UTC:20280126T064500
DTEND;TZID=UTC:20280126T160000
DTSTAMP:20260420T222541
CREATED:20251119T044148Z
LAST-MODIFIED:20251119T075856Z
UID:10003591-1832481900-1832515200@dallasfamilymedical.com
SUMMARY:Business Hours
DESCRIPTION:Lunch from Noon to 1:00 PM
URL:https://dallasfamilymedical.com/event/business-hours/2028-01-26/
END:VEVENT
BEGIN:VEVENT
DTSTART;TZID=UTC:20280127T064500
DTEND;TZID=UTC:20280127T160000
DTSTAMP:20260420T222541
CREATED:20251119T044148Z
LAST-MODIFIED:20251119T075856Z
UID:10003592-1832568300-1832601600@dallasfamilymedical.com
SUMMARY:Business Hours
DESCRIPTION:Lunch from Noon to 1:00 PM
URL:https://dallasfamilymedical.com/event/business-hours/2028-01-27/
END:VEVENT
BEGIN:VEVENT
DTSTART;TZID=UTC:20280128T064500
DTEND;TZID=UTC:20280128T120000
DTSTAMP:20260420T222541
CREATED:20251119T072316Z
LAST-MODIFIED:20251119T072316Z
UID:10004294-1832654700-1832673600@dallasfamilymedical.com
SUMMARY:Business Hours Friday
DESCRIPTION:Business Hours Friday
URL:https://dallasfamilymedical.com/event/business-hours-friday/2028-01-28/
END:VEVENT
BEGIN:VEVENT
DTSTART;TZID=UTC:20280131T064500
DTEND;TZID=UTC:20280131T160000
DTSTAMP:20260420T222541
CREATED:20251119T044148Z
LAST-MODIFIED:20251119T075856Z
UID:10003593-1832913900-1832947200@dallasfamilymedical.com
SUMMARY:Business Hours
DESCRIPTION:Lunch from Noon to 1:00 PM
URL:https://dallasfamilymedical.com/event/business-hours/2028-01-31/
END:VEVENT
BEGIN:VEVENT
DTSTART;TZID=UTC:20280201T064500
DTEND;TZID=UTC:20280201T160000
DTSTAMP:20260420T222541
CREATED:20251119T044148Z
LAST-MODIFIED:20251119T075856Z
UID:10003594-1833000300-1833033600@dallasfamilymedical.com
SUMMARY:Business Hours
DESCRIPTION:Lunch from Noon to 1:00 PM
URL:https://dallasfamilymedical.com/event/business-hours/2028-02-01/
END:VEVENT
BEGIN:VEVENT
DTSTART;TZID=UTC:20280202T064500
DTEND;TZID=UTC:20280202T160000
DTSTAMP:20260420T222541
CREATED:20251119T044148Z
LAST-MODIFIED:20251119T075856Z
UID:10003595-1833086700-1833120000@dallasfamilymedical.com
SUMMARY:Business Hours
DESCRIPTION:Lunch from Noon to 1:00 PM
URL:https://dallasfamilymedical.com/event/business-hours/2028-02-02/
END:VEVENT
BEGIN:VEVENT
DTSTART;TZID=UTC:20280203T064500
DTEND;TZID=UTC:20280203T160000
DTSTAMP:20260420T222541
CREATED:20251119T044148Z
LAST-MODIFIED:20251119T075856Z
UID:10003596-1833173100-1833206400@dallasfamilymedical.com
SUMMARY:Business Hours
DESCRIPTION:Lunch from Noon to 1:00 PM
URL:https://dallasfamilymedical.com/event/business-hours/2028-02-03/
END:VEVENT
BEGIN:VEVENT
DTSTART;TZID=UTC:20280204T064500
DTEND;TZID=UTC:20280204T120000
DTSTAMP:20260420T222541
CREATED:20251119T072316Z
LAST-MODIFIED:20251119T072316Z
UID:10004295-1833259500-1833278400@dallasfamilymedical.com
SUMMARY:Business Hours Friday
DESCRIPTION:Business Hours Friday
URL:https://dallasfamilymedical.com/event/business-hours-friday/2028-02-04/
END:VEVENT
BEGIN:VEVENT
DTSTART;TZID=UTC:20280207T064500
DTEND;TZID=UTC:20280207T160000
DTSTAMP:20260420T222541
CREATED:20251119T044148Z
LAST-MODIFIED:20251119T075856Z
UID:10003597-1833518700-1833552000@dallasfamilymedical.com
SUMMARY:Business Hours
DESCRIPTION:Lunch from Noon to 1:00 PM
URL:https://dallasfamilymedical.com/event/business-hours/2028-02-07/
END:VEVENT
BEGIN:VEVENT
DTSTART;TZID=UTC:20280208T064500
DTEND;TZID=UTC:20280208T160000
DTSTAMP:20260420T222541
CREATED:20251119T044148Z
LAST-MODIFIED:20251119T075856Z
UID:10003598-1833605100-1833638400@dallasfamilymedical.com
SUMMARY:Business Hours
DESCRIPTION:Lunch from Noon to 1:00 PM
URL:https://dallasfamilymedical.com/event/business-hours/2028-02-08/
END:VEVENT
BEGIN:VEVENT
DTSTART;TZID=UTC:20280209T064500
DTEND;TZID=UTC:20280209T160000
DTSTAMP:20260420T222541
CREATED:20251119T044148Z
LAST-MODIFIED:20251119T075856Z
UID:10003599-1833691500-1833724800@dallasfamilymedical.com
SUMMARY:Business Hours
DESCRIPTION:Lunch from Noon to 1:00 PM
URL:https://dallasfamilymedical.com/event/business-hours/2028-02-09/
END:VEVENT
BEGIN:VEVENT
DTSTART;TZID=UTC:20280210T064500
DTEND;TZID=UTC:20280210T160000
DTSTAMP:20260420T222541
CREATED:20251119T044148Z
LAST-MODIFIED:20251119T075856Z
UID:10003600-1833777900-1833811200@dallasfamilymedical.com
SUMMARY:Business Hours
DESCRIPTION:Lunch from Noon to 1:00 PM
URL:https://dallasfamilymedical.com/event/business-hours/2028-02-10/
END:VEVENT
BEGIN:VEVENT
DTSTART;TZID=UTC:20280211T064500
DTEND;TZID=UTC:20280211T120000
DTSTAMP:20260420T222541
CREATED:20251119T072316Z
LAST-MODIFIED:20251119T072316Z
UID:10004296-1833864300-1833883200@dallasfamilymedical.com
SUMMARY:Business Hours Friday
DESCRIPTION:Business Hours Friday
URL:https://dallasfamilymedical.com/event/business-hours-friday/2028-02-11/
END:VEVENT
BEGIN:VEVENT
DTSTART;TZID=UTC:20280214T064500
DTEND;TZID=UTC:20280214T160000
DTSTAMP:20260420T222541
CREATED:20251119T044148Z
LAST-MODIFIED:20251119T075856Z
UID:10003601-1834123500-1834156800@dallasfamilymedical.com
SUMMARY:Business Hours
DESCRIPTION:Lunch from Noon to 1:00 PM
URL:https://dallasfamilymedical.com/event/business-hours/2028-02-14/
END:VEVENT
BEGIN:VEVENT
DTSTART;TZID=UTC:20280215T064500
DTEND;TZID=UTC:20280215T160000
DTSTAMP:20260420T222541
CREATED:20251119T044148Z
LAST-MODIFIED:20251119T075856Z
UID:10003602-1834209900-1834243200@dallasfamilymedical.com
SUMMARY:Business Hours
DESCRIPTION:Lunch from Noon to 1:00 PM
URL:https://dallasfamilymedical.com/event/business-hours/2028-02-15/
END:VEVENT
END:VCALENDAR