BEGIN:VCALENDAR
VERSION:2.0
PRODID:-//Dallas Family Medical &amp; Aesthetics - ECPv6.15.12//NONSGML v1.0//EN
CALSCALE:GREGORIAN
METHOD:PUBLISH
X-ORIGINAL-URL:https://dallasfamilymedical.com
X-WR-CALDESC:Events for Dallas Family Medical &amp; Aesthetics
REFRESH-INTERVAL;VALUE=DURATION:PT1H
X-Robots-Tag:noindex
X-PUBLISHED-TTL:PT1H
BEGIN:VTIMEZONE
TZID:UTC
BEGIN:STANDARD
TZOFFSETFROM:+0000
TZOFFSETTO:+0000
TZNAME:UTC
DTSTART:20260101T000000
END:STANDARD
END:VTIMEZONE
BEGIN:VEVENT
DTSTART;TZID=UTC:20270917T064500
DTEND;TZID=UTC:20270917T120000
DTSTAMP:20260420T075339
CREATED:20251119T072316Z
LAST-MODIFIED:20251119T072316Z
UID:10004275-1821163500-1821182400@dallasfamilymedical.com
SUMMARY:Business Hours Friday
DESCRIPTION:Business Hours Friday
URL:https://dallasfamilymedical.com/event/business-hours-friday/2027-09-17/
END:VEVENT
BEGIN:VEVENT
DTSTART;TZID=UTC:20270920T064500
DTEND;TZID=UTC:20270920T160000
DTSTAMP:20260420T075339
CREATED:20251119T044148Z
LAST-MODIFIED:20251119T075856Z
UID:10003517-1821422700-1821456000@dallasfamilymedical.com
SUMMARY:Business Hours
DESCRIPTION:Lunch from Noon to 1:00 PM
URL:https://dallasfamilymedical.com/event/business-hours/2027-09-20/
END:VEVENT
BEGIN:VEVENT
DTSTART;TZID=UTC:20270921T064500
DTEND;TZID=UTC:20270921T160000
DTSTAMP:20260420T075339
CREATED:20251119T044148Z
LAST-MODIFIED:20251119T075856Z
UID:10003518-1821509100-1821542400@dallasfamilymedical.com
SUMMARY:Business Hours
DESCRIPTION:Lunch from Noon to 1:00 PM
URL:https://dallasfamilymedical.com/event/business-hours/2027-09-21/
END:VEVENT
BEGIN:VEVENT
DTSTART;TZID=UTC:20270922T064500
DTEND;TZID=UTC:20270922T160000
DTSTAMP:20260420T075339
CREATED:20251119T044148Z
LAST-MODIFIED:20251119T075856Z
UID:10003519-1821595500-1821628800@dallasfamilymedical.com
SUMMARY:Business Hours
DESCRIPTION:Lunch from Noon to 1:00 PM
URL:https://dallasfamilymedical.com/event/business-hours/2027-09-22/
END:VEVENT
BEGIN:VEVENT
DTSTART;TZID=UTC:20270923T064500
DTEND;TZID=UTC:20270923T160000
DTSTAMP:20260420T075339
CREATED:20251119T044148Z
LAST-MODIFIED:20251119T075856Z
UID:10003520-1821681900-1821715200@dallasfamilymedical.com
SUMMARY:Business Hours
DESCRIPTION:Lunch from Noon to 1:00 PM
URL:https://dallasfamilymedical.com/event/business-hours/2027-09-23/
END:VEVENT
BEGIN:VEVENT
DTSTART;TZID=UTC:20270924T064500
DTEND;TZID=UTC:20270924T120000
DTSTAMP:20260420T075339
CREATED:20251119T072316Z
LAST-MODIFIED:20251119T072316Z
UID:10004276-1821768300-1821787200@dallasfamilymedical.com
SUMMARY:Business Hours Friday
DESCRIPTION:Business Hours Friday
URL:https://dallasfamilymedical.com/event/business-hours-friday/2027-09-24/
END:VEVENT
BEGIN:VEVENT
DTSTART;TZID=UTC:20270927T064500
DTEND;TZID=UTC:20270927T160000
DTSTAMP:20260420T075339
CREATED:20251119T044148Z
LAST-MODIFIED:20251119T075856Z
UID:10003521-1822027500-1822060800@dallasfamilymedical.com
SUMMARY:Business Hours
DESCRIPTION:Lunch from Noon to 1:00 PM
URL:https://dallasfamilymedical.com/event/business-hours/2027-09-27/
END:VEVENT
BEGIN:VEVENT
DTSTART;TZID=UTC:20270928T064500
DTEND;TZID=UTC:20270928T160000
DTSTAMP:20260420T075339
CREATED:20251119T044148Z
LAST-MODIFIED:20251119T075856Z
UID:10003522-1822113900-1822147200@dallasfamilymedical.com
SUMMARY:Business Hours
DESCRIPTION:Lunch from Noon to 1:00 PM
URL:https://dallasfamilymedical.com/event/business-hours/2027-09-28/
END:VEVENT
BEGIN:VEVENT
DTSTART;TZID=UTC:20270929T064500
DTEND;TZID=UTC:20270929T160000
DTSTAMP:20260420T075339
CREATED:20251119T044148Z
LAST-MODIFIED:20251119T075856Z
UID:10003523-1822200300-1822233600@dallasfamilymedical.com
SUMMARY:Business Hours
DESCRIPTION:Lunch from Noon to 1:00 PM
URL:https://dallasfamilymedical.com/event/business-hours/2027-09-29/
END:VEVENT
BEGIN:VEVENT
DTSTART;TZID=UTC:20270930T064500
DTEND;TZID=UTC:20270930T160000
DTSTAMP:20260420T075339
CREATED:20251119T044148Z
LAST-MODIFIED:20251119T075856Z
UID:10003524-1822286700-1822320000@dallasfamilymedical.com
SUMMARY:Business Hours
DESCRIPTION:Lunch from Noon to 1:00 PM
URL:https://dallasfamilymedical.com/event/business-hours/2027-09-30/
END:VEVENT
BEGIN:VEVENT
DTSTART;TZID=UTC:20271001T064500
DTEND;TZID=UTC:20271001T120000
DTSTAMP:20260420T075339
CREATED:20251119T072316Z
LAST-MODIFIED:20251119T072316Z
UID:10004277-1822373100-1822392000@dallasfamilymedical.com
SUMMARY:Business Hours Friday
DESCRIPTION:Business Hours Friday
URL:https://dallasfamilymedical.com/event/business-hours-friday/2027-10-01/
END:VEVENT
BEGIN:VEVENT
DTSTART;TZID=UTC:20271004T064500
DTEND;TZID=UTC:20271004T160000
DTSTAMP:20260420T075339
CREATED:20251119T044148Z
LAST-MODIFIED:20251119T075856Z
UID:10003525-1822632300-1822665600@dallasfamilymedical.com
SUMMARY:Business Hours
DESCRIPTION:Lunch from Noon to 1:00 PM
URL:https://dallasfamilymedical.com/event/business-hours/2027-10-04/
END:VEVENT
BEGIN:VEVENT
DTSTART;TZID=UTC:20271005T064500
DTEND;TZID=UTC:20271005T160000
DTSTAMP:20260420T075339
CREATED:20251119T044148Z
LAST-MODIFIED:20251119T075856Z
UID:10003526-1822718700-1822752000@dallasfamilymedical.com
SUMMARY:Business Hours
DESCRIPTION:Lunch from Noon to 1:00 PM
URL:https://dallasfamilymedical.com/event/business-hours/2027-10-05/
END:VEVENT
BEGIN:VEVENT
DTSTART;TZID=UTC:20271006T064500
DTEND;TZID=UTC:20271006T160000
DTSTAMP:20260420T075339
CREATED:20251119T044148Z
LAST-MODIFIED:20251119T075856Z
UID:10003527-1822805100-1822838400@dallasfamilymedical.com
SUMMARY:Business Hours
DESCRIPTION:Lunch from Noon to 1:00 PM
URL:https://dallasfamilymedical.com/event/business-hours/2027-10-06/
END:VEVENT
BEGIN:VEVENT
DTSTART;TZID=UTC:20271007T064500
DTEND;TZID=UTC:20271007T160000
DTSTAMP:20260420T075339
CREATED:20251119T044148Z
LAST-MODIFIED:20251119T075856Z
UID:10003528-1822891500-1822924800@dallasfamilymedical.com
SUMMARY:Business Hours
DESCRIPTION:Lunch from Noon to 1:00 PM
URL:https://dallasfamilymedical.com/event/business-hours/2027-10-07/
END:VEVENT
BEGIN:VEVENT
DTSTART;TZID=UTC:20271008T064500
DTEND;TZID=UTC:20271008T120000
DTSTAMP:20260420T075339
CREATED:20251119T072316Z
LAST-MODIFIED:20251119T072316Z
UID:10004278-1822977900-1822996800@dallasfamilymedical.com
SUMMARY:Business Hours Friday
DESCRIPTION:Business Hours Friday
URL:https://dallasfamilymedical.com/event/business-hours-friday/2027-10-08/
END:VEVENT
BEGIN:VEVENT
DTSTART;TZID=UTC:20271011T064500
DTEND;TZID=UTC:20271011T160000
DTSTAMP:20260420T075339
CREATED:20251119T044148Z
LAST-MODIFIED:20251119T075856Z
UID:10003529-1823237100-1823270400@dallasfamilymedical.com
SUMMARY:Business Hours
DESCRIPTION:Lunch from Noon to 1:00 PM
URL:https://dallasfamilymedical.com/event/business-hours/2027-10-11/
END:VEVENT
BEGIN:VEVENT
DTSTART;TZID=UTC:20271012T064500
DTEND;TZID=UTC:20271012T160000
DTSTAMP:20260420T075339
CREATED:20251119T044148Z
LAST-MODIFIED:20251119T075856Z
UID:10003530-1823323500-1823356800@dallasfamilymedical.com
SUMMARY:Business Hours
DESCRIPTION:Lunch from Noon to 1:00 PM
URL:https://dallasfamilymedical.com/event/business-hours/2027-10-12/
END:VEVENT
BEGIN:VEVENT
DTSTART;TZID=UTC:20271013T064500
DTEND;TZID=UTC:20271013T160000
DTSTAMP:20260420T075339
CREATED:20251119T044148Z
LAST-MODIFIED:20251119T075856Z
UID:10003531-1823409900-1823443200@dallasfamilymedical.com
SUMMARY:Business Hours
DESCRIPTION:Lunch from Noon to 1:00 PM
URL:https://dallasfamilymedical.com/event/business-hours/2027-10-13/
END:VEVENT
BEGIN:VEVENT
DTSTART;TZID=UTC:20271014T064500
DTEND;TZID=UTC:20271014T160000
DTSTAMP:20260420T075339
CREATED:20251119T044148Z
LAST-MODIFIED:20251119T075856Z
UID:10003532-1823496300-1823529600@dallasfamilymedical.com
SUMMARY:Business Hours
DESCRIPTION:Lunch from Noon to 1:00 PM
URL:https://dallasfamilymedical.com/event/business-hours/2027-10-14/
END:VEVENT
BEGIN:VEVENT
DTSTART;TZID=UTC:20271015T064500
DTEND;TZID=UTC:20271015T120000
DTSTAMP:20260420T075339
CREATED:20251119T072316Z
LAST-MODIFIED:20251119T072316Z
UID:10004279-1823582700-1823601600@dallasfamilymedical.com
SUMMARY:Business Hours Friday
DESCRIPTION:Business Hours Friday
URL:https://dallasfamilymedical.com/event/business-hours-friday/2027-10-15/
END:VEVENT
BEGIN:VEVENT
DTSTART;TZID=UTC:20271018T064500
DTEND;TZID=UTC:20271018T160000
DTSTAMP:20260420T075339
CREATED:20251119T044148Z
LAST-MODIFIED:20251119T075856Z
UID:10003533-1823841900-1823875200@dallasfamilymedical.com
SUMMARY:Business Hours
DESCRIPTION:Lunch from Noon to 1:00 PM
URL:https://dallasfamilymedical.com/event/business-hours/2027-10-18/
END:VEVENT
BEGIN:VEVENT
DTSTART;TZID=UTC:20271019T064500
DTEND;TZID=UTC:20271019T160000
DTSTAMP:20260420T075339
CREATED:20251119T044148Z
LAST-MODIFIED:20251119T075856Z
UID:10003534-1823928300-1823961600@dallasfamilymedical.com
SUMMARY:Business Hours
DESCRIPTION:Lunch from Noon to 1:00 PM
URL:https://dallasfamilymedical.com/event/business-hours/2027-10-19/
END:VEVENT
BEGIN:VEVENT
DTSTART;TZID=UTC:20271020T064500
DTEND;TZID=UTC:20271020T160000
DTSTAMP:20260420T075339
CREATED:20251119T044148Z
LAST-MODIFIED:20251119T075856Z
UID:10003535-1824014700-1824048000@dallasfamilymedical.com
SUMMARY:Business Hours
DESCRIPTION:Lunch from Noon to 1:00 PM
URL:https://dallasfamilymedical.com/event/business-hours/2027-10-20/
END:VEVENT
BEGIN:VEVENT
DTSTART;TZID=UTC:20271021T064500
DTEND;TZID=UTC:20271021T160000
DTSTAMP:20260420T075339
CREATED:20251119T044148Z
LAST-MODIFIED:20251119T075856Z
UID:10003536-1824101100-1824134400@dallasfamilymedical.com
SUMMARY:Business Hours
DESCRIPTION:Lunch from Noon to 1:00 PM
URL:https://dallasfamilymedical.com/event/business-hours/2027-10-21/
END:VEVENT
BEGIN:VEVENT
DTSTART;TZID=UTC:20271022T064500
DTEND;TZID=UTC:20271022T120000
DTSTAMP:20260420T075339
CREATED:20251119T072316Z
LAST-MODIFIED:20251119T072316Z
UID:10004280-1824187500-1824206400@dallasfamilymedical.com
SUMMARY:Business Hours Friday
DESCRIPTION:Business Hours Friday
URL:https://dallasfamilymedical.com/event/business-hours-friday/2027-10-22/
END:VEVENT
BEGIN:VEVENT
DTSTART;TZID=UTC:20271025T064500
DTEND;TZID=UTC:20271025T160000
DTSTAMP:20260420T075339
CREATED:20251119T044148Z
LAST-MODIFIED:20251119T075856Z
UID:10003537-1824446700-1824480000@dallasfamilymedical.com
SUMMARY:Business Hours
DESCRIPTION:Lunch from Noon to 1:00 PM
URL:https://dallasfamilymedical.com/event/business-hours/2027-10-25/
END:VEVENT
BEGIN:VEVENT
DTSTART;TZID=UTC:20271026T064500
DTEND;TZID=UTC:20271026T160000
DTSTAMP:20260420T075339
CREATED:20251119T044148Z
LAST-MODIFIED:20251119T075856Z
UID:10003538-1824533100-1824566400@dallasfamilymedical.com
SUMMARY:Business Hours
DESCRIPTION:Lunch from Noon to 1:00 PM
URL:https://dallasfamilymedical.com/event/business-hours/2027-10-26/
END:VEVENT
BEGIN:VEVENT
DTSTART;TZID=UTC:20271027T064500
DTEND;TZID=UTC:20271027T160000
DTSTAMP:20260420T075339
CREATED:20251119T044148Z
LAST-MODIFIED:20251119T075856Z
UID:10003539-1824619500-1824652800@dallasfamilymedical.com
SUMMARY:Business Hours
DESCRIPTION:Lunch from Noon to 1:00 PM
URL:https://dallasfamilymedical.com/event/business-hours/2027-10-27/
END:VEVENT
BEGIN:VEVENT
DTSTART;TZID=UTC:20271028T064500
DTEND;TZID=UTC:20271028T160000
DTSTAMP:20260420T075339
CREATED:20251119T044148Z
LAST-MODIFIED:20251119T075856Z
UID:10003540-1824705900-1824739200@dallasfamilymedical.com
SUMMARY:Business Hours
DESCRIPTION:Lunch from Noon to 1:00 PM
URL:https://dallasfamilymedical.com/event/business-hours/2027-10-28/
END:VEVENT
END:VCALENDAR