BEGIN:VCALENDAR
VERSION:2.0
PRODID:-//Dallas Family Medical &amp; Aesthetics - ECPv6.15.12//NONSGML v1.0//EN
CALSCALE:GREGORIAN
METHOD:PUBLISH
X-ORIGINAL-URL:https://dallasfamilymedical.com
X-WR-CALDESC:Events for Dallas Family Medical &amp; Aesthetics
REFRESH-INTERVAL;VALUE=DURATION:PT1H
X-Robots-Tag:noindex
X-PUBLISHED-TTL:PT1H
BEGIN:VTIMEZONE
TZID:UTC
BEGIN:STANDARD
TZOFFSETFROM:+0000
TZOFFSETTO:+0000
TZNAME:UTC
DTSTART:20260101T000000
END:STANDARD
END:VTIMEZONE
BEGIN:VEVENT
DTSTART;TZID=UTC:20270809T064500
DTEND;TZID=UTC:20270809T160000
DTSTAMP:20260420T043346
CREATED:20251119T044148Z
LAST-MODIFIED:20251119T075856Z
UID:10003493-1817793900-1817827200@dallasfamilymedical.com
SUMMARY:Business Hours
DESCRIPTION:Lunch from Noon to 1:00 PM
URL:https://dallasfamilymedical.com/event/business-hours/2027-08-09/
END:VEVENT
BEGIN:VEVENT
DTSTART;TZID=UTC:20270810T064500
DTEND;TZID=UTC:20270810T160000
DTSTAMP:20260420T043346
CREATED:20251119T044148Z
LAST-MODIFIED:20251119T075856Z
UID:10003494-1817880300-1817913600@dallasfamilymedical.com
SUMMARY:Business Hours
DESCRIPTION:Lunch from Noon to 1:00 PM
URL:https://dallasfamilymedical.com/event/business-hours/2027-08-10/
END:VEVENT
BEGIN:VEVENT
DTSTART;TZID=UTC:20270811T064500
DTEND;TZID=UTC:20270811T160000
DTSTAMP:20260420T043346
CREATED:20251119T044148Z
LAST-MODIFIED:20251119T075856Z
UID:10003495-1817966700-1818000000@dallasfamilymedical.com
SUMMARY:Business Hours
DESCRIPTION:Lunch from Noon to 1:00 PM
URL:https://dallasfamilymedical.com/event/business-hours/2027-08-11/
END:VEVENT
BEGIN:VEVENT
DTSTART;TZID=UTC:20270812T064500
DTEND;TZID=UTC:20270812T160000
DTSTAMP:20260420T043346
CREATED:20251119T044148Z
LAST-MODIFIED:20251119T075856Z
UID:10003496-1818053100-1818086400@dallasfamilymedical.com
SUMMARY:Business Hours
DESCRIPTION:Lunch from Noon to 1:00 PM
URL:https://dallasfamilymedical.com/event/business-hours/2027-08-12/
END:VEVENT
BEGIN:VEVENT
DTSTART;TZID=UTC:20270813T064500
DTEND;TZID=UTC:20270813T120000
DTSTAMP:20260420T043346
CREATED:20251119T072316Z
LAST-MODIFIED:20251119T072316Z
UID:10004270-1818139500-1818158400@dallasfamilymedical.com
SUMMARY:Business Hours Friday
DESCRIPTION:Business Hours Friday
URL:https://dallasfamilymedical.com/event/business-hours-friday/2027-08-13/
END:VEVENT
BEGIN:VEVENT
DTSTART;TZID=UTC:20270816T064500
DTEND;TZID=UTC:20270816T160000
DTSTAMP:20260420T043347
CREATED:20251119T044148Z
LAST-MODIFIED:20251119T075856Z
UID:10003497-1818398700-1818432000@dallasfamilymedical.com
SUMMARY:Business Hours
DESCRIPTION:Lunch from Noon to 1:00 PM
URL:https://dallasfamilymedical.com/event/business-hours/2027-08-16/
END:VEVENT
BEGIN:VEVENT
DTSTART;TZID=UTC:20270817T064500
DTEND;TZID=UTC:20270817T160000
DTSTAMP:20260420T043347
CREATED:20251119T044148Z
LAST-MODIFIED:20251119T075856Z
UID:10003498-1818485100-1818518400@dallasfamilymedical.com
SUMMARY:Business Hours
DESCRIPTION:Lunch from Noon to 1:00 PM
URL:https://dallasfamilymedical.com/event/business-hours/2027-08-17/
END:VEVENT
BEGIN:VEVENT
DTSTART;TZID=UTC:20270818T064500
DTEND;TZID=UTC:20270818T160000
DTSTAMP:20260420T043347
CREATED:20251119T044148Z
LAST-MODIFIED:20251119T075856Z
UID:10003499-1818571500-1818604800@dallasfamilymedical.com
SUMMARY:Business Hours
DESCRIPTION:Lunch from Noon to 1:00 PM
URL:https://dallasfamilymedical.com/event/business-hours/2027-08-18/
END:VEVENT
BEGIN:VEVENT
DTSTART;TZID=UTC:20270819T064500
DTEND;TZID=UTC:20270819T160000
DTSTAMP:20260420T043347
CREATED:20251119T044148Z
LAST-MODIFIED:20251119T075856Z
UID:10003500-1818657900-1818691200@dallasfamilymedical.com
SUMMARY:Business Hours
DESCRIPTION:Lunch from Noon to 1:00 PM
URL:https://dallasfamilymedical.com/event/business-hours/2027-08-19/
END:VEVENT
BEGIN:VEVENT
DTSTART;TZID=UTC:20270820T064500
DTEND;TZID=UTC:20270820T120000
DTSTAMP:20260420T043347
CREATED:20251119T072316Z
LAST-MODIFIED:20251119T072316Z
UID:10004271-1818744300-1818763200@dallasfamilymedical.com
SUMMARY:Business Hours Friday
DESCRIPTION:Business Hours Friday
URL:https://dallasfamilymedical.com/event/business-hours-friday/2027-08-20/
END:VEVENT
BEGIN:VEVENT
DTSTART;TZID=UTC:20270823T064500
DTEND;TZID=UTC:20270823T160000
DTSTAMP:20260420T043347
CREATED:20251119T044148Z
LAST-MODIFIED:20251119T075856Z
UID:10003501-1819003500-1819036800@dallasfamilymedical.com
SUMMARY:Business Hours
DESCRIPTION:Lunch from Noon to 1:00 PM
URL:https://dallasfamilymedical.com/event/business-hours/2027-08-23/
END:VEVENT
BEGIN:VEVENT
DTSTART;TZID=UTC:20270824T064500
DTEND;TZID=UTC:20270824T160000
DTSTAMP:20260420T043347
CREATED:20251119T044148Z
LAST-MODIFIED:20251119T075856Z
UID:10003502-1819089900-1819123200@dallasfamilymedical.com
SUMMARY:Business Hours
DESCRIPTION:Lunch from Noon to 1:00 PM
URL:https://dallasfamilymedical.com/event/business-hours/2027-08-24/
END:VEVENT
BEGIN:VEVENT
DTSTART;TZID=UTC:20270825T064500
DTEND;TZID=UTC:20270825T160000
DTSTAMP:20260420T043347
CREATED:20251119T044148Z
LAST-MODIFIED:20251119T075856Z
UID:10003503-1819176300-1819209600@dallasfamilymedical.com
SUMMARY:Business Hours
DESCRIPTION:Lunch from Noon to 1:00 PM
URL:https://dallasfamilymedical.com/event/business-hours/2027-08-25/
END:VEVENT
BEGIN:VEVENT
DTSTART;TZID=UTC:20270826T064500
DTEND;TZID=UTC:20270826T160000
DTSTAMP:20260420T043347
CREATED:20251119T044148Z
LAST-MODIFIED:20251119T075856Z
UID:10003504-1819262700-1819296000@dallasfamilymedical.com
SUMMARY:Business Hours
DESCRIPTION:Lunch from Noon to 1:00 PM
URL:https://dallasfamilymedical.com/event/business-hours/2027-08-26/
END:VEVENT
BEGIN:VEVENT
DTSTART;TZID=UTC:20270827T064500
DTEND;TZID=UTC:20270827T120000
DTSTAMP:20260420T043347
CREATED:20251119T072316Z
LAST-MODIFIED:20251119T072316Z
UID:10004272-1819349100-1819368000@dallasfamilymedical.com
SUMMARY:Business Hours Friday
DESCRIPTION:Business Hours Friday
URL:https://dallasfamilymedical.com/event/business-hours-friday/2027-08-27/
END:VEVENT
BEGIN:VEVENT
DTSTART;TZID=UTC:20270830T064500
DTEND;TZID=UTC:20270830T160000
DTSTAMP:20260420T043347
CREATED:20251119T044148Z
LAST-MODIFIED:20251119T075856Z
UID:10003505-1819608300-1819641600@dallasfamilymedical.com
SUMMARY:Business Hours
DESCRIPTION:Lunch from Noon to 1:00 PM
URL:https://dallasfamilymedical.com/event/business-hours/2027-08-30/
END:VEVENT
BEGIN:VEVENT
DTSTART;TZID=UTC:20270831T064500
DTEND;TZID=UTC:20270831T160000
DTSTAMP:20260420T043347
CREATED:20251119T044148Z
LAST-MODIFIED:20251119T075856Z
UID:10003506-1819694700-1819728000@dallasfamilymedical.com
SUMMARY:Business Hours
DESCRIPTION:Lunch from Noon to 1:00 PM
URL:https://dallasfamilymedical.com/event/business-hours/2027-08-31/
END:VEVENT
BEGIN:VEVENT
DTSTART;TZID=UTC:20270901T064500
DTEND;TZID=UTC:20270901T160000
DTSTAMP:20260420T043347
CREATED:20251119T044148Z
LAST-MODIFIED:20251119T075856Z
UID:10003507-1819781100-1819814400@dallasfamilymedical.com
SUMMARY:Business Hours
DESCRIPTION:Lunch from Noon to 1:00 PM
URL:https://dallasfamilymedical.com/event/business-hours/2027-09-01/
END:VEVENT
BEGIN:VEVENT
DTSTART;TZID=UTC:20270902T064500
DTEND;TZID=UTC:20270902T160000
DTSTAMP:20260420T043347
CREATED:20251119T044148Z
LAST-MODIFIED:20251119T075856Z
UID:10003508-1819867500-1819900800@dallasfamilymedical.com
SUMMARY:Business Hours
DESCRIPTION:Lunch from Noon to 1:00 PM
URL:https://dallasfamilymedical.com/event/business-hours/2027-09-02/
END:VEVENT
BEGIN:VEVENT
DTSTART;TZID=UTC:20270903T064500
DTEND;TZID=UTC:20270903T120000
DTSTAMP:20260420T043347
CREATED:20251119T072316Z
LAST-MODIFIED:20251119T072316Z
UID:10004273-1819953900-1819972800@dallasfamilymedical.com
SUMMARY:Business Hours Friday
DESCRIPTION:Business Hours Friday
URL:https://dallasfamilymedical.com/event/business-hours-friday/2027-09-03/
END:VEVENT
BEGIN:VEVENT
DTSTART;TZID=UTC:20270906T064500
DTEND;TZID=UTC:20270906T160000
DTSTAMP:20260420T043347
CREATED:20251119T044148Z
LAST-MODIFIED:20251119T075856Z
UID:10003509-1820213100-1820246400@dallasfamilymedical.com
SUMMARY:Business Hours
DESCRIPTION:Lunch from Noon to 1:00 PM
URL:https://dallasfamilymedical.com/event/business-hours/2027-09-06/
END:VEVENT
BEGIN:VEVENT
DTSTART;TZID=UTC:20270907T064500
DTEND;TZID=UTC:20270907T160000
DTSTAMP:20260420T043347
CREATED:20251119T044148Z
LAST-MODIFIED:20251119T075856Z
UID:10003510-1820299500-1820332800@dallasfamilymedical.com
SUMMARY:Business Hours
DESCRIPTION:Lunch from Noon to 1:00 PM
URL:https://dallasfamilymedical.com/event/business-hours/2027-09-07/
END:VEVENT
BEGIN:VEVENT
DTSTART;TZID=UTC:20270908T064500
DTEND;TZID=UTC:20270908T160000
DTSTAMP:20260420T043347
CREATED:20251119T044148Z
LAST-MODIFIED:20251119T075856Z
UID:10003511-1820385900-1820419200@dallasfamilymedical.com
SUMMARY:Business Hours
DESCRIPTION:Lunch from Noon to 1:00 PM
URL:https://dallasfamilymedical.com/event/business-hours/2027-09-08/
END:VEVENT
BEGIN:VEVENT
DTSTART;TZID=UTC:20270909T064500
DTEND;TZID=UTC:20270909T160000
DTSTAMP:20260420T043347
CREATED:20251119T044148Z
LAST-MODIFIED:20251119T075856Z
UID:10003512-1820472300-1820505600@dallasfamilymedical.com
SUMMARY:Business Hours
DESCRIPTION:Lunch from Noon to 1:00 PM
URL:https://dallasfamilymedical.com/event/business-hours/2027-09-09/
END:VEVENT
BEGIN:VEVENT
DTSTART;TZID=UTC:20270910T064500
DTEND;TZID=UTC:20270910T120000
DTSTAMP:20260420T043347
CREATED:20251119T072316Z
LAST-MODIFIED:20251119T072316Z
UID:10004274-1820558700-1820577600@dallasfamilymedical.com
SUMMARY:Business Hours Friday
DESCRIPTION:Business Hours Friday
URL:https://dallasfamilymedical.com/event/business-hours-friday/2027-09-10/
END:VEVENT
BEGIN:VEVENT
DTSTART;TZID=UTC:20270913T064500
DTEND;TZID=UTC:20270913T160000
DTSTAMP:20260420T043347
CREATED:20251119T044148Z
LAST-MODIFIED:20251119T075856Z
UID:10003513-1820817900-1820851200@dallasfamilymedical.com
SUMMARY:Business Hours
DESCRIPTION:Lunch from Noon to 1:00 PM
URL:https://dallasfamilymedical.com/event/business-hours/2027-09-13/
END:VEVENT
BEGIN:VEVENT
DTSTART;TZID=UTC:20270914T064500
DTEND;TZID=UTC:20270914T160000
DTSTAMP:20260420T043347
CREATED:20251119T044148Z
LAST-MODIFIED:20251119T075856Z
UID:10003514-1820904300-1820937600@dallasfamilymedical.com
SUMMARY:Business Hours
DESCRIPTION:Lunch from Noon to 1:00 PM
URL:https://dallasfamilymedical.com/event/business-hours/2027-09-14/
END:VEVENT
BEGIN:VEVENT
DTSTART;TZID=UTC:20270915T064500
DTEND;TZID=UTC:20270915T160000
DTSTAMP:20260420T043347
CREATED:20251119T044148Z
LAST-MODIFIED:20251119T075856Z
UID:10003515-1820990700-1821024000@dallasfamilymedical.com
SUMMARY:Business Hours
DESCRIPTION:Lunch from Noon to 1:00 PM
URL:https://dallasfamilymedical.com/event/business-hours/2027-09-15/
END:VEVENT
BEGIN:VEVENT
DTSTART;TZID=UTC:20270916T064500
DTEND;TZID=UTC:20270916T160000
DTSTAMP:20260420T043347
CREATED:20251119T044148Z
LAST-MODIFIED:20251119T075856Z
UID:10003516-1821077100-1821110400@dallasfamilymedical.com
SUMMARY:Business Hours
DESCRIPTION:Lunch from Noon to 1:00 PM
URL:https://dallasfamilymedical.com/event/business-hours/2027-09-16/
END:VEVENT
BEGIN:VEVENT
DTSTART;TZID=UTC:20270917T064500
DTEND;TZID=UTC:20270917T120000
DTSTAMP:20260420T043347
CREATED:20251119T072316Z
LAST-MODIFIED:20251119T072316Z
UID:10004275-1821163500-1821182400@dallasfamilymedical.com
SUMMARY:Business Hours Friday
DESCRIPTION:Business Hours Friday
URL:https://dallasfamilymedical.com/event/business-hours-friday/2027-09-17/
END:VEVENT
END:VCALENDAR