BEGIN:VCALENDAR
VERSION:2.0
PRODID:-//Dallas Family Medical &amp; Aesthetics - ECPv6.15.12//NONSGML v1.0//EN
CALSCALE:GREGORIAN
METHOD:PUBLISH
X-WR-CALNAME:Dallas Family Medical &amp; Aesthetics
X-ORIGINAL-URL:https://dallasfamilymedical.com
X-WR-CALDESC:Events for Dallas Family Medical &amp; Aesthetics
REFRESH-INTERVAL;VALUE=DURATION:PT1H
X-Robots-Tag:noindex
X-PUBLISHED-TTL:PT1H
BEGIN:VTIMEZONE
TZID:UTC
BEGIN:STANDARD
TZOFFSETFROM:+0000
TZOFFSETTO:+0000
TZNAME:UTC
DTSTART:20260101T000000
END:STANDARD
END:VTIMEZONE
BEGIN:VEVENT
DTSTART;TZID=UTC:20270702T064500
DTEND;TZID=UTC:20270702T120000
DTSTAMP:20260420T013705
CREATED:20251119T072316Z
LAST-MODIFIED:20251119T072316Z
UID:10004264-1814510700-1814529600@dallasfamilymedical.com
SUMMARY:Business Hours Friday
DESCRIPTION:Business Hours Friday
URL:https://dallasfamilymedical.com/event/business-hours-friday/2027-07-02/
END:VEVENT
BEGIN:VEVENT
DTSTART;TZID=UTC:20270705T064500
DTEND;TZID=UTC:20270705T160000
DTSTAMP:20260420T013705
CREATED:20251119T044148Z
LAST-MODIFIED:20251119T075856Z
UID:10003473-1814769900-1814803200@dallasfamilymedical.com
SUMMARY:Business Hours
DESCRIPTION:Lunch from Noon to 1:00 PM
URL:https://dallasfamilymedical.com/event/business-hours/2027-07-05/
END:VEVENT
BEGIN:VEVENT
DTSTART;TZID=UTC:20270706T064500
DTEND;TZID=UTC:20270706T160000
DTSTAMP:20260420T013705
CREATED:20251119T044148Z
LAST-MODIFIED:20251119T075856Z
UID:10003474-1814856300-1814889600@dallasfamilymedical.com
SUMMARY:Business Hours
DESCRIPTION:Lunch from Noon to 1:00 PM
URL:https://dallasfamilymedical.com/event/business-hours/2027-07-06/
END:VEVENT
BEGIN:VEVENT
DTSTART;TZID=UTC:20270707T064500
DTEND;TZID=UTC:20270707T160000
DTSTAMP:20260420T013705
CREATED:20251119T044148Z
LAST-MODIFIED:20251119T075856Z
UID:10003475-1814942700-1814976000@dallasfamilymedical.com
SUMMARY:Business Hours
DESCRIPTION:Lunch from Noon to 1:00 PM
URL:https://dallasfamilymedical.com/event/business-hours/2027-07-07/
END:VEVENT
BEGIN:VEVENT
DTSTART;TZID=UTC:20270708T064500
DTEND;TZID=UTC:20270708T160000
DTSTAMP:20260420T013705
CREATED:20251119T044148Z
LAST-MODIFIED:20251119T075856Z
UID:10003476-1815029100-1815062400@dallasfamilymedical.com
SUMMARY:Business Hours
DESCRIPTION:Lunch from Noon to 1:00 PM
URL:https://dallasfamilymedical.com/event/business-hours/2027-07-08/
END:VEVENT
BEGIN:VEVENT
DTSTART;TZID=UTC:20270709T064500
DTEND;TZID=UTC:20270709T120000
DTSTAMP:20260420T013705
CREATED:20251119T072316Z
LAST-MODIFIED:20251119T072316Z
UID:10004265-1815115500-1815134400@dallasfamilymedical.com
SUMMARY:Business Hours Friday
DESCRIPTION:Business Hours Friday
URL:https://dallasfamilymedical.com/event/business-hours-friday/2027-07-09/
END:VEVENT
BEGIN:VEVENT
DTSTART;TZID=UTC:20270712T064500
DTEND;TZID=UTC:20270712T160000
DTSTAMP:20260420T013705
CREATED:20251119T044148Z
LAST-MODIFIED:20251119T075856Z
UID:10003477-1815374700-1815408000@dallasfamilymedical.com
SUMMARY:Business Hours
DESCRIPTION:Lunch from Noon to 1:00 PM
URL:https://dallasfamilymedical.com/event/business-hours/2027-07-12/
END:VEVENT
BEGIN:VEVENT
DTSTART;TZID=UTC:20270713T064500
DTEND;TZID=UTC:20270713T160000
DTSTAMP:20260420T013705
CREATED:20251119T044148Z
LAST-MODIFIED:20251119T075856Z
UID:10003478-1815461100-1815494400@dallasfamilymedical.com
SUMMARY:Business Hours
DESCRIPTION:Lunch from Noon to 1:00 PM
URL:https://dallasfamilymedical.com/event/business-hours/2027-07-13/
END:VEVENT
BEGIN:VEVENT
DTSTART;TZID=UTC:20270714T064500
DTEND;TZID=UTC:20270714T160000
DTSTAMP:20260420T013705
CREATED:20251119T044148Z
LAST-MODIFIED:20251119T075856Z
UID:10003479-1815547500-1815580800@dallasfamilymedical.com
SUMMARY:Business Hours
DESCRIPTION:Lunch from Noon to 1:00 PM
URL:https://dallasfamilymedical.com/event/business-hours/2027-07-14/
END:VEVENT
BEGIN:VEVENT
DTSTART;TZID=UTC:20270715T064500
DTEND;TZID=UTC:20270715T160000
DTSTAMP:20260420T013705
CREATED:20251119T044148Z
LAST-MODIFIED:20251119T075856Z
UID:10003480-1815633900-1815667200@dallasfamilymedical.com
SUMMARY:Business Hours
DESCRIPTION:Lunch from Noon to 1:00 PM
URL:https://dallasfamilymedical.com/event/business-hours/2027-07-15/
END:VEVENT
BEGIN:VEVENT
DTSTART;TZID=UTC:20270716T064500
DTEND;TZID=UTC:20270716T120000
DTSTAMP:20260420T013705
CREATED:20251119T072316Z
LAST-MODIFIED:20251119T072316Z
UID:10004266-1815720300-1815739200@dallasfamilymedical.com
SUMMARY:Business Hours Friday
DESCRIPTION:Business Hours Friday
URL:https://dallasfamilymedical.com/event/business-hours-friday/2027-07-16/
END:VEVENT
BEGIN:VEVENT
DTSTART;TZID=UTC:20270719T064500
DTEND;TZID=UTC:20270719T160000
DTSTAMP:20260420T013705
CREATED:20251119T044148Z
LAST-MODIFIED:20251119T075856Z
UID:10003481-1815979500-1816012800@dallasfamilymedical.com
SUMMARY:Business Hours
DESCRIPTION:Lunch from Noon to 1:00 PM
URL:https://dallasfamilymedical.com/event/business-hours/2027-07-19/
END:VEVENT
BEGIN:VEVENT
DTSTART;TZID=UTC:20270720T064500
DTEND;TZID=UTC:20270720T160000
DTSTAMP:20260420T013705
CREATED:20251119T044148Z
LAST-MODIFIED:20251119T075856Z
UID:10003482-1816065900-1816099200@dallasfamilymedical.com
SUMMARY:Business Hours
DESCRIPTION:Lunch from Noon to 1:00 PM
URL:https://dallasfamilymedical.com/event/business-hours/2027-07-20/
END:VEVENT
BEGIN:VEVENT
DTSTART;TZID=UTC:20270721T064500
DTEND;TZID=UTC:20270721T160000
DTSTAMP:20260420T013705
CREATED:20251119T044148Z
LAST-MODIFIED:20251119T075856Z
UID:10003483-1816152300-1816185600@dallasfamilymedical.com
SUMMARY:Business Hours
DESCRIPTION:Lunch from Noon to 1:00 PM
URL:https://dallasfamilymedical.com/event/business-hours/2027-07-21/
END:VEVENT
BEGIN:VEVENT
DTSTART;TZID=UTC:20270722T064500
DTEND;TZID=UTC:20270722T160000
DTSTAMP:20260420T013705
CREATED:20251119T044148Z
LAST-MODIFIED:20251119T075856Z
UID:10003484-1816238700-1816272000@dallasfamilymedical.com
SUMMARY:Business Hours
DESCRIPTION:Lunch from Noon to 1:00 PM
URL:https://dallasfamilymedical.com/event/business-hours/2027-07-22/
END:VEVENT
BEGIN:VEVENT
DTSTART;TZID=UTC:20270723T064500
DTEND;TZID=UTC:20270723T120000
DTSTAMP:20260420T013705
CREATED:20251119T072316Z
LAST-MODIFIED:20251119T072316Z
UID:10004267-1816325100-1816344000@dallasfamilymedical.com
SUMMARY:Business Hours Friday
DESCRIPTION:Business Hours Friday
URL:https://dallasfamilymedical.com/event/business-hours-friday/2027-07-23/
END:VEVENT
BEGIN:VEVENT
DTSTART;TZID=UTC:20270726T064500
DTEND;TZID=UTC:20270726T160000
DTSTAMP:20260420T013705
CREATED:20251119T044148Z
LAST-MODIFIED:20251119T075856Z
UID:10003485-1816584300-1816617600@dallasfamilymedical.com
SUMMARY:Business Hours
DESCRIPTION:Lunch from Noon to 1:00 PM
URL:https://dallasfamilymedical.com/event/business-hours/2027-07-26/
END:VEVENT
BEGIN:VEVENT
DTSTART;TZID=UTC:20270727T064500
DTEND;TZID=UTC:20270727T160000
DTSTAMP:20260420T013705
CREATED:20251119T044148Z
LAST-MODIFIED:20251119T075856Z
UID:10003486-1816670700-1816704000@dallasfamilymedical.com
SUMMARY:Business Hours
DESCRIPTION:Lunch from Noon to 1:00 PM
URL:https://dallasfamilymedical.com/event/business-hours/2027-07-27/
END:VEVENT
BEGIN:VEVENT
DTSTART;TZID=UTC:20270728T064500
DTEND;TZID=UTC:20270728T160000
DTSTAMP:20260420T013705
CREATED:20251119T044148Z
LAST-MODIFIED:20251119T075856Z
UID:10003487-1816757100-1816790400@dallasfamilymedical.com
SUMMARY:Business Hours
DESCRIPTION:Lunch from Noon to 1:00 PM
URL:https://dallasfamilymedical.com/event/business-hours/2027-07-28/
END:VEVENT
BEGIN:VEVENT
DTSTART;TZID=UTC:20270729T064500
DTEND;TZID=UTC:20270729T160000
DTSTAMP:20260420T013705
CREATED:20251119T044148Z
LAST-MODIFIED:20251119T075856Z
UID:10003488-1816843500-1816876800@dallasfamilymedical.com
SUMMARY:Business Hours
DESCRIPTION:Lunch from Noon to 1:00 PM
URL:https://dallasfamilymedical.com/event/business-hours/2027-07-29/
END:VEVENT
BEGIN:VEVENT
DTSTART;TZID=UTC:20270730T064500
DTEND;TZID=UTC:20270730T120000
DTSTAMP:20260420T013705
CREATED:20251119T072316Z
LAST-MODIFIED:20251119T072316Z
UID:10004268-1816929900-1816948800@dallasfamilymedical.com
SUMMARY:Business Hours Friday
DESCRIPTION:Business Hours Friday
URL:https://dallasfamilymedical.com/event/business-hours-friday/2027-07-30/
END:VEVENT
BEGIN:VEVENT
DTSTART;TZID=UTC:20270802T064500
DTEND;TZID=UTC:20270802T160000
DTSTAMP:20260420T013705
CREATED:20251119T044148Z
LAST-MODIFIED:20251119T075856Z
UID:10003489-1817189100-1817222400@dallasfamilymedical.com
SUMMARY:Business Hours
DESCRIPTION:Lunch from Noon to 1:00 PM
URL:https://dallasfamilymedical.com/event/business-hours/2027-08-02/
END:VEVENT
BEGIN:VEVENT
DTSTART;TZID=UTC:20270803T064500
DTEND;TZID=UTC:20270803T160000
DTSTAMP:20260420T013705
CREATED:20251119T044148Z
LAST-MODIFIED:20251119T075856Z
UID:10003490-1817275500-1817308800@dallasfamilymedical.com
SUMMARY:Business Hours
DESCRIPTION:Lunch from Noon to 1:00 PM
URL:https://dallasfamilymedical.com/event/business-hours/2027-08-03/
END:VEVENT
BEGIN:VEVENT
DTSTART;TZID=UTC:20270804T064500
DTEND;TZID=UTC:20270804T160000
DTSTAMP:20260420T013705
CREATED:20251119T044148Z
LAST-MODIFIED:20251119T075856Z
UID:10003491-1817361900-1817395200@dallasfamilymedical.com
SUMMARY:Business Hours
DESCRIPTION:Lunch from Noon to 1:00 PM
URL:https://dallasfamilymedical.com/event/business-hours/2027-08-04/
END:VEVENT
BEGIN:VEVENT
DTSTART;TZID=UTC:20270805T064500
DTEND;TZID=UTC:20270805T160000
DTSTAMP:20260420T013705
CREATED:20251119T044148Z
LAST-MODIFIED:20251119T075856Z
UID:10003492-1817448300-1817481600@dallasfamilymedical.com
SUMMARY:Business Hours
DESCRIPTION:Lunch from Noon to 1:00 PM
URL:https://dallasfamilymedical.com/event/business-hours/2027-08-05/
END:VEVENT
BEGIN:VEVENT
DTSTART;TZID=UTC:20270806T064500
DTEND;TZID=UTC:20270806T120000
DTSTAMP:20260420T013705
CREATED:20251119T072316Z
LAST-MODIFIED:20251119T072316Z
UID:10004269-1817534700-1817553600@dallasfamilymedical.com
SUMMARY:Business Hours Friday
DESCRIPTION:Business Hours Friday
URL:https://dallasfamilymedical.com/event/business-hours-friday/2027-08-06/
END:VEVENT
BEGIN:VEVENT
DTSTART;TZID=UTC:20270809T064500
DTEND;TZID=UTC:20270809T160000
DTSTAMP:20260420T013705
CREATED:20251119T044148Z
LAST-MODIFIED:20251119T075856Z
UID:10003493-1817793900-1817827200@dallasfamilymedical.com
SUMMARY:Business Hours
DESCRIPTION:Lunch from Noon to 1:00 PM
URL:https://dallasfamilymedical.com/event/business-hours/2027-08-09/
END:VEVENT
BEGIN:VEVENT
DTSTART;TZID=UTC:20270810T064500
DTEND;TZID=UTC:20270810T160000
DTSTAMP:20260420T013705
CREATED:20251119T044148Z
LAST-MODIFIED:20251119T075856Z
UID:10003494-1817880300-1817913600@dallasfamilymedical.com
SUMMARY:Business Hours
DESCRIPTION:Lunch from Noon to 1:00 PM
URL:https://dallasfamilymedical.com/event/business-hours/2027-08-10/
END:VEVENT
BEGIN:VEVENT
DTSTART;TZID=UTC:20270811T064500
DTEND;TZID=UTC:20270811T160000
DTSTAMP:20260420T013705
CREATED:20251119T044148Z
LAST-MODIFIED:20251119T075856Z
UID:10003495-1817966700-1818000000@dallasfamilymedical.com
SUMMARY:Business Hours
DESCRIPTION:Lunch from Noon to 1:00 PM
URL:https://dallasfamilymedical.com/event/business-hours/2027-08-11/
END:VEVENT
BEGIN:VEVENT
DTSTART;TZID=UTC:20270812T064500
DTEND;TZID=UTC:20270812T160000
DTSTAMP:20260420T013705
CREATED:20251119T044148Z
LAST-MODIFIED:20251119T075856Z
UID:10003496-1818053100-1818086400@dallasfamilymedical.com
SUMMARY:Business Hours
DESCRIPTION:Lunch from Noon to 1:00 PM
URL:https://dallasfamilymedical.com/event/business-hours/2027-08-12/
END:VEVENT
END:VCALENDAR