BEGIN:VCALENDAR
VERSION:2.0
PRODID:-//Dallas Family Medical &amp; Aesthetics - ECPv6.15.12//NONSGML v1.0//EN
CALSCALE:GREGORIAN
METHOD:PUBLISH
X-WR-CALNAME:Dallas Family Medical &amp; Aesthetics
X-ORIGINAL-URL:https://dallasfamilymedical.com
X-WR-CALDESC:Events for Dallas Family Medical &amp; Aesthetics
REFRESH-INTERVAL;VALUE=DURATION:PT1H
X-Robots-Tag:noindex
X-PUBLISHED-TTL:PT1H
BEGIN:VTIMEZONE
TZID:UTC
BEGIN:STANDARD
TZOFFSETFROM:+0000
TZOFFSETTO:+0000
TZNAME:UTC
DTSTART:20280101T000000
END:STANDARD
END:VTIMEZONE
BEGIN:VEVENT
DTSTART;TZID=UTC:20300117T064500
DTEND;TZID=UTC:20300117T160000
DTSTAMP:20260423T234943
CREATED:20251119T044148Z
LAST-MODIFIED:20251119T075856Z
UID:10004004-1894862700-1894896000@dallasfamilymedical.com
SUMMARY:Business Hours
DESCRIPTION:Lunch from Noon to 1:00 PM
URL:https://dallasfamilymedical.com/event/business-hours/2030-01-17/
END:VEVENT
BEGIN:VEVENT
DTSTART;TZID=UTC:20300116T064500
DTEND;TZID=UTC:20300116T160000
DTSTAMP:20260423T234943
CREATED:20251119T044148Z
LAST-MODIFIED:20251119T075856Z
UID:10004003-1894776300-1894809600@dallasfamilymedical.com
SUMMARY:Business Hours
DESCRIPTION:Lunch from Noon to 1:00 PM
URL:https://dallasfamilymedical.com/event/business-hours/2030-01-16/
END:VEVENT
BEGIN:VEVENT
DTSTART;TZID=UTC:20300115T064500
DTEND;TZID=UTC:20300115T160000
DTSTAMP:20260423T234943
CREATED:20251119T044148Z
LAST-MODIFIED:20251119T075856Z
UID:10004002-1894689900-1894723200@dallasfamilymedical.com
SUMMARY:Business Hours
DESCRIPTION:Lunch from Noon to 1:00 PM
URL:https://dallasfamilymedical.com/event/business-hours/2030-01-15/
END:VEVENT
BEGIN:VEVENT
DTSTART;TZID=UTC:20300114T064500
DTEND;TZID=UTC:20300114T160000
DTSTAMP:20260423T234943
CREATED:20251119T044148Z
LAST-MODIFIED:20251119T075856Z
UID:10004001-1894603500-1894636800@dallasfamilymedical.com
SUMMARY:Business Hours
DESCRIPTION:Lunch from Noon to 1:00 PM
URL:https://dallasfamilymedical.com/event/business-hours/2030-01-14/
END:VEVENT
BEGIN:VEVENT
DTSTART;TZID=UTC:20300111T064500
DTEND;TZID=UTC:20300111T120000
DTSTAMP:20260423T234943
CREATED:20251119T072316Z
LAST-MODIFIED:20251119T072316Z
UID:10004396-1894344300-1894363200@dallasfamilymedical.com
SUMMARY:Business Hours Friday
DESCRIPTION:Business Hours Friday
URL:https://dallasfamilymedical.com/event/business-hours-friday/2030-01-11/
END:VEVENT
BEGIN:VEVENT
DTSTART;TZID=UTC:20300110T064500
DTEND;TZID=UTC:20300110T160000
DTSTAMP:20260423T234943
CREATED:20251119T044148Z
LAST-MODIFIED:20251119T075856Z
UID:10004000-1894257900-1894291200@dallasfamilymedical.com
SUMMARY:Business Hours
DESCRIPTION:Lunch from Noon to 1:00 PM
URL:https://dallasfamilymedical.com/event/business-hours/2030-01-10/
END:VEVENT
BEGIN:VEVENT
DTSTART;TZID=UTC:20300109T064500
DTEND;TZID=UTC:20300109T160000
DTSTAMP:20260423T234943
CREATED:20251119T044148Z
LAST-MODIFIED:20251119T075856Z
UID:10003999-1894171500-1894204800@dallasfamilymedical.com
SUMMARY:Business Hours
DESCRIPTION:Lunch from Noon to 1:00 PM
URL:https://dallasfamilymedical.com/event/business-hours/2030-01-09/
END:VEVENT
BEGIN:VEVENT
DTSTART;TZID=UTC:20300108T064500
DTEND;TZID=UTC:20300108T160000
DTSTAMP:20260423T234943
CREATED:20251119T044148Z
LAST-MODIFIED:20251119T075856Z
UID:10003998-1894085100-1894118400@dallasfamilymedical.com
SUMMARY:Business Hours
DESCRIPTION:Lunch from Noon to 1:00 PM
URL:https://dallasfamilymedical.com/event/business-hours/2030-01-08/
END:VEVENT
BEGIN:VEVENT
DTSTART;TZID=UTC:20300107T064500
DTEND;TZID=UTC:20300107T160000
DTSTAMP:20260423T234943
CREATED:20251119T044148Z
LAST-MODIFIED:20251119T075856Z
UID:10003997-1893998700-1894032000@dallasfamilymedical.com
SUMMARY:Business Hours
DESCRIPTION:Lunch from Noon to 1:00 PM
URL:https://dallasfamilymedical.com/event/business-hours/2030-01-07/
END:VEVENT
BEGIN:VEVENT
DTSTART;TZID=UTC:20300104T064500
DTEND;TZID=UTC:20300104T120000
DTSTAMP:20260423T234943
CREATED:20251119T072316Z
LAST-MODIFIED:20251119T072316Z
UID:10004395-1893739500-1893758400@dallasfamilymedical.com
SUMMARY:Business Hours Friday
DESCRIPTION:Business Hours Friday
URL:https://dallasfamilymedical.com/event/business-hours-friday/2030-01-04/
END:VEVENT
BEGIN:VEVENT
DTSTART;TZID=UTC:20300103T064500
DTEND;TZID=UTC:20300103T160000
DTSTAMP:20260423T234943
CREATED:20251119T044148Z
LAST-MODIFIED:20251119T075856Z
UID:10003996-1893653100-1893686400@dallasfamilymedical.com
SUMMARY:Business Hours
DESCRIPTION:Lunch from Noon to 1:00 PM
URL:https://dallasfamilymedical.com/event/business-hours/2030-01-03/
END:VEVENT
BEGIN:VEVENT
DTSTART;TZID=UTC:20300102T064500
DTEND;TZID=UTC:20300102T160000
DTSTAMP:20260423T234943
CREATED:20251119T044148Z
LAST-MODIFIED:20251119T075856Z
UID:10003995-1893566700-1893600000@dallasfamilymedical.com
SUMMARY:Business Hours
DESCRIPTION:Lunch from Noon to 1:00 PM
URL:https://dallasfamilymedical.com/event/business-hours/2030-01-02/
END:VEVENT
BEGIN:VEVENT
DTSTART;TZID=UTC:20300101T064500
DTEND;TZID=UTC:20300101T160000
DTSTAMP:20260423T234943
CREATED:20251119T044148Z
LAST-MODIFIED:20251119T075856Z
UID:10003994-1893480300-1893513600@dallasfamilymedical.com
SUMMARY:Business Hours
DESCRIPTION:Lunch from Noon to 1:00 PM
URL:https://dallasfamilymedical.com/event/business-hours/2030-01-01/
END:VEVENT
BEGIN:VEVENT
DTSTART;TZID=UTC:20291231T064500
DTEND;TZID=UTC:20291231T160000
DTSTAMP:20260423T234943
CREATED:20251119T044148Z
LAST-MODIFIED:20251119T075856Z
UID:10003993-1893393900-1893427200@dallasfamilymedical.com
SUMMARY:Business Hours
DESCRIPTION:Lunch from Noon to 1:00 PM
URL:https://dallasfamilymedical.com/event/business-hours/2029-12-31/
END:VEVENT
BEGIN:VEVENT
DTSTART;TZID=UTC:20291228T064500
DTEND;TZID=UTC:20291228T120000
DTSTAMP:20260423T234943
CREATED:20251119T072316Z
LAST-MODIFIED:20251119T072316Z
UID:10004394-1893134700-1893153600@dallasfamilymedical.com
SUMMARY:Business Hours Friday
DESCRIPTION:Business Hours Friday
URL:https://dallasfamilymedical.com/event/business-hours-friday/2029-12-28/
END:VEVENT
BEGIN:VEVENT
DTSTART;TZID=UTC:20291227T064500
DTEND;TZID=UTC:20291227T160000
DTSTAMP:20260423T234943
CREATED:20251119T044148Z
LAST-MODIFIED:20251119T075856Z
UID:10003992-1893048300-1893081600@dallasfamilymedical.com
SUMMARY:Business Hours
DESCRIPTION:Lunch from Noon to 1:00 PM
URL:https://dallasfamilymedical.com/event/business-hours/2029-12-27/
END:VEVENT
BEGIN:VEVENT
DTSTART;TZID=UTC:20291226T064500
DTEND;TZID=UTC:20291226T160000
DTSTAMP:20260423T234943
CREATED:20251119T044148Z
LAST-MODIFIED:20251119T075856Z
UID:10003991-1892961900-1892995200@dallasfamilymedical.com
SUMMARY:Business Hours
DESCRIPTION:Lunch from Noon to 1:00 PM
URL:https://dallasfamilymedical.com/event/business-hours/2029-12-26/
END:VEVENT
BEGIN:VEVENT
DTSTART;TZID=UTC:20291225T064500
DTEND;TZID=UTC:20291225T160000
DTSTAMP:20260423T234943
CREATED:20251119T044148Z
LAST-MODIFIED:20251119T075856Z
UID:10003990-1892875500-1892908800@dallasfamilymedical.com
SUMMARY:Business Hours
DESCRIPTION:Lunch from Noon to 1:00 PM
URL:https://dallasfamilymedical.com/event/business-hours/2029-12-25/
END:VEVENT
BEGIN:VEVENT
DTSTART;TZID=UTC:20291224T064500
DTEND;TZID=UTC:20291224T160000
DTSTAMP:20260423T234943
CREATED:20251119T044148Z
LAST-MODIFIED:20251119T075856Z
UID:10003989-1892789100-1892822400@dallasfamilymedical.com
SUMMARY:Business Hours
DESCRIPTION:Lunch from Noon to 1:00 PM
URL:https://dallasfamilymedical.com/event/business-hours/2029-12-24/
END:VEVENT
BEGIN:VEVENT
DTSTART;TZID=UTC:20291221T064500
DTEND;TZID=UTC:20291221T120000
DTSTAMP:20260423T234943
CREATED:20251119T072316Z
LAST-MODIFIED:20251119T072316Z
UID:10004393-1892529900-1892548800@dallasfamilymedical.com
SUMMARY:Business Hours Friday
DESCRIPTION:Business Hours Friday
URL:https://dallasfamilymedical.com/event/business-hours-friday/2029-12-21/
END:VEVENT
BEGIN:VEVENT
DTSTART;TZID=UTC:20291220T064500
DTEND;TZID=UTC:20291220T160000
DTSTAMP:20260423T234943
CREATED:20251119T044148Z
LAST-MODIFIED:20251119T075856Z
UID:10003988-1892443500-1892476800@dallasfamilymedical.com
SUMMARY:Business Hours
DESCRIPTION:Lunch from Noon to 1:00 PM
URL:https://dallasfamilymedical.com/event/business-hours/2029-12-20/
END:VEVENT
BEGIN:VEVENT
DTSTART;TZID=UTC:20291219T064500
DTEND;TZID=UTC:20291219T160000
DTSTAMP:20260423T234943
CREATED:20251119T044148Z
LAST-MODIFIED:20251119T075856Z
UID:10003987-1892357100-1892390400@dallasfamilymedical.com
SUMMARY:Business Hours
DESCRIPTION:Lunch from Noon to 1:00 PM
URL:https://dallasfamilymedical.com/event/business-hours/2029-12-19/
END:VEVENT
BEGIN:VEVENT
DTSTART;TZID=UTC:20291218T064500
DTEND;TZID=UTC:20291218T160000
DTSTAMP:20260423T234943
CREATED:20251119T044148Z
LAST-MODIFIED:20251119T075856Z
UID:10003986-1892270700-1892304000@dallasfamilymedical.com
SUMMARY:Business Hours
DESCRIPTION:Lunch from Noon to 1:00 PM
URL:https://dallasfamilymedical.com/event/business-hours/2029-12-18/
END:VEVENT
BEGIN:VEVENT
DTSTART;TZID=UTC:20291217T064500
DTEND;TZID=UTC:20291217T160000
DTSTAMP:20260423T234943
CREATED:20251119T044148Z
LAST-MODIFIED:20251119T075856Z
UID:10003985-1892184300-1892217600@dallasfamilymedical.com
SUMMARY:Business Hours
DESCRIPTION:Lunch from Noon to 1:00 PM
URL:https://dallasfamilymedical.com/event/business-hours/2029-12-17/
END:VEVENT
BEGIN:VEVENT
DTSTART;TZID=UTC:20291214T064500
DTEND;TZID=UTC:20291214T120000
DTSTAMP:20260423T234943
CREATED:20251119T072316Z
LAST-MODIFIED:20251119T072316Z
UID:10004392-1891925100-1891944000@dallasfamilymedical.com
SUMMARY:Business Hours Friday
DESCRIPTION:Business Hours Friday
URL:https://dallasfamilymedical.com/event/business-hours-friday/2029-12-14/
END:VEVENT
BEGIN:VEVENT
DTSTART;TZID=UTC:20291213T064500
DTEND;TZID=UTC:20291213T160000
DTSTAMP:20260423T234943
CREATED:20251119T044148Z
LAST-MODIFIED:20251119T075856Z
UID:10003984-1891838700-1891872000@dallasfamilymedical.com
SUMMARY:Business Hours
DESCRIPTION:Lunch from Noon to 1:00 PM
URL:https://dallasfamilymedical.com/event/business-hours/2029-12-13/
END:VEVENT
BEGIN:VEVENT
DTSTART;TZID=UTC:20291212T064500
DTEND;TZID=UTC:20291212T160000
DTSTAMP:20260423T234943
CREATED:20251119T044148Z
LAST-MODIFIED:20251119T075856Z
UID:10003983-1891752300-1891785600@dallasfamilymedical.com
SUMMARY:Business Hours
DESCRIPTION:Lunch from Noon to 1:00 PM
URL:https://dallasfamilymedical.com/event/business-hours/2029-12-12/
END:VEVENT
BEGIN:VEVENT
DTSTART;TZID=UTC:20291211T064500
DTEND;TZID=UTC:20291211T160000
DTSTAMP:20260423T234943
CREATED:20251119T044148Z
LAST-MODIFIED:20251119T075856Z
UID:10003982-1891665900-1891699200@dallasfamilymedical.com
SUMMARY:Business Hours
DESCRIPTION:Lunch from Noon to 1:00 PM
URL:https://dallasfamilymedical.com/event/business-hours/2029-12-11/
END:VEVENT
BEGIN:VEVENT
DTSTART;TZID=UTC:20291210T064500
DTEND;TZID=UTC:20291210T160000
DTSTAMP:20260423T234943
CREATED:20251119T044148Z
LAST-MODIFIED:20251119T075856Z
UID:10003981-1891579500-1891612800@dallasfamilymedical.com
SUMMARY:Business Hours
DESCRIPTION:Lunch from Noon to 1:00 PM
URL:https://dallasfamilymedical.com/event/business-hours/2029-12-10/
END:VEVENT
BEGIN:VEVENT
DTSTART;TZID=UTC:20291207T064500
DTEND;TZID=UTC:20291207T120000
DTSTAMP:20260423T234943
CREATED:20251119T072316Z
LAST-MODIFIED:20251119T072316Z
UID:10004391-1891320300-1891339200@dallasfamilymedical.com
SUMMARY:Business Hours Friday
DESCRIPTION:Business Hours Friday
URL:https://dallasfamilymedical.com/event/business-hours-friday/2029-12-07/
END:VEVENT
END:VCALENDAR